BEGIN:VCALENDAR
VERSION:2.0
PRODID:-//The Friends of the Heysen Trail - ECPv4.6.17//NONSGML v1.0//EN
CALSCALE:GREGORIAN
METHOD:PUBLISH
X-WR-CALNAME:The Friends of the Heysen Trail
X-ORIGINAL-URL:https://heysentrail.asn.au
X-WR-CALDESC:Events for The Friends of the Heysen Trail
BEGIN:VEVENT
DTSTART;TZID=Australia/Adelaide:20200226T180000
DTEND;TZID=Australia/Adelaide:20200226T200000
DTSTAMP:20200229T172426
CREATED:20191018T072514Z
LAST-MODIFIED:20200224T014824Z
UID:23836-1582740000-1582747200@heysentrail.asn.au
SUMMARY:Wild Dog Glen
DESCRIPTION:A walk into the hills above Mitcham. \nSteep and challenging in parts \n
URL:https://heysentrail.asn.au/event/wild-dog-glen-2020/
CATEGORIES:Twilight Walk
END:VEVENT
BEGIN:VEVENT
DTSTART;TZID=Australia/Adelaide:20200227T090000
DTEND;TZID=Australia/Adelaide:20200227T140000
DTSTAMP:20200229T172426
CREATED:20200125T220831Z
LAST-MODIFIED:20200222T114520Z
UID:25260-1582794000-1582812000@heysentrail.asn.au
SUMMARY:Friends Shed Maintenance Day - Cobbler Creek
DESCRIPTION:The Shed will be open this Thursday from 9.00 am to 2.00pm. \nVolunteers are welcome to join in. You don’t have to be an expert handy person. \nIf you can attend to help in one of our current projects\, please register on-line or contact Colin Edwards. \nIt helps him plan jobs when he knows how many people to expect. \n
URL:https://heysentrail.asn.au/event/friends-shed-maintenance-day-cobbler-creek-2020/
CATEGORIES:Friends Shed Maintenance Day
END:VEVENT
BEGIN:VEVENT
DTSTART;VALUE=DATE:20200304
DTEND;VALUE=DATE:20200305
DTSTAMP:20200229T172426
CREATED:20191018T072715Z
LAST-MODIFIED:20200219T232512Z
UID:23854-1583280000-1583280000@heysentrail.asn.au
SUMMARY:Marion Historic Village and Warriparinga
DESCRIPTION:This walk takes us through the backstreets of Marion following parts of the Village Heritage Trail. We will then walk to the Warriparinga Wetlands and return following the Sturt River. \nJoin us for dinner afterwards at the Marion Hotel. \n
URL:https://heysentrail.asn.au/event/marion-historic-village-and-warriparinga/
CATEGORIES:Twilight Walk
END:VEVENT
BEGIN:VEVENT
DTSTART;TZID=Australia/Adelaide:20200305T090000
DTEND;TZID=Australia/Adelaide:20200305T140000
DTSTAMP:20200229T172426
CREATED:20200125T221008Z
LAST-MODIFIED:20200222T114620Z
UID:25269-1583398800-1583416800@heysentrail.asn.au
SUMMARY:Friends Shed Maintenance Day - Cobbler Creek
DESCRIPTION:The Shed will be open this Thursday from 9.00 am to 2.00pm. \nVolunteers are welcome to join in. You don’t have to be an expert handy person. \nIf you can attend to help in one of our current projects\, please register on-line or contact Colin Edwards. \nIt helps him plan jobs when he knows how many people to expect. \n
URL:https://heysentrail.asn.au/event/friends-shed-maintenance-day-cobbler-creek-2020-2/
CATEGORIES:Friends Shed Maintenance Day
END:VEVENT
BEGIN:VEVENT
DTSTART;VALUE=DATE:20200311
DTEND;VALUE=DATE:20200312
DTSTAMP:20200229T172426
CREATED:20191018T072811Z
LAST-MODIFIED:20200219T232512Z
UID:23863-1583884800-1583884800@heysentrail.asn.au
SUMMARY:Marino Lighthouse
DESCRIPTION:This walk will include quite a few hills and steps while we wander through parks\, gullies and beaches.  \nThe view from the light house is spectacular. The walk will be adjusted (i.e. flattened /shortened) depending on the temperature.  \nBe aware that there are brown snakes in this area so wear appropriate footwear. \nThe Seacliff Hotel is nearby for optional after dinner meal. \n
URL:https://heysentrail.asn.au/event/marino-lighthouse/
CATEGORIES:Twilight Walk
END:VEVENT
BEGIN:VEVENT
DTSTART;TZID=Australia/Adelaide:20200312T090000
DTEND;TZID=Australia/Adelaide:20200312T140000
DTSTAMP:20200229T172426
CREATED:20200125T221131Z
LAST-MODIFIED:20200222T114828Z
UID:25278-1584003600-1584021600@heysentrail.asn.au
SUMMARY:Friends Shed Maintenance Day - Cobbler Creek
DESCRIPTION:The Shed will be open this Thursday from 9.00 am to 2.00pm. \nVolunteers are welcome to join in. You don’t have to be an expert handy person. \nIf you can attend to help in one of our current projects\, please register on-line or contact Colin Edwards. \nIt helps him plan jobs when he knows how many people to expect. \n
URL:https://heysentrail.asn.au/event/friends-shed-maintenance-day-cobbler-creek-2020-3/
CATEGORIES:Friends Shed Maintenance Day
END:VEVENT
BEGIN:VEVENT
DTSTART;VALUE=DATE:20200318
DTEND;VALUE=DATE:20200319
DTSTAMP:20200229T172426
CREATED:20191018T072909Z
LAST-MODIFIED:20200219T232512Z
UID:23872-1584489600-1584489600@heysentrail.asn.au
SUMMARY:Summertown
DESCRIPTION:This loop walk initially wends its way through some of the  backstreets of Summertown before joining the Heysen Trail for short a time then ventures into the northeastern part of Cleland Con. Park and finally back into Summertown for the return to the cars. \n
URL:https://heysentrail.asn.au/event/summertown-4/
CATEGORIES:Twilight Walk
END:VEVENT
BEGIN:VEVENT
DTSTART;VALUE=DATE:20200319
DTEND;VALUE=DATE:20200320
DTSTAMP:20200229T172426
CREATED:20191020T055600Z
LAST-MODIFIED:20200219T232512Z
UID:24648-1584576000-1584576000@heysentrail.asn.au
SUMMARY:Linear Park Paradise to Athelstone
DESCRIPTION:This is a picturesque loop along the River Torrens from Paradise through to the start of the Linear Park in Athelstone. \n
URL:https://heysentrail.asn.au/event/linear-park-paradise-to-athelstone/
CATEGORIES:Twilight Walk
END:VEVENT
BEGIN:VEVENT
DTSTART;TZID=Australia/Adelaide:20200319T090000
DTEND;TZID=Australia/Adelaide:20200319T140000
DTSTAMP:20200229T172426
CREATED:20200125T221409Z
LAST-MODIFIED:20200222T115050Z
UID:25287-1584608400-1584626400@heysentrail.asn.au
SUMMARY:Friends Shed Maintenance Day - Cobbler Creek
DESCRIPTION:The Shed will be open this Thursday from 9.00 am to 2.00pm. \nVolunteers are welcome to join in. You don’t have to be an expert handy person. \nIf you can attend to help in one of our current projects\, please register on-line or contact Colin Edwards. \nIt helps him plan jobs when he knows how many people to expect. \n
URL:https://heysentrail.asn.au/event/friends-shed-maintenance-day-cobbler-creek-2020-4/
CATEGORIES:Friends Shed Maintenance Day
END:VEVENT
BEGIN:VEVENT
DTSTART;TZID=Australia/Adelaide:20200320T193000
DTEND;TZID=Australia/Adelaide:20200320T210000
DTSTAMP:20200229T172426
CREATED:20200202T044317Z
LAST-MODIFIED:20200223T011158Z
UID:25422-1584732600-1584738000@heysentrail.asn.au
SUMMARY:33rd Annual General Meeting
DESCRIPTION:The 33rd Annual General Meeting of the Friends of the Heysen Trail and Other Walking Trails Inc. will be held at 7.30 pm on Friday March 22nd 2019. The venue will be the Woodville Lawn Bowling Club\, Oval Avenue\, Woodville. \nNominations are sought from you\, our members\, for election to the Friends Council at the AGM\, for positions including Vice President\, Secretary\, Treasurer and half the remaining members. Our Constitution calls for not less than four and no more than ten non office-bearing members. \nHear about our Association’s activities in 2019 and plans for 2020. \nMeet your council (they are the people who make the decisions) and find out what we intend to do to further develop\, maintain and promote the use of the Heysen and other walking trails. \nOur guest speakers this year will be Paul Nicholas and Eric Felgate who were intimately involved in the reconstruction of the huts along the Trail including Curnow’s and Mayo and managing these projects with men from the Uniting Church hostels. \nNomination forms for council positions available from the office and will available in autumn edition of TrailWalker. \n
URL:https://heysentrail.asn.au/event/33rd-annual-general-meeting-2020/
CATEGORIES:Other
END:VEVENT
BEGIN:VEVENT
DTSTART;VALUE=DATE:20200322
DTEND;VALUE=DATE:20200323
DTSTAMP:20200229T172426
CREATED:20191019T105216Z
LAST-MODIFIED:20200219T232512Z
UID:24643-1584835200-1584835200@heysentrail.asn.au
SUMMARY:Semaphore - North Haven Beach Walk with Dogs
DESCRIPTION:A loop walk of approximately 10kms starting at 8.00am along the Beach and foreshore paths\, from Semaphore to North Haven and return. If you have a well behaved and social dog please feel free to bring them along. Don’t forget they will need a leash\, water and clean-up bags. There are public toilets available en-route and at the half way point we will stop for a morning tea and coffee at a kiosk or bring your own. \nPlease bring Sun protection and water. \n
URL:https://heysentrail.asn.au/event/semaphore-north-haven-beach-walk-with-dogs/
CATEGORIES:Trail Starter
END:VEVENT
BEGIN:VEVENT
DTSTART;TZID=Australia/Adelaide:20200326T090000
DTEND;TZID=Australia/Adelaide:20200326T140000
DTSTAMP:20200229T172426
CREATED:20200125T221547Z
LAST-MODIFIED:20200222T125549Z
UID:25296-1585213200-1585231200@heysentrail.asn.au
SUMMARY:Friends Shed Maintenance Day - Cobbler Creek
DESCRIPTION:The Shed will be open this Thursday from 9.00 am to 2.00pm. \nVolunteers are welcome to join in. You don’t have to be an expert handy person. \nIf you can attend to help in one of our current projects\, please register on-line or contact Colin Edwards. \nIt helps him plan jobs when he knows how many people to expect. \n
URL:https://heysentrail.asn.au/event/friends-shed-maintenance-day-cobbler-creek-2020-5/
CATEGORIES:Friends Shed Maintenance Day
END:VEVENT
BEGIN:VEVENT
DTSTART;TZID=Australia/Adelaide:20200326T180000
DTEND;TZID=Australia/Adelaide:20200326T194500
DTSTAMP:20200229T172426
CREATED:20191018T073014Z
LAST-MODIFIED:20200222T034414Z
UID:23881-1585245600-1585251900@heysentrail.asn.au
SUMMARY:West Lakes
DESCRIPTION:A pleasant\, flat walk around the northern section of the Lake. \n
URL:https://heysentrail.asn.au/event/west-lakes-2020/
CATEGORIES:Twilight Walk
END:VEVENT
BEGIN:VEVENT
DTSTART;VALUE=DATE:20200401
DTEND;VALUE=DATE:20200402
DTSTAMP:20200229T172426
CREATED:20191018T235751Z
LAST-MODIFIED:20200219T232512Z
UID:23931-1585699200-1585699200@heysentrail.asn.au
SUMMARY:Marion Coastal Walk
DESCRIPTION:This is a mid week morning walk to beat the heat of summer and to get some fitness in the legs now the E2E walks are approaching. \nThe Marion Coastal Walkway is located in the Marion Coast Park which extends 7.2 km from Marino in the north\, to the Hallett Headland Reserve at Hallett Cove in the south. \nIts environment is unique in the metropolitan area\, with its rugged cliffs\, small coves and a rocky coast. \nIt also features world famous geological formations at Hallett Cove\, important sites of remnant coastal vegetation\, and the significant cultural presence of the Tjilbruke Dreaming. Discover more in the Coastal Walkway brochure. \nhttps://cdn.marion.sa.gov.au/sp/Coastal-Walks-Brochure.pdf?mtime=20180226123542 \nAbout 2km of this walk is closed as of 14/11/2019 but has diversions in place. Next council update about this closure is expected late November\, early December \nWalk will be about 12-14 km in length with coffees at the end – Will vary length depending on heat conditions. \n
URL:https://heysentrail.asn.au/event/marion-coastal-walk/
CATEGORIES:Trail Walker
END:VEVENT
BEGIN:VEVENT
DTSTART;VALUE=DATE:20200402
DTEND;VALUE=DATE:20200403
DTSTAMP:20200229T172429
CREATED:20191018T235953Z
LAST-MODIFIED:20200219T232512Z
UID:23940-1585785600-1585785600@heysentrail.asn.au
SUMMARY:Bridgewater to Mt Lofty
DESCRIPTION:This mostly uphill loop walk will go to Mt Lofty via Woodside scout camp\, various trails in the botanical gardens ( bring your camera for those autumn colours)\,Crafers\,plus Cleland reserve walking trails. \nLunch at the top of the mountain\, followed by a steep descent at the back of the mountain\, Woodside scout camp\, before walking the Mt George trails back to Bridgewater. \n
URL:https://heysentrail.asn.au/event/bridgewater-to-mt-lofty/
CATEGORIES:Trail Walker
END:VEVENT
BEGIN:VEVENT
DTSTART;VALUE=DATE:20200402
DTEND;VALUE=DATE:20200403
DTSTAMP:20200229T172429
CREATED:20200125T221718Z
LAST-MODIFIED:20200219T232512Z
UID:25305-1585785600-1585785600@heysentrail.asn.au
SUMMARY:Friends Shed Maintenance Day - Cobbler Creek
DESCRIPTION:The Shed will be open this Thursday from 9.00 am to 2.00pm. \nVolunteers are welcome to join in. You don’t have to be an expert handy person. \nIf you can attend to help in one of our current projects\, please register on-line or contact Colin Edwards.  \nIt helps him plan jobs when he knows how many people to expect. \n
URL:https://heysentrail.asn.au/event/friends-shed-maintenance-day-cobbler-creek-14/
CATEGORIES:Friends Shed Maintenance Day
END:VEVENT
BEGIN:VEVENT
DTSTART;VALUE=DATE:20200404
DTEND;VALUE=DATE:20200405
DTSTAMP:20200229T172429
CREATED:20191019T000208Z
LAST-MODIFIED:20200219T232512Z
UID:23949-1585958400-1585958400@heysentrail.asn.au
SUMMARY:Willunga Basin Trail - Blue group
DESCRIPTION:This year we’ll have 2 groups walking the Willunga Basin Trail on the same day but on adjoining sections.  The BLUE group and GREEN group will use the same bus to pick up and drop-off; hence the GREEN group will start 30-40 mins later than the BLUE group.  Registration is separate for each group so walkers need to decide which group to join. \nThis first walk for the BLUE group is from Sellicks Hill to Moana Beach. Starting with some road verge and reserve\, then a variety of cliff and beach as well as a section through Aldinga Scrub. Tides will dictate how much we are on the beach. \nPlease be aware of FOHT weather policies regarding cancellation of walks \n
URL:https://heysentrail.asn.au/event/willunga-basin-trail-blue-group/
CATEGORIES:Trail Walker
END:VEVENT
BEGIN:VEVENT
DTSTART;VALUE=DATE:20200404
DTEND;VALUE=DATE:20200405
DTSTAMP:20200229T172429
CREATED:20191121T044539Z
LAST-MODIFIED:20200219T232512Z
UID:25176-1585958400-1585958400@heysentrail.asn.au
SUMMARY:Willunga Basin Trail - Green Group
DESCRIPTION:This year we’ll have 2 groups walking the Willunga Basin Trail on the same day but on adjoining sections. The BLUE group and GREEN group will use the same bus to pick up and drop-off; hence the GREEN group will start 30-40 mins later than the BLUE group. Registration is separate for each group so walkers need to decide which group to join. \nThis first walk for the GREEN group is from Willunga to Sellicks Hill.  \nCommencing in Willunga we take a long slow climb along Delabole Road and Range Road toward Mt Terrible for some wonderful views across the wine region and basin. The descent will cover road reserve and country roads to finish at Sellicks Hill. \nAfter the walk\, for those that are interested\, we will convene at the Victory Hotel at Sellicks Hill for drinks/coffee. \n
URL:https://heysentrail.asn.au/event/willunga-basin-trail-green-group/
CATEGORIES:Trail Walker
END:VEVENT
BEGIN:VEVENT
DTSTART;VALUE=DATE:20200405
DTEND;VALUE=DATE:20200406
DTSTAMP:20200229T172429
CREATED:20191019T000440Z
LAST-MODIFIED:20200219T232512Z
UID:23958-1586044800-1586044800@heysentrail.asn.au
SUMMARY:(South of) Mt Misery
DESCRIPTION:This extremely hard walk incorporates sections of the Montacute Conservation Park and the valleys and ridges south of the Kangaroo Creek reservoir and the Thomas Hill forest region. \nWonderful views over the Adelaide plains. \nAfter the walk it may be possible to share coffee and cake or pizza at the Anderson Hill Winery. \nThis is a slightly less extreme version of the route described in ‘Push the Bush’ \n
URL:https://heysentrail.asn.au/event/south-of-mt-misery/
CATEGORIES:Trail Walker
END:VEVENT
BEGIN:VEVENT
DTSTART;VALUE=DATE:20200405
DTEND;VALUE=DATE:20200406
DTSTAMP:20200229T172429
CREATED:20191107T003656Z
LAST-MODIFIED:20200219T232512Z
UID:25122-1586044800-1586044800@heysentrail.asn.au
SUMMARY:Belair
DESCRIPTION:A pleasant walk through Belair National Park \,we follow trails around the boundary of the South\,East side of the park then come down the middle past the waterfall.Continuing on down to Echo tunnel then across the park back to cars  .A few hills to conquer in the first half of the walk but nothing to sinister. \nNOTE- Please be aware of the FOHT weather policies regarding cancellation of walks .Details on webpage. \n
URL:https://heysentrail.asn.au/event/belair-7/
CATEGORIES:Trail Starter
END:VEVENT
END:VCALENDAR