BEGIN:VCALENDAR
VERSION:2.0
PRODID:-//Friends of the Heysen Trail - ECPv6.15.20//NONSGML v1.0//EN
CALSCALE:GREGORIAN
METHOD:PUBLISH
X-ORIGINAL-URL:https://heysentrail.asn.au
X-WR-CALDESC:Events for Friends of the Heysen Trail
REFRESH-INTERVAL;VALUE=DURATION:PT1H
X-Robots-Tag:noindex
X-PUBLISHED-TTL:PT1H
BEGIN:VTIMEZONE
TZID:Australia/Adelaide
BEGIN:STANDARD
TZOFFSETFROM:+1030
TZOFFSETTO:+0930
TZNAME:ACST
DTSTART:20180331T163000
END:STANDARD
BEGIN:DAYLIGHT
TZOFFSETFROM:+0930
TZOFFSETTO:+1030
TZNAME:ACDT
DTSTART:20181006T163000
END:DAYLIGHT
BEGIN:STANDARD
TZOFFSETFROM:+1030
TZOFFSETTO:+0930
TZNAME:ACST
DTSTART:20190406T163000
END:STANDARD
BEGIN:DAYLIGHT
TZOFFSETFROM:+0930
TZOFFSETTO:+1030
TZNAME:ACDT
DTSTART:20191005T163000
END:DAYLIGHT
BEGIN:STANDARD
TZOFFSETFROM:+1030
TZOFFSETTO:+0930
TZNAME:ACST
DTSTART:20200404T163000
END:STANDARD
BEGIN:DAYLIGHT
TZOFFSETFROM:+0930
TZOFFSETTO:+1030
TZNAME:ACDT
DTSTART:20201003T163000
END:DAYLIGHT
BEGIN:STANDARD
TZOFFSETFROM:+1030
TZOFFSETTO:+0930
TZNAME:ACST
DTSTART:20210403T163000
END:STANDARD
BEGIN:DAYLIGHT
TZOFFSETFROM:+0930
TZOFFSETTO:+1030
TZNAME:ACDT
DTSTART:20211002T163000
END:DAYLIGHT
BEGIN:STANDARD
TZOFFSETFROM:+1030
TZOFFSETTO:+0930
TZNAME:ACST
DTSTART:20220402T163000
END:STANDARD
BEGIN:DAYLIGHT
TZOFFSETFROM:+0930
TZOFFSETTO:+1030
TZNAME:ACDT
DTSTART:20221001T163000
END:DAYLIGHT
END:VTIMEZONE
BEGIN:VEVENT
DTSTART;VALUE=DATE:20210424
DTEND;VALUE=DATE:20210425
DTSTAMP:20260423T001037
CREATED:20200919T020315Z
LAST-MODIFIED:20211123T001750Z
UID:10004988-1619222400-1619308799@heysentrail.asn.au
SUMMARY:Willunga Basin Trail
DESCRIPTION:The Willunga Basin Trail winds its way around and across the Willunga Basin for 130km: taking walkers through a diverse landscape of bushland\, forests\, vineyards\, almond groves\, parks and beaches. It links the townships of McLaren Vale\, McLaren Flat\, Kangarilla\, and Willunga to the suburbs of Aldinga\, Port Willunga\, Maslin Beach\, Moana and Seaford. It has been created and developed by volunteers. The Friends program aims to cover the loop over 6 walks.\n\nWALK 2: Moana Beach to Gate 20\, Onkaparinga National Park.\nLeaving the coast at Moana\, then we take the rail wine trail to McLaren Vale followed by a long section of road/reserve to Onkaparinga. It is 25km but not difficult or hilly terrain.\n\nSufficient water for a day\, hat\, sunscreen and lunch are essential.\n\nPlease be aware of FOHT weather policies regarding cancellation of walks and adherence to Covid requirements: THIS WALK WILL USE A BUS so participants should use hand sanitiser and wear a face mask throughout the bus trip.
URL:https://heysentrail.asn.au/walking-the-heysen-trail/walk-the-trail-with-the-friends/walk-calendar/willunga-basin-trail-2021/
CATEGORIES:Willunga Basin Trail End-to-End
END:VEVENT
BEGIN:VEVENT
DTSTART;VALUE=DATE:20210410
DTEND;VALUE=DATE:20210411
DTSTAMP:20260423T001037
CREATED:20200919T020146Z
LAST-MODIFIED:20211123T001757Z
UID:10004986-1618012800-1618099199@heysentrail.asn.au
SUMMARY:Willunga Basin Trail
DESCRIPTION:The Willunga Basin Trail winds its way around and across the Willunga Basin for 130km: taking walkers through a diverse landscape of bushland\, forests\, vineyards\, almond groves\, parks and beaches. It links the townships of McLaren Vale\, McLaren Flat\, Kangarilla\, and Willunga to the suburbs of Aldinga\, Port Willunga\, Maslin Beach\, Moana and Seaford. It has been created and developed by volunteers.  The Friends program aims to cover the loop over 6 walks.\n\nWALK 1: Sellicks Hill to Moana Beach approx. 25km mostly flat. Starting with some road verge and reserve\, then a variety of cliff and beach as well as a section through Aldinga Scrub. Tides will dictate how much we are on the beach.\n\nSufficient water for a day\, hat\, sunscreen and lunch are essential.\n\nPlease be aware of FOHT weather policies regarding cancellation of walks and adherence to Covid requirements.
URL:https://heysentrail.asn.au/walking-the-heysen-trail/walk-the-trail-with-the-friends/walk-calendar/willunga-basin-2021/
CATEGORIES:Willunga Basin Trail End-to-End
END:VEVENT
BEGIN:VEVENT
DTSTART;VALUE=DATE:20200516
DTEND;VALUE=DATE:20200517
DTSTAMP:20260423T001037
CREATED:20191121T045512Z
LAST-MODIFIED:20211123T001824Z
UID:10004921-1589587200-1589673599@heysentrail.asn.au
SUMMARY:Willunga Basin Trail - Green Group
DESCRIPTION:This year we’ll have 2 groups walking the Willunga Basin Trail on the same day but on adjoining sections. The BLUE group and GREEN group will use the same bus to pick up and drop-off; hence the GREEN group will start 30-40 mins later than the BLUE group. Registration is separate for each group so walkers need to decide which group to join.\n\nThis walk for the GREEN group is from Moana Beach to Gate 20\, Onkaparinga National Park.\n\nLeaving the coast at Moana\, then we take the rail wine trail to McLaren Vale followed by a long section of road/reserve to Onkaparinga.\n\nAfter the walk\, for those that are interested\, we will convene at the Swell Brewing Co. Taphouse & Brewery 168 Olivers Rd McLaren Vale for drinks/coffee to dissect the walk and discuss “that hill”.
URL:https://heysentrail.asn.au/walking-the-heysen-trail/walk-the-trail-with-the-friends/walk-calendar/willunga-basin-trail-green-group-2020-3/
CATEGORIES:Willunga Basin Trail End-to-End
END:VEVENT
BEGIN:VEVENT
DTSTART;VALUE=DATE:20200516
DTEND;VALUE=DATE:20200517
DTSTAMP:20260423T001037
CREATED:20191019T004804Z
LAST-MODIFIED:20211123T001909Z
UID:10004856-1589587200-1589673599@heysentrail.asn.au
SUMMARY:Willunga Basin Trail - Blue Group
DESCRIPTION:This year we’ll have 2 groups walking the Willunga Basin Trail on the same day but on adjoining sections. The BLUE group and GREEN group will use the same bus to pick up and drop-off; hence the GREEN group will start 30-40 mins later than the BLUE group. Registration is separate for each group so walkers need to decide which group to join.\n\nToday the walk leaves from Onkaparinga National Park\, winding its way through Hardy’s Scrub\, then travels some road reserves with a swoop across Gemtree Winery wetlands before a few quiet back roads take us into Willunga. Terrain is relatively flat with an occasional undulation.
URL:https://heysentrail.asn.au/walking-the-heysen-trail/walk-the-trail-with-the-friends/walk-calendar/willunga-basin-trail-blue-group-2020-3/
CATEGORIES:Willunga Basin Trail End-to-End
END:VEVENT
BEGIN:VEVENT
DTSTART;VALUE=DATE:20200425
DTEND;VALUE=DATE:20200426
DTSTAMP:20260423T001037
CREATED:20191121T045135Z
LAST-MODIFIED:20211123T001831Z
UID:10004919-1587772800-1587859199@heysentrail.asn.au
SUMMARY:Willunga Basin Trail - Green Group
DESCRIPTION:This year we’ll have 2 groups walking the Willunga Basin Trail on the same day but on adjoining sections. The BLUE group and GREEN group will use the same bus to pick up and drop-off; hence the GREEN group will start 30-40 mins later than the BLUE group. Registration is separate for each group so walkers need to decide which group to join.\n\nThis walk for the GREEN group is from Sellicks Hill to Moana Beach.\n\nStarting with some road verge and reserve\, then a variety of cliff and beach as well as a section through Aldinga Scrub. Tides will dictate how much we are on the beach.\n\nAfter the walk\, for those that are interested\, we will convene at the Beach Hotel at Seaford for drinks/coffee.
URL:https://heysentrail.asn.au/walking-the-heysen-trail/walk-the-trail-with-the-friends/walk-calendar/willunga-basin-trail-green-group-2020-2/
CATEGORIES:Willunga Basin Trail End-to-End
END:VEVENT
BEGIN:VEVENT
DTSTART;VALUE=DATE:20200425
DTEND;VALUE=DATE:20200426
DTSTAMP:20260423T001037
CREATED:20191019T001249Z
LAST-MODIFIED:20211123T001914Z
UID:10005584-1587772800-1587859199@heysentrail.asn.au
SUMMARY:Willunga Basin Trail - Blue Group
DESCRIPTION:This year we’ll have 2 groups walking the Willunga Basin Trail on the same day but on adjoining sections. The BLUE group and GREEN group will use the same bus to pick up and drop-off; hence the GREEN group will start 30-40 mins later than the BLUE group. Registration is separate for each group so walkers need to decide which group to join.\n\nThis walk for the BLUE group is from Moana Beach to Gate 20\, Onkaparinga National Park.\n\nLeaving the coast at Moana\, then we take the rail wine trail to McLaren Vale followed by a long section of road/reserve to Onkaparinga.
URL:https://heysentrail.asn.au/walking-the-heysen-trail/walk-the-trail-with-the-friends/walk-calendar/willunga-basin-trail-blue-group-2020-2/
CATEGORIES:Willunga Basin Trail End-to-End
END:VEVENT
BEGIN:VEVENT
DTSTART;VALUE=DATE:20200404
DTEND;VALUE=DATE:20200405
DTSTAMP:20260423T001037
CREATED:20191121T044539Z
LAST-MODIFIED:20211123T001838Z
UID:10005653-1585958400-1586044799@heysentrail.asn.au
SUMMARY:Willunga Basin Trail - Green Group
DESCRIPTION:This year we’ll have 2 groups walking the Willunga Basin Trail on the same day but on adjoining sections. The BLUE group and GREEN group will use the same bus to pick up and drop-off; hence the GREEN group will start 30-40 mins later than the BLUE group. Registration is separate for each group so walkers need to decide which group to join.\n\nThis first walk for the GREEN group is from Willunga to Sellicks Hill.\n\nCommencing in Willunga we take a long slow climb along Delabole Road and Range Road toward Mt Terrible for some wonderful views across the wine region and basin. The descent will cover road reserve and country roads to finish at Sellicks Hill.\n\nAfter the walk\, for those that are interested\, we will convene at the Victory Hotel at Sellicks Hill for drinks/coffee.
URL:https://heysentrail.asn.au/walking-the-heysen-trail/walk-the-trail-with-the-friends/walk-calendar/willunga-basin-trail-green-group-2020/
CATEGORIES:Willunga Basin Trail End-to-End
END:VEVENT
BEGIN:VEVENT
DTSTART;VALUE=DATE:20200404
DTEND;VALUE=DATE:20200405
DTSTAMP:20260423T001037
CREATED:20191019T000208Z
LAST-MODIFIED:20211123T001921Z
UID:10005578-1585958400-1586044799@heysentrail.asn.au
SUMMARY:Willunga Basin Trail - Blue group
DESCRIPTION:This year we’ll have 2 groups walking the Willunga Basin Trail on the same day but on adjoining sections. The BLUE group and GREEN group will use the same bus to pick up and drop-off; hence the GREEN group will start 30-40 mins later than the BLUE group. Registration is separate for each group so walkers need to decide which group to join.\n\nThis first walk for the BLUE group is from Sellicks Hill to Moana Beach. Starting with some road verge and reserve\, then a variety of cliff and beach as well as a section through Aldinga Scrub. Tides will dictate how much we are on the beach.\n\nPlease be aware of FOHT weather policies regarding cancellation of walks
URL:https://heysentrail.asn.au/walking-the-heysen-trail/walk-the-trail-with-the-friends/walk-calendar/willunga-basin-trail-blue-group-2020/
CATEGORIES:Willunga Basin Trail End-to-End
END:VEVENT
BEGIN:VEVENT
DTSTART;VALUE=DATE:20191026
DTEND;VALUE=DATE:20191027
DTSTAMP:20260423T001037
CREATED:20181013T032653Z
LAST-MODIFIED:20211123T001933Z
UID:10005341-1572048000-1572048000@heysentrail.asn.au
SUMMARY:Willunga Basin Trail
DESCRIPTION:As the October 5th walk was cancelled\, this walk on the 26th has been updated to do that missed walk:\n\nWe continue to stage 5 exploring the new Willunga Basin Trail – yet to be marked – 120km loop around the basin south of Adelaide. \n\nToday the walk leaves from Ironbark picnic area\, meandering through Kuitpo Forest  – we may come across a small section of the Heysen Trail – a gentle rise to Mt Wilson and descending to McLaren Flat. Terrain follows forest tracks\, road reserves a nd a bit of road: there will be an occasional undulation but no major climbs.\n\nDistance approx. 20km 5 – 6 hours.\n\nHazards – some road walking
URL:https://heysentrail.asn.au/walking-the-heysen-trail/walk-the-trail-with-the-friends/walk-calendar/willunga-basin-trail-2019-2/
CATEGORIES:Willunga Basin Trail End-to-End
END:VEVENT
BEGIN:VEVENT
DTSTART;VALUE=DATE:20191005
DTEND;VALUE=DATE:20191006
DTSTAMP:20260423T001037
CREATED:20181013T032521Z
LAST-MODIFIED:20211123T001940Z
UID:10005339-1570233600-1570233600@heysentrail.asn.au
SUMMARY:Willunga Basin Trail
DESCRIPTION:We continue to stage 5 exploring the new Willunga Basin Trail – yet to be marked – 120km loop around the basin south of Adelaide. \n\nToday the walk leaves from Ironbark picnic area\, meandering through Kuitpo Forest  – we may come across a small section of the Heysen Trail – a gentle rise to Mt Wilson and descending to McLaren Flat. Terrain follows forest tracks\, road reserves a nd a bit of road: there will be an occasional undulation but no major climbs.\n\nDistance approx. 20km 5 – 6 hours.\n\nHazards – some road walking
URL:https://heysentrail.asn.au/walking-the-heysen-trail/walk-the-trail-with-the-friends/walk-calendar/willunga-basin-trail-2019-3/
CATEGORIES:Willunga Basin Trail End-to-End
END:VEVENT
BEGIN:VEVENT
DTSTART;VALUE=DATE:20190727
DTEND;VALUE=DATE:20190728
DTSTAMP:20260423T001037
CREATED:20181013T032305Z
LAST-MODIFIED:20211123T001946Z
UID:10005337-1564185600-1564185600@heysentrail.asn.au
SUMMARY:Willunga Basin Trail
DESCRIPTION:Stage 4 in our exploration along the new Willunga Basin Trail – yet to be marked – 120km loop around the basin south of Adelaide. \n\nCommencing in Willunga we take a long slow climb along Delabole Road and Range Road toward Mt Terrible for some wonderful views across the wine region and basin.  The descent will cover road reserve and country roads to finish at Sellicks Hill. \n\nDistance approx. 18 kms 6 hours\n\nUsual requirements to bring water\, snacks and lunch.
URL:https://heysentrail.asn.au/walking-the-heysen-trail/walk-the-trail-with-the-friends/walk-calendar/willunga-basin-trail-2019-4/
CATEGORIES:Willunga Basin Trail End-to-End
END:VEVENT
BEGIN:VEVENT
DTSTART;VALUE=DATE:20190622
DTEND;VALUE=DATE:20190623
DTSTAMP:20260423T001037
CREATED:20181013T032108Z
LAST-MODIFIED:20211123T001951Z
UID:10005335-1561161600-1561161600@heysentrail.asn.au
SUMMARY:Willunga Basin Trail
DESCRIPTION:We continue to stage 3 exploring the new Willunga Basin Trail – yet to be marked – 120km loop around the basin south of Adelaide. \n\nToday the walk leaves from Onkaparinga National Park\, winding its way through Hardy’s Scrub\, then travels some road reserves with a swoop across Gemtree Winery wetlands before a few quiet back roads take us into Willunga. Terrain is relatively flat with an occasional undulation.\n\nDistance approx. 21 km 6 hours.
URL:https://heysentrail.asn.au/walking-the-heysen-trail/walk-the-trail-with-the-friends/walk-calendar/willunga-basin-trail-2019-5/
CATEGORIES:Willunga Basin Trail End-to-End
END:VEVENT
BEGIN:VEVENT
DTSTART;VALUE=DATE:20190525
DTEND;VALUE=DATE:20190526
DTSTAMP:20260423T001037
CREATED:20190313T054528Z
LAST-MODIFIED:20211123T001928Z
UID:10004797-1558742400-1558742400@heysentrail.asn.au
SUMMARY:Willunga Basin Trail
DESCRIPTION:This walk is an exploration along the new Willunga Basin Trail – yet to be marked – 120km loop around the basin south of Adelaide.   Today we walk from Maslins Beach to Onkaparinga National Park.  Starting along the coast to Moana\, then we take the rail wine trail to McLaren Vale followed by a long section of road/reserve to Onkaparinga. \n\nDistance approx. 24km 6-7 hours.
URL:https://heysentrail.asn.au/walking-the-heysen-trail/walk-the-trail-with-the-friends/walk-calendar/willunga-basin-trail-2019/
CATEGORIES:Willunga Basin Trail End-to-End
END:VEVENT
BEGIN:VEVENT
DTSTART;VALUE=DATE:20190427
DTEND;VALUE=DATE:20190428
DTSTAMP:20260423T001037
CREATED:20181013T031259Z
LAST-MODIFIED:20211123T001957Z
UID:10005333-1556323200-1556323200@heysentrail.asn.au
SUMMARY:Willunga Basin Trail
DESCRIPTION:This walk is an exploration along the new Willunga Basin Trail – yet to be marked – 120km loop around the basin south of Adelaide.   Today we walk from Sellicks Hill to Maslins Beach.  Starting with some road verge and reserve\, then a variety of cliff and beach as well as a section through Aldinga Scrub.  Tides will dictate how much we are on the beach.\n\nDistance approx. 18km 5-6 hours.
URL:https://heysentrail.asn.au/walking-the-heysen-trail/walk-the-trail-with-the-friends/walk-calendar/willunga-basin-trail-2019-6/
CATEGORIES:Willunga Basin Trail End-to-End
END:VEVENT
END:VCALENDAR