BEGIN:VCALENDAR
VERSION:2.0
PRODID:-//Friends of the Heysen Trail - ECPv6.15.20//NONSGML v1.0//EN
CALSCALE:GREGORIAN
METHOD:PUBLISH
X-WR-CALNAME:Friends of the Heysen Trail
X-ORIGINAL-URL:https://heysentrail.asn.au
X-WR-CALDESC:Events for Friends of the Heysen Trail
REFRESH-INTERVAL;VALUE=DURATION:PT1H
X-Robots-Tag:noindex
X-PUBLISHED-TTL:PT1H
BEGIN:VTIMEZONE
TZID:Australia/Adelaide
BEGIN:STANDARD
TZOFFSETFROM:+1030
TZOFFSETTO:+0930
TZNAME:ACST
DTSTART:20150404T163000
END:STANDARD
BEGIN:DAYLIGHT
TZOFFSETFROM:+0930
TZOFFSETTO:+1030
TZNAME:ACDT
DTSTART:20151003T163000
END:DAYLIGHT
BEGIN:STANDARD
TZOFFSETFROM:+1030
TZOFFSETTO:+0930
TZNAME:ACST
DTSTART:20160402T163000
END:STANDARD
BEGIN:DAYLIGHT
TZOFFSETFROM:+0930
TZOFFSETTO:+1030
TZNAME:ACDT
DTSTART:20161001T163000
END:DAYLIGHT
BEGIN:STANDARD
TZOFFSETFROM:+1030
TZOFFSETTO:+0930
TZNAME:ACST
DTSTART:20170401T163000
END:STANDARD
BEGIN:DAYLIGHT
TZOFFSETFROM:+0930
TZOFFSETTO:+1030
TZNAME:ACDT
DTSTART:20170930T163000
END:DAYLIGHT
BEGIN:STANDARD
TZOFFSETFROM:+1030
TZOFFSETTO:+0930
TZNAME:ACST
DTSTART:20180331T163000
END:STANDARD
BEGIN:DAYLIGHT
TZOFFSETFROM:+0930
TZOFFSETTO:+1030
TZNAME:ACDT
DTSTART:20181006T163000
END:DAYLIGHT
END:VTIMEZONE
BEGIN:VEVENT
DTSTART;VALUE=DATE:20170301
DTEND;VALUE=DATE:20170302
DTSTAMP:20260424T082732
CREATED:20161026T111204Z
LAST-MODIFIED:20200219T232435Z
UID:10005057-1488326400-1488326400@heysentrail.asn.au
SUMMARY:Wild Dog Glen
DESCRIPTION:Joins us for a beautiful undulating walk through the foot hills of Waite conservation area. Also the lovely gardens of Carrick Hill and streets of Springfield.  Refreshment optional at the Edinburgh hotel on completion of the walk.
URL:https://heysentrail.asn.au/walking-the-heysen-trail/walk-the-trail-with-the-friends/walk-calendar/wild-dog-glen-3/
CATEGORIES:Summer Walks
END:VEVENT
BEGIN:VEVENT
DTSTART;VALUE=DATE:20170222
DTEND;VALUE=DATE:20170223
DTSTAMP:20260424T082732
CREATED:20161024T010342Z
LAST-MODIFIED:20200219T232435Z
UID:10004520-1487721600-1487721600@heysentrail.asn.au
SUMMARY:Brownhill Creek
DESCRIPTION:A relaxing meander along a shaded gully to reach the cool Brownhill creek which is still flowing in early February this year!\, There are planted shade trees along the gorge with some magnificent red gums. As this walk is flat and shaded it should still be fine even if the weather is warm. However the walk will be automatically cancelled if the temperature is forecast to reach  or reaches 35C in Adelaide.\n\nOptional meal afterwards at the Mitcham Hotel\, which boasts a lovely outdoor eating area.
URL:https://heysentrail.asn.au/walking-the-heysen-trail/walk-the-trail-with-the-friends/walk-calendar/brownhill-creek-4/
CATEGORIES:Summer Walks
END:VEVENT
BEGIN:VEVENT
DTSTART;VALUE=DATE:20170215
DTEND;VALUE=DATE:20170216
DTSTAMP:20260424T082732
CREATED:20161024T012417Z
LAST-MODIFIED:20200219T232435Z
UID:10004949-1487116800-1487116800@heysentrail.asn.au
SUMMARY:Lynton Mitcham
DESCRIPTION:A pleasant loop walk on trails through the Lynton and Sleeps Hill Reserves offering some enjoyable little climbs and rewarding views to the gulf & over suburban Adelaide
URL:https://heysentrail.asn.au/walking-the-heysen-trail/walk-the-trail-with-the-friends/walk-calendar/lynton-mitcham/
CATEGORIES:Summer Walks
END:VEVENT
BEGIN:VEVENT
DTSTART;VALUE=DATE:20170208
DTEND;VALUE=DATE:20170209
DTSTAMP:20260424T082732
CREATED:20161024T012259Z
LAST-MODIFIED:20200219T232434Z
UID:10004947-1486512000-1486512000@heysentrail.asn.au
SUMMARY:Walk cancelled due to hot weather - 40 expected
DESCRIPTION:A loop walk in the Mount Osmond Reserve incorporating part of the Pioneer Women’s Trail and Burnside Walking Trails.\n\nThis walk will give spectacular views of Adelaide City and suburbs.
URL:https://heysentrail.asn.au/walking-the-heysen-trail/walk-the-trail-with-the-friends/walk-calendar/walk-cancelled-due-to-hot-weather-40-expected/
CATEGORIES:Summer Walks
END:VEVENT
BEGIN:VEVENT
DTSTART;VALUE=DATE:20170201
DTEND;VALUE=DATE:20170202
DTSTAMP:20260424T082732
CREATED:20161025T031258Z
LAST-MODIFIED:20200219T232434Z
UID:10004955-1485907200-1485907200@heysentrail.asn.au
SUMMARY:South Eastern Parklands
DESCRIPTION:Come and explore Adelaide city’s south eastern corner and its surrounds. This walk will take us along cosmopolitan Hutt Street\, through Tuthangga (Park 17) adjacent a historic carriage way and then along the western edge of Victoria Park / Pakakanthi (Park 16). We’ll then cross Wakefield Street into Ityamai-Itpina (Park 15) and then walk back along East Terrace\, the only street in Colonel Light’s plan that wasn’t straight\, past historic olive groves and grand homes\, both old and new.\n\nJoin us for the optional meal afterwards at the General Havelock Hotel.
URL:https://heysentrail.asn.au/walking-the-heysen-trail/walk-the-trail-with-the-friends/walk-calendar/south-eastern-parklands/
CATEGORIES:Summer Walks
END:VEVENT
BEGIN:VEVENT
DTSTART;VALUE=DATE:20170125
DTEND;VALUE=DATE:20170126
DTSTAMP:20260424T082732
CREATED:20161024T011955Z
LAST-MODIFIED:20200219T232434Z
UID:10004943-1485302400-1485302400@heysentrail.asn.au
SUMMARY:Cleland
DESCRIPTION:A walk in the southern end of Cleland along bush and service tracks. This walk has a few undulations to get the blood flowing but nothing too taxing. Walking boots or sturdy sandshoes are a must and if you usually use walking poles feel free to bring them along. The walk is about 7kms long and will take 2 hrs. Optional meal at the Crafers Hotel afterwards.
URL:https://heysentrail.asn.au/walking-the-heysen-trail/walk-the-trail-with-the-friends/walk-calendar/cleland-3/
CATEGORIES:Summer Walks
END:VEVENT
BEGIN:VEVENT
DTSTART;VALUE=DATE:20170118
DTEND;VALUE=DATE:20170119
DTSTAMP:20260424T082732
CREATED:20161024T011836Z
LAST-MODIFIED:20200219T232434Z
UID:10004941-1484697600-1484697600@heysentrail.asn.au
SUMMARY:Greek on Seaview
DESCRIPTION:Sharpen your appetite for Greek food by joining a select group of walkers (with deep pockets!) at Estia Restaurant\, a stone throw from Henley Beach. There will be a short walk of about one hour before hand.
URL:https://heysentrail.asn.au/walking-the-heysen-trail/walk-the-trail-with-the-friends/walk-calendar/greek-on-seaview/
CATEGORIES:Summer Walks
END:VEVENT
BEGIN:VEVENT
DTSTART;VALUE=DATE:20170111
DTEND;VALUE=DATE:20170112
DTSTAMP:20260424T082732
CREATED:20161024T011026Z
LAST-MODIFIED:20200219T232434Z
UID:10004939-1484092800-1484092800@heysentrail.asn.au
SUMMARY:Multicultural Adelaide and South Parklands Walk
DESCRIPTION:This walk offers a glimpse of the multi-cultural history of Adelaide though our build heritage and a stroll through parts of the south parklands.
URL:https://heysentrail.asn.au/walking-the-heysen-trail/walk-the-trail-with-the-friends/walk-calendar/multicultural-adelaide-and-south-parklands-walk/
CATEGORIES:Summer Walks
END:VEVENT
BEGIN:VEVENT
DTSTART;VALUE=DATE:20170104
DTEND;VALUE=DATE:20170105
DTSTAMP:20260424T082732
CREATED:20161024T010924Z
LAST-MODIFIED:20200219T232434Z
UID:10004528-1483488000-1483488000@heysentrail.asn.au
SUMMARY:Glenelg
DESCRIPTION:What a better place to be during the holiday season.  This walk will take us along the sandy white beach where we may be lucky enough to spot a dolphin or two and then on  and around the Holdfast Marina where you can enjoy the bustling cafes and Glenelg’s magnificent sunsets.\n\nAs this walk is mostly along the waterline where you can wade or swim it will be fine even if the weather is hot. \n\nJoin us for a meal afterwards at the Watermark Hotel and soak up a balmy evening at the Bay through the holiday season. This is optional.
URL:https://heysentrail.asn.au/walking-the-heysen-trail/walk-the-trail-with-the-friends/walk-calendar/glenelg-2/
CATEGORIES:Summer Walks
END:VEVENT
BEGIN:VEVENT
DTSTART;VALUE=DATE:20161226
DTEND;VALUE=DATE:20161227
DTSTAMP:20260424T082732
CREATED:20161024T010647Z
LAST-MODIFIED:20200219T232434Z
UID:10004526-1482710400-1482710400@heysentrail.asn.au
SUMMARY:Boxing Day Walk - Event Cancelled
DESCRIPTION:This walk has been cancelled due to forecast for extreme weather conditions
URL:https://heysentrail.asn.au/walking-the-heysen-trail/walk-the-trail-with-the-friends/walk-calendar/boxing-day-walk-event-cancelled/
CATEGORIES:Social
END:VEVENT
BEGIN:VEVENT
DTSTART;VALUE=DATE:20161221
DTEND;VALUE=DATE:20161222
DTSTAMP:20260424T082732
CREATED:20161024T010548Z
LAST-MODIFIED:20200219T232434Z
UID:10004524-1482278400-1482278400@heysentrail.asn.au
SUMMARY:Chambers Gully
DESCRIPTION:A loop walk with a steady but not steep climb with views of Adelaide\, Koalas and our native bushland
URL:https://heysentrail.asn.au/walking-the-heysen-trail/walk-the-trail-with-the-friends/walk-calendar/chambers-gully-5/
CATEGORIES:Summer Walks
END:VEVENT
BEGIN:VEVENT
DTSTART;VALUE=DATE:20161214
DTEND;VALUE=DATE:20161215
DTSTAMP:20260424T082732
CREATED:20161024T010440Z
LAST-MODIFIED:20200219T232434Z
UID:10004522-1481673600-1481673600@heysentrail.asn.au
SUMMARY:Street Art CBD
DESCRIPTION:Discover the creative street art scene with a jaunt around the laneways of Adelaide. \n\nIncludes a DIY session on the public wall at Morphett Street Bridge. Walk leader will provide all equipment (paint\, stencils\, gloves)
URL:https://heysentrail.asn.au/walking-the-heysen-trail/walk-the-trail-with-the-friends/walk-calendar/street-art-cbd/
CATEGORIES:Summer Walks
END:VEVENT
BEGIN:VEVENT
DTSTART;VALUE=DATE:20161207
DTEND;VALUE=DATE:20161208
DTSTAMP:20260424T082732
CREATED:20161024T012527Z
LAST-MODIFIED:20200219T232434Z
UID:10004951-1481068800-1481068800@heysentrail.asn.au
SUMMARY:Semaphore Beach Walk
DESCRIPTION:Start at the southern carpark walking along shared walk/bike track\,sand dunes then return on the beach.
URL:https://heysentrail.asn.au/walking-the-heysen-trail/walk-the-trail-with-the-friends/walk-calendar/semaphore-beach-walk/
CATEGORIES:Summer Walks
END:VEVENT
BEGIN:VEVENT
DTSTART;VALUE=DATE:20161204
DTEND;VALUE=DATE:20161205
DTSTAMP:20260424T082732
CREATED:20160113T102127Z
LAST-MODIFIED:20200219T232434Z
UID:10004886-1480809600-1480809600@heysentrail.asn.au
SUMMARY:End of Year Bash\, BBQ + Band at Belair National Park
DESCRIPTION:Come and Rock and Roll to foot-tapping band “Raunchy Sugar” at the green surroundings of Karka Pavilion in Belair National Park\, Upper Sturt Road\, Belair. https://goo.gl/maps/nguzMrCm8uM2\n\nSunday 4 December\, midday to 4.30pm    $20 per person\n\nPark entry fees are waived for attending members.  Please mention at the entry gate at Belair National Park that you are attending a function at Karka Pavilion\, you will then be directed to the venue.\n\nBefores\, BBQ and artisan bread will be provided.  \n\nBring a Salad or Dessert to share\, bring chair or rug\, glass\, plates & cutlery.\n\nBring your partner/spouse and family.\n\nBYO Wine\, beer or soft drinks.  \n\nNo refunds!
URL:https://heysentrail.asn.au/walking-the-heysen-trail/walk-the-trail-with-the-friends/walk-calendar/end-of-year-bash-bbq-band-at-belair-national-park-2/
CATEGORIES:Social
END:VEVENT
BEGIN:VEVENT
DTSTART;VALUE=DATE:20161130
DTEND;VALUE=DATE:20161201
DTSTAMP:20260424T082732
CREATED:20161024T010233Z
LAST-MODIFIED:20200219T232434Z
UID:10004518-1480464000-1480464000@heysentrail.asn.au
SUMMARY:Black Hill
DESCRIPTION:A circular walk around the lower slopes of Black Hill Conservation Park\, if the weather is warm an alternate route will be taken.
URL:https://heysentrail.asn.au/walking-the-heysen-trail/walk-the-trail-with-the-friends/walk-calendar/black-hill-5/
CATEGORIES:Summer Walks
END:VEVENT
BEGIN:VEVENT
DTSTART;VALUE=DATE:20161123
DTEND;VALUE=DATE:20161124
DTSTAMP:20260424T082732
CREATED:20161024T012150Z
LAST-MODIFIED:20200219T232434Z
UID:10004945-1479859200-1479859200@heysentrail.asn.au
SUMMARY:Western Torrens Linear Park
DESCRIPTION:This walk takes us along the River Torrens linear path.
URL:https://heysentrail.asn.au/walking-the-heysen-trail/walk-the-trail-with-the-friends/walk-calendar/western-torrens-linear-park-2/
CATEGORIES:Summer Walks
END:VEVENT
BEGIN:VEVENT
DTSTART;VALUE=DATE:20161116
DTEND;VALUE=DATE:20161117
DTSTAMP:20260424T082732
CREATED:20161024T005726Z
LAST-MODIFIED:20200219T232434Z
UID:10004516-1479254400-1479254400@heysentrail.asn.au
SUMMARY:Fifth Creek Wade
DESCRIPTION:A pleasant amble along 5th Creek\, from its beginning at the Torrens to where we leave it at Black Hill.
URL:https://heysentrail.asn.au/walking-the-heysen-trail/walk-the-trail-with-the-friends/walk-calendar/fifth-creek-wade/
CATEGORIES:Summer Walks
END:VEVENT
BEGIN:VEVENT
DTSTART;VALUE=DATE:20161109
DTEND;VALUE=DATE:20161110
DTSTAMP:20260424T082732
CREATED:20161024T005607Z
LAST-MODIFIED:20200219T232434Z
UID:10004514-1478649600-1478649600@heysentrail.asn.au
SUMMARY:Thai on Hutt
DESCRIPTION:Thai on Hutt is a short walk through the eastern Parklands on level ground.  I have it on good authority (from she who must be obeyed) that the Thai Restaurant is as authentic as possible south of Bangkok.  For an idea of the menu and price\, Google Kin Kin Thai.\n\nAfter the meal we will return with less spring to our steps to our starting point once again through Victoria Park.  No need to bring heavy trekking equipment.  Wallets required!
URL:https://heysentrail.asn.au/walking-the-heysen-trail/walk-the-trail-with-the-friends/walk-calendar/thai-on-hutt/
CATEGORIES:Summer Walks
END:VEVENT
BEGIN:VEVENT
DTSTART;VALUE=DATE:20161106
DTEND;VALUE=DATE:20161107
DTSTAMP:20260424T082732
CREATED:20151212T104713Z
LAST-MODIFIED:20200219T232434Z
UID:10004506-1478390400-1478390400@heysentrail.asn.au
SUMMARY:Montacute Heights to Cudlee Creek
DESCRIPTION:After an initial road walk\, the trail makes a very long and steep descent to Sixth Creek before climbing again through Montacute Conservation Park and Mt Crawford Forest Reserve.  A pleasant walk past the pretty private gardens along Holland Creek Road completes the section.
URL:https://heysentrail.asn.au/walking-the-heysen-trail/walk-the-trail-with-the-friends/walk-calendar/montacute-heights-to-cudlee-creek-3/
CATEGORIES:End-to-End 10
END:VEVENT
BEGIN:VEVENT
DTSTART;VALUE=DATE:20161102
DTEND;VALUE=DATE:20161103
DTSTAMP:20260424T082732
CREATED:20161024T005427Z
LAST-MODIFIED:20200219T232434Z
UID:10004512-1478044800-1478044800@heysentrail.asn.au
SUMMARY:Marino Sheep Walk
DESCRIPTION:Yes there are merino sheep at Marino! We may even see them as we explore what Marino has to offer: secret gullies\, cliff top paths\, artworks\, parks\, lighthouse\, amazing rocky beach and stunning city and sea views.\n\nThis walk will include steps\, hills and some uneven ground. so a reasonable level of walking fitness is required\, however the pace will be relaxed.\n\nMarino is also well known for snakes and so please wear good footwear and remain alert while walking. \n\nThe walk will be followed by an optional meal at a local hotel.
URL:https://heysentrail.asn.au/walking-the-heysen-trail/walk-the-trail-with-the-friends/walk-calendar/marino-sheep-walk/
CATEGORIES:Summer Walks
END:VEVENT
BEGIN:VEVENT
DTSTART;VALUE=DATE:20161023
DTEND;VALUE=DATE:20161024
DTSTAMP:20260424T082732
CREATED:20160310T020928Z
LAST-MODIFIED:20200219T232434Z
UID:10004922-1477180800-1477180800@heysentrail.asn.au
SUMMARY:Ambers Gully
DESCRIPTION:A great walk to test the skills\, with several sharp undulations.  See the best of the Black Hill Conservation Park in a morning walk\, being rewarded very quickly with magnificent views of Adelaide. Previous walks in this area have yielded kangaroos\, koalas and an echidna.\n\nSome recent uphill walking prior to participating would be an advantage. \n\nWalk through the Sugar Loaves\, then a steep track down to Ghost Tree Gully and up the Summit Link trail.  Downhill from here\, meandering along the Ambers Gully track\, to the car park. \n\nShould be comfortable 3 Â½ hours\, but have allowed plenty of time for the ups.\n\nMeal after at CafÃ© Va Bene\, Gorge Rd\, Campbelltown optional.  Please let me know if you would like a meal in the notes\, as being Sunday lunch\, we may need to book a table.
URL:https://heysentrail.asn.au/walking-the-heysen-trail/walk-the-trail-with-the-friends/walk-calendar/ambers-gully-7/
CATEGORIES:Trail Starter
END:VEVENT
BEGIN:VEVENT
DTSTART;VALUE=DATE:20161023
DTEND;VALUE=DATE:20161024
DTSTAMP:20260424T082732
CREATED:20160310T020245Z
LAST-MODIFIED:20200219T232434Z
UID:10004920-1477180800-1477180800@heysentrail.asn.au
SUMMARY:Waite Conservation
DESCRIPTION:Walk starts from the eastern end of Hartley Grove\, at the bottom of Wild Dog Glen looping around Waite Conservation Reserve.
URL:https://heysentrail.asn.au/walking-the-heysen-trail/walk-the-trail-with-the-friends/walk-calendar/waite-conservation/
CATEGORIES:Trail Starter
END:VEVENT
BEGIN:VEVENT
DTSTART;VALUE=DATE:20161023
DTEND;VALUE=DATE:20161024
DTSTAMP:20260424T082732
CREATED:20151220T113444Z
LAST-MODIFIED:20200219T232434Z
UID:10004885-1477180800-1477180800@heysentrail.asn.au
SUMMARY:Inman Valley to Myponga
DESCRIPTION:A very undulating walk starting with a climb up Sugarloaf Hill and on to Moon Hill\, each offering spectactular rural views. With more ups & downs through the native bushland in the Myponga Conservation Park.\n\nThe back half of the day sees us walking through pretty farmland and along quiet country roads.\n\nAfter leaving the trail at Yulte Road we have a 2 klms walk to the cars.\n\nAfter the finish of the walk there will an end of season celebration with a Christmas Theme which we hope you all will stay for. A time to enjoy the company of your fellow walkers & reflect upon our first season on the Heysen Trail.\n\nSo bring something to share and maybe wear something to engender the forthcoming Christmas spirit and finish the season off in a joyous mood.
URL:https://heysentrail.asn.au/walking-the-heysen-trail/walk-the-trail-with-the-friends/walk-calendar/inman-valley-to-myponga-3/
CATEGORIES:End-to-End 11
END:VEVENT
BEGIN:VEVENT
DTSTART;VALUE=DATE:20161018
DTEND;VALUE=DATE:20161019
DTSTAMP:20260424T082732
CREATED:20160805T040632Z
LAST-MODIFIED:20200219T232434Z
UID:10004938-1476748800-1476748800@heysentrail.asn.au
SUMMARY:Walk Leader Training
DESCRIPTION:Walk Leading for the Friends.\n\nWhat is involved and how to do it.\n\nAn information session offered by experienced walk leaders.
URL:https://heysentrail.asn.au/walking-the-heysen-trail/walk-the-trail-with-the-friends/walk-calendar/walk-leader-training/
CATEGORIES:Other
END:VEVENT
BEGIN:VEVENT
DTSTART;VALUE=DATE:20161016
DTEND;VALUE=DATE:20161017
DTSTAMP:20260424T082732
CREATED:20151109T034055Z
LAST-MODIFIED:20200219T232434Z
UID:10004839-1476576000-1476576000@heysentrail.asn.au
SUMMARY:Beaumont Spur ( a walk through the Mt Osmond Reserve and Cleland Conservation Park )
DESCRIPTION:A challenging walk through the back of Beaumont up to Mt. Osmond\, onto the Old Bullock track then into and around Cleland Conservation Park\, exiting the park at the bottom of the Winter Track crossing over Waterfall Gully Rd and back into the Mount Osmond Reserve for the short walk back to the cars.\n\nThe actual walk through Cleland will be determined by the weather conditions on the day as it can be quite hot by mid October\, but will inevitably include some testing climbs.The trcks to be followed could include the Mirren\, Chinamans\, Carro\, Attunga\, Nangare and Wine Shanty Tracks.
URL:https://heysentrail.asn.au/walking-the-heysen-trail/walk-the-trail-with-the-friends/walk-calendar/beaumont-spur-a-walk-through-the-mt-osmond-reserve-and-cleland-conservation-park/
CATEGORIES:Trail Walker
END:VEVENT
BEGIN:VEVENT
DTSTART;VALUE=DATE:20161016
DTEND;VALUE=DATE:20161017
DTSTAMP:20260424T082732
CREATED:20151109T033933Z
LAST-MODIFIED:20200219T232434Z
UID:10004837-1476576000-1476576000@heysentrail.asn.au
SUMMARY:Cleland Conservation Park
DESCRIPTION:A loop walk around Cleland Wildlife Park\, and up to Mt Lofty Summit for Morning Tea. This includes the final steep 860 metres along the main Waterfall Gully to Mt Lofty Summit Track.  Walking SA are hosting walks in the area on the day\, and there will be marquees on the summit set up by the various walking clubs in SA (maybe including The FOHT).  So bring your own morning tea\, as the cafe is likely to be very busy!  The return route to the wildlife park is will depend on the weather.  An optional BBQ lunch using the free gas BBQ’s is planned after the walk.  BYO meat\, salad and drinks.\n\nBring your camera\, as Dingoes\, Yellow Footed Rock Wallabies\, Emus & Kangaroos are likely to be sighted through the perimeter fence.
URL:https://heysentrail.asn.au/walking-the-heysen-trail/walk-the-trail-with-the-friends/walk-calendar/cleland-conservation-park-3/
CATEGORIES:Trail Starter
END:VEVENT
BEGIN:VEVENT
DTSTART;VALUE=DATE:20161015
DTEND;VALUE=DATE:20161017
DTSTAMP:20260424T082732
CREATED:20151109T042722Z
LAST-MODIFIED:20200219T232434Z
UID:10004494-1476489600-1476576000@heysentrail.asn.au
SUMMARY:Webb Gap to Burra Rd to Worlds End
DESCRIPTION:On Saturday…\n\nThe trail continues along the Tothill Range\, providing expansive views over the surrounding farmland and Apoinga Lagoon.\n\nOn Sunday…\n\nThe trail crosses undulating farmland before entering the scrubland of the Hallelujah Hills. The day finishes with an easy stroll to Worlds End Gorge.\n\nNOTE – If you wish to walk on only one day\, please contact the FOHT office to register for that days walk. The online registering system will only allow you to register for both days.
URL:https://heysentrail.asn.au/walking-the-heysen-trail/walk-the-trail-with-the-friends/walk-calendar/webb-gap-to-burra-rd-to-worlds-end/
CATEGORIES:End-to-End 9
END:VEVENT
BEGIN:VEVENT
DTSTART;VALUE=DATE:20161009
DTEND;VALUE=DATE:20161010
DTSTAMP:20260424T082732
CREATED:20160310T020027Z
LAST-MODIFIED:20200219T232434Z
UID:10004918-1475971200-1475971200@heysentrail.asn.au
SUMMARY:Linear Park Trail Athelstone
DESCRIPTION:A pleasant ramble on the Linear Park Trail\, walking on both sides of the Torrens\, much of the walk off the paved trail. A good walk in hot weather\, with several exit options.
URL:https://heysentrail.asn.au/walking-the-heysen-trail/walk-the-trail-with-the-friends/walk-calendar/linear-park-trail-athelstone/
CATEGORIES:Trail Starter
END:VEVENT
BEGIN:VEVENT
DTSTART;VALUE=DATE:20161009
DTEND;VALUE=DATE:20161010
DTSTAMP:20260424T082732
CREATED:20151109T033818Z
LAST-MODIFIED:20200219T232434Z
UID:10004835-1475971200-1475971200@heysentrail.asn.au
SUMMARY:Shepherds Hill
DESCRIPTION:Exploring the parks of the face foothills. There are some good hills here as we cross gullies. shorter than usual trail walker but the hills make up for it.\n\nMostly on well made tracks with views.
URL:https://heysentrail.asn.au/walking-the-heysen-trail/walk-the-trail-with-the-friends/walk-calendar/shepherds-hill/
CATEGORIES:Trail Walker
END:VEVENT
BEGIN:VEVENT
DTSTART;VALUE=DATE:20161008
DTEND;VALUE=DATE:20161010
DTSTAMP:20260424T082732
CREATED:20151109T042529Z
LAST-MODIFIED:20200219T232434Z
UID:10004492-1475884800-1475971200@heysentrail.asn.au
SUMMARY:Wandallah to Newikie Creek to Dares Hill Summit Road
DESCRIPTION:SATURDAY 8 OCTOBER 2016\n\nThis remote section of the Heysen Trail gives walkers their first introduction to the grazing lands beyond Goyders Line. After Wandallah Shelter walking is undulating until turning east toward Sugar Loaf Range. The track then turns to the north where Newikie Creek is reached via White Hill Road and Black Jack Shelter. This is an exposed and undulating walk with some very nice views.\n\nSUNDAY 9 OCTOBER 2016\n\nThis section passes through Caroona Conservation Park and Tourilie Gorge\, which is one of the lessor known gems of the Trail. Look out for the remnants of an old bullock cut through the gorge.\n\nSATURDAY EVENING MEAL – Farrell Flat\n\nTHEME FOR THE WEEKEND – B (as in bikini\, beach\, bowling etc)\n\nNOTE – If you wish to walk on only one day\, please contact the FOHT office to register for that days walk. The online registering system will only allow you to register for both days.
URL:https://heysentrail.asn.au/walking-the-heysen-trail/walk-the-trail-with-the-friends/walk-calendar/wandallah-to-newikie-creek-to-dares-hill-summit-road-4/
CATEGORIES:End-to-End 8
END:VEVENT
END:VCALENDAR