BEGIN:VCALENDAR
VERSION:2.0
PRODID:-//Friends of the Heysen Trail - ECPv6.15.20//NONSGML v1.0//EN
CALSCALE:GREGORIAN
METHOD:PUBLISH
X-WR-CALNAME:Friends of the Heysen Trail
X-ORIGINAL-URL:https://heysentrail.asn.au
X-WR-CALDESC:Events for Friends of the Heysen Trail
REFRESH-INTERVAL;VALUE=DURATION:PT1H
X-Robots-Tag:noindex
X-PUBLISHED-TTL:PT1H
BEGIN:VTIMEZONE
TZID:Australia/Adelaide
BEGIN:STANDARD
TZOFFSETFROM:+1030
TZOFFSETTO:+0930
TZNAME:ACST
DTSTART:20170401T163000
END:STANDARD
BEGIN:DAYLIGHT
TZOFFSETFROM:+0930
TZOFFSETTO:+1030
TZNAME:ACDT
DTSTART:20170930T163000
END:DAYLIGHT
BEGIN:STANDARD
TZOFFSETFROM:+1030
TZOFFSETTO:+0930
TZNAME:ACST
DTSTART:20180331T163000
END:STANDARD
BEGIN:DAYLIGHT
TZOFFSETFROM:+0930
TZOFFSETTO:+1030
TZNAME:ACDT
DTSTART:20181006T163000
END:DAYLIGHT
BEGIN:STANDARD
TZOFFSETFROM:+1030
TZOFFSETTO:+0930
TZNAME:ACST
DTSTART:20190406T163000
END:STANDARD
BEGIN:DAYLIGHT
TZOFFSETFROM:+0930
TZOFFSETTO:+1030
TZNAME:ACDT
DTSTART:20191005T163000
END:DAYLIGHT
BEGIN:STANDARD
TZOFFSETFROM:+1030
TZOFFSETTO:+0930
TZNAME:ACST
DTSTART:20200404T163000
END:STANDARD
BEGIN:DAYLIGHT
TZOFFSETFROM:+0930
TZOFFSETTO:+1030
TZNAME:ACDT
DTSTART:20201003T163000
END:DAYLIGHT
END:VTIMEZONE
BEGIN:VEVENT
DTSTART;VALUE=DATE:20190102
DTEND;VALUE=DATE:20190103
DTSTAMP:20260423T080006
CREATED:20181002T070137Z
LAST-MODIFIED:20200219T232452Z
UID:10004718-1546387200-1546387200@heysentrail.asn.au
SUMMARY:Chambers Gully
DESCRIPTION:We will enjoy the cool sanctuary of Chambers Gully as we follow the track fringed with ferns. Cockatoos\, butterflies\, koalas and bandicoots love this gully.  A fairly steep climb takes us up around SugarLoaf hill\, which provides splendid views of the city and coast.\n\nThe ground is quite uneven so wear sturdy walking boots\, and bring your poles if you want.\n\nJoin us for a meal afterwards at Cascada Cafe – 540 Glynburn Road\, Burnside. This is  optional.
URL:https://heysentrail.asn.au/walking-the-heysen-trail/walk-the-trail-with-the-friends/walk-calendar/chambers-gully-9/
CATEGORIES:Summer Walks
END:VEVENT
BEGIN:VEVENT
DTSTART;VALUE=DATE:20181219
DTEND;VALUE=DATE:20181220
DTSTAMP:20260423T080006
CREATED:20181019T051956Z
LAST-MODIFIED:20200219T232452Z
UID:10005366-1545177600-1545177600@heysentrail.asn.au
SUMMARY:West Beach
DESCRIPTION:Come along and enjoy a twilight walk along the West Beach seafront and River Torrens Linear Trail. Distance is approx. 6.0kms. Optional meal after the walk at The Henley Beach Hotel.
URL:https://heysentrail.asn.au/walking-the-heysen-trail/walk-the-trail-with-the-friends/walk-calendar/west-beach/
CATEGORIES:Summer Walks
END:VEVENT
BEGIN:VEVENT
DTSTART;VALUE=DATE:20181213
DTEND;VALUE=DATE:20181214
DTSTAMP:20260423T080006
CREATED:20181127T071252Z
LAST-MODIFIED:20200219T232452Z
UID:10005470-1544659200-1544659200@heysentrail.asn.au
SUMMARY:The Friends Shed Maintenance Day - Cobbler Creek
DESCRIPTION:We have our last Shed day for the year and again we need your help.\n\nWe need helpers to keep the shed in good order and prepare materials for the trail.\n\nThere are a range of jobs to be done which may vary from week to week as we get ready for different projects. Colin can also assign jobs based on your physical abilities.\n\nTasks to be done over the next few weeks include:\n\nâ€¢ Cutting up timber suitable for making stiles\,\n\nâ€¢ Painting our newly acquired hut in preparation for installation\,\n\nâ€¢ Preparing camping benches for installation.
URL:https://heysentrail.asn.au/walking-the-heysen-trail/walk-the-trail-with-the-friends/walk-calendar/the-friends-shed-maintenance-day-cobbler-creek-4/
CATEGORIES:Friends Shed Maintenance Day
END:VEVENT
BEGIN:VEVENT
DTSTART;VALUE=DATE:20181212
DTEND;VALUE=DATE:20181213
DTSTAMP:20260423T080006
CREATED:20181019T051854Z
LAST-MODIFIED:20200219T232452Z
UID:10005365-1544572800-1544572800@heysentrail.asn.au
SUMMARY:Anstey's Hill
DESCRIPTION:An evening walk around Anstey’s Hill Recreation Park pathways including the original Newman’s Nursery ruins. \n\nBe on the look out for the local wildlife.\n\nThere are a couple of hills during the walk\, including Torture Hill\, but nothing too hard.
URL:https://heysentrail.asn.au/walking-the-heysen-trail/walk-the-trail-with-the-friends/walk-calendar/ansteys-hill-3/
CATEGORIES:Summer Walks
END:VEVENT
BEGIN:VEVENT
DTSTART;VALUE=DATE:20181206
DTEND;VALUE=DATE:20181207
DTSTAMP:20260423T080006
CREATED:20181115T213955Z
LAST-MODIFIED:20200219T232452Z
UID:10005463-1544054400-1544054400@heysentrail.asn.au
SUMMARY:The Friends Shed Maintenance Day - Cobbler Creek
DESCRIPTION:We have another Shed day planned and we need your help. \n\nWe need helpers to sort our supplies\, keep the shed in good order and prepare materials for the trail.\n\nThere are a range of jobs to be done which may vary from week to week as we get ready for different projects. Colin can also assign jobs based on your physical abilities.\n\nTasks to be done over the next few weeks include:\n\nâ€¢ Cutting up timber suitable for making stiles\,\n\nâ€¢ Preliminary work on our newly acquired hut in preparation for installation\,\n\nâ€¢ Preparing camping benches for installation.
URL:https://heysentrail.asn.au/walking-the-heysen-trail/walk-the-trail-with-the-friends/walk-calendar/the-friends-shed-maintenance-day-cobbler-creek-3/
CATEGORIES:Friends Shed Maintenance Day
END:VEVENT
BEGIN:VEVENT
DTSTART;VALUE=DATE:20181205
DTEND;VALUE=DATE:20181206
DTSTAMP:20260423T080006
CREATED:20181016T052424Z
LAST-MODIFIED:20200219T232451Z
UID:10004727-1543968000-1543968000@heysentrail.asn.au
SUMMARY:O'Halloran Hill
DESCRIPTION:Explore tracks through the O’Halloran Hill Conservation Park before it is “renovated” into the recently proclaimed Glenthorne National Park.  A few undulations giving views across the city and coast; plenty of birds but perhaps more weeds than wildlflowers.  Wandering for approx 5-6kms up to 2 hours.
URL:https://heysentrail.asn.au/walking-the-heysen-trail/walk-the-trail-with-the-friends/walk-calendar/ohalloran-hill/
CATEGORIES:Summer Walks
END:VEVENT
BEGIN:VEVENT
DTSTART;VALUE=DATE:20181202
DTEND;VALUE=DATE:20181203
DTSTAMP:20260423T080006
CREATED:20180724T031252Z
LAST-MODIFIED:20200219T232451Z
UID:10005301-1543708800-1543708800@heysentrail.asn.au
SUMMARY:Xmas Bash
DESCRIPTION:Come and Rock and Roll to foot-tapping band “Raunchy Sugar” at the green surroundings of Karka Pavilion in Belair National Park\, Upper Sturt Road\, Belair. https://goo.gl/maps/nguzMrCm8uM2\n\nSunday 2 December\, midday to 4.30pm $20 per person\n\nPark entry fees are waived for attending members. Please mention at the entry gate at Belair National Park that you are attending a Friends of Heysen Trail function at Karka Pavilion\, you will then be directed to the venue.\n\nBefores\, BBQ and artisan bread will be provided. \n\nBring a Salad or Dessert to share\, bring chair or rug\, glass\, plates & cutlery.\n\nBring your partner/spouse and family.\n\nBYO Wine\, beer or soft drinks. \n\nNo refunds!
URL:https://heysentrail.asn.au/walking-the-heysen-trail/walk-the-trail-with-the-friends/walk-calendar/xmas-bash/
CATEGORIES:Social
END:VEVENT
BEGIN:VEVENT
DTSTART;VALUE=DATE:20181129
DTEND;VALUE=DATE:20181130
DTSTAMP:20260423T080006
CREATED:20181115T213310Z
LAST-MODIFIED:20200219T232451Z
UID:10005461-1543449600-1543449600@heysentrail.asn.au
SUMMARY:The Friends Shed Maintenance Day - Cobbler Creek
DESCRIPTION:We have another Shed day planned and we need your help.\n\nWe need helpers to sort our supplies\, keep the shed in good order and prepare materials for the trail.\n\nThere are a range of jobs to be done which may vary from week to week as we get ready for different projects. Colin can also assign jobs based on your physical abilities.\n\nTasks to be done over the next few weeks include:\n\nâ€¢ Cutting up timber suitable for making stiles\,\n\nâ€¢ Preliminary work on our newly acquired hut in preparation for installation\,\n\nâ€¢ Preparing camping benches for installation.
URL:https://heysentrail.asn.au/walking-the-heysen-trail/walk-the-trail-with-the-friends/walk-calendar/the-friends-shed-maintenance-day-cobbler-creek-2/
CATEGORIES:Friends Shed Maintenance Day
END:VEVENT
BEGIN:VEVENT
DTSTART;VALUE=DATE:20181128
DTEND;VALUE=DATE:20181129
DTSTAMP:20260423T080006
CREATED:20181016T052153Z
LAST-MODIFIED:20200219T232451Z
UID:10004725-1543363200-1543363200@heysentrail.asn.au
SUMMARY:Barcoo Inlet / Patawalonga
DESCRIPTION:Coastal fringe with dinner at the Adelaide yacht squadron
URL:https://heysentrail.asn.au/walking-the-heysen-trail/walk-the-trail-with-the-friends/walk-calendar/barcoo-inlet-patawalonga/
CATEGORIES:Summer Walks
END:VEVENT
BEGIN:VEVENT
DTSTART;VALUE=DATE:20181122
DTEND;VALUE=DATE:20181123
DTSTAMP:20260423T080006
CREATED:20181105T035845Z
LAST-MODIFIED:20200219T232451Z
UID:10004788-1542844800-1542844800@heysentrail.asn.au
SUMMARY:The Friends Shed Maintenance Day - Cobbler Creek
DESCRIPTION:We have another Shed day planned and we need your help. \n\nWe need helpers to sort our supplies\, keep the shed in good order and prepare materials for the trail.\n\nThere are a range of jobs to be done which may vary from week to week as we get ready for different projects. Colin can also assign jobs based on your physical abilities.\n\nTasks to be done over the next few weeks include:\n\nâ€¢ Cutting up timber suitable for making stiles\,\n\nâ€¢ Preliminary work on our newly acquired hut in preparation for installation\,\n\nâ€¢ Preparing camping benches for installation.
URL:https://heysentrail.asn.au/walking-the-heysen-trail/walk-the-trail-with-the-friends/walk-calendar/the-friends-shed-maintenance-day-cobbler-creek/
CATEGORIES:Friends Shed Maintenance Day
END:VEVENT
BEGIN:VEVENT
DTSTART;VALUE=DATE:20181121
DTEND;VALUE=DATE:20181122
DTSTAMP:20260423T080006
CREATED:20181031T053030Z
LAST-MODIFIED:20200219T232451Z
UID:10004785-1542758400-1542758400@heysentrail.asn.au
SUMMARY:Summertown
DESCRIPTION:A comfortable walk around the back streets of Summertown at the top of Greenhill Road\,a short stint on the Heysen trail and a brief time along the northeastern edge of Cleland Con. Park.\n\nThere are couple of short climbs during the walk but nothing to hard.
URL:https://heysentrail.asn.au/walking-the-heysen-trail/walk-the-trail-with-the-friends/walk-calendar/summertown-2/
CATEGORIES:Summer Walks
END:VEVENT
BEGIN:VEVENT
DTSTART;VALUE=DATE:20181115
DTEND;VALUE=DATE:20181116
DTSTAMP:20260423T080006
CREATED:20181031T063409Z
LAST-MODIFIED:20200219T232451Z
UID:10004787-1542240000-1542240000@heysentrail.asn.au
SUMMARY:The Friends Shed Maintenance Day at Cobbler Creek
DESCRIPTION:We need help at the Shed.\n\nOur shed is not just a ‘Men’s Shed’. We need helpers to sort our supplies\, keep the shed in good order and prepare materials for the trail.\n\nThere are a range of jobs to be done which may vary from week to week as we get ready for different projects. Colin can also assign jobs based on your physical abilities.\n\nTasks to be done over the next few weeks include:\n\nâ€¢ Cutting up timber suitable for making stiles\,\n\nâ€¢ Preliminary work on our newly acquired hut in preparation for installation\,\n\nâ€¢ Preparing camping benches for installation.
URL:https://heysentrail.asn.au/walking-the-heysen-trail/walk-the-trail-with-the-friends/walk-calendar/the-friends-shed-maintenance-day-at-cobbler-creek/
CATEGORIES:Friends Shed Maintenance Day
END:VEVENT
BEGIN:VEVENT
DTSTART;VALUE=DATE:20181114
DTEND;VALUE=DATE:20181115
DTSTAMP:20260423T080006
CREATED:20181016T052020Z
LAST-MODIFIED:20200219T232451Z
UID:10004723-1542153600-1542153600@heysentrail.asn.au
SUMMARY:Port Adelaide Three Bridges Walk
DESCRIPTION:Walk the three bridges of Port Adelaide\, Thomas Currie “Diver” Derrick\, VC\, DCM Bridge\, the newest\, the Birkenhead Bridge\, the oldest and the Jervois Bridge\, the ugliest and experience the Port from the quayside. We pass the lighthouse\, the City of Adelaide\, clipper ship\, Hart’s Mill and other sites around the port.
URL:https://heysentrail.asn.au/walking-the-heysen-trail/walk-the-trail-with-the-friends/walk-calendar/port-adelaide-three-bridges-walk/
CATEGORIES:Summer Walks
END:VEVENT
BEGIN:VEVENT
DTSTART;VALUE=DATE:20181111
DTEND;VALUE=DATE:20181112
DTSTAMP:20260423T080006
CREATED:20171218T105303Z
LAST-MODIFIED:20200219T232451Z
UID:10005241-1541894400-1541894400@heysentrail.asn.au
SUMMARY:Myponga to Mt Compass
DESCRIPTION:After a short road walk\, the trail enters the small but picturesque Yulte Conservation Park. After emerging from the bushland\, the trail crosses open farmland continuing along Lawless Rd (and the Myponga Pistol Club firing range)\, and gradually climbing to Mt Cone\, which offers distant views over Victor Harbor to the South.
URL:https://heysentrail.asn.au/walking-the-heysen-trail/walk-the-trail-with-the-friends/walk-calendar/myponga-to-mt-compass-3/
CATEGORIES:End-to-End 13
END:VEVENT
BEGIN:VEVENT
DTSTART;VALUE=DATE:20181107
DTEND;VALUE=DATE:20181108
DTSTAMP:20260423T080007
CREATED:20181019T051655Z
LAST-MODIFIED:20200219T232451Z
UID:10005364-1541548800-1541548800@heysentrail.asn.au
SUMMARY:Brownhill Creek
DESCRIPTION:An easy walk to begin the “Twilight” season. About 6-8km – about 1.5 hours – from Mitcham Reserve into Brownhill Creek and return through the  hilly streets of Mitcham and Torrens Park.
URL:https://heysentrail.asn.au/walking-the-heysen-trail/walk-the-trail-with-the-friends/walk-calendar/brownhill-creek-5/
CATEGORIES:Summer Walks
END:VEVENT
BEGIN:VEVENT
DTSTART;VALUE=DATE:20181101
DTEND;VALUE=DATE:20181102
DTSTAMP:20260423T080007
CREATED:20181014T110052Z
LAST-MODIFIED:20200219T232451Z
UID:10005348-1541030400-1541030400@heysentrail.asn.au
SUMMARY:The Friend's Shed - Cobbler Creek Conservation Park
DESCRIPTION:We need help at the Shed.\n\nOur shed is not just a ‘Men’s Shed’. We need helpers to sort our supplies\, keep the shed in good order and prepare materials for the trail. \n\nThere are a range of jobs to be done which may vary from week to week as we get ready for different projects. Colin can also assign jobs based on your physical abilities.\n\nTasks to be done over the next few weeks include:\n\nâ€¢ Tidying up the shed\,\n\nâ€¢ Cutting up timber suitable for making stiles\,\n\nâ€¢ Preparing steel mesh for the Mt Crawford stair project.
URL:https://heysentrail.asn.au/walking-the-heysen-trail/walk-the-trail-with-the-friends/walk-calendar/the-friends-shed-cobbler-creek-conservation-park-3/
CATEGORIES:Other
END:VEVENT
BEGIN:VEVENT
DTSTART;VALUE=DATE:20181028
DTEND;VALUE=DATE:20181029
DTSTAMP:20260423T080007
CREATED:20180323T044204Z
LAST-MODIFIED:20200219T232451Z
UID:10004692-1540684800-1540684800@heysentrail.asn.au
SUMMARY:Sturt Gorge and Craigburn Farm
DESCRIPTION:A long and at times challenging loop walk. Some steep up and down hills\, and a little rock climbing. We will walk along the River Trail\, up to the top of the Sturt River Flood Control Dam.  From there\, we will continue through to the Craigburn Farm Lake. a nice spot to stop.  We cross Murray’s Hill Road at Coromandel Valley\, and see the impressive old stone bridge here. We continue along the Wattle and Lomandra Trails\, back to our starting point. Walking poles are a definite advantage. Not recommended if you have knee troubles.  Please contact the leader on 0421 177 822 on the day if you can’t make it.
URL:https://heysentrail.asn.au/walking-the-heysen-trail/walk-the-trail-with-the-friends/walk-calendar/sturt-gorge-and-craigburn-farm/
CATEGORIES:Trail Walker
END:VEVENT
BEGIN:VEVENT
DTSTART;VALUE=DATE:20181028
DTEND;VALUE=DATE:20181029
DTSTAMP:20260423T080007
CREATED:20171122T004640Z
LAST-MODIFIED:20200219T232451Z
UID:10005235-1540684800-1540684800@heysentrail.asn.au
SUMMARY:Mt Barker Summit
DESCRIPTION:From Laratinga Wetlands on Mount Barker Creek our ultimate destination is the summit of Mount Barker. On a clear day views can be had toward the Lower Lakes of the Murray River and west over the Onkaparinga Valley to Mount Lofty. Walking will be on the verge of some minor country roads until we reach the Conservation Reserve which provides a trail through open woodland. The understorey has a sparse layer of native shrubs amongst which are a variety of wild flowers.
URL:https://heysentrail.asn.au/walking-the-heysen-trail/walk-the-trail-with-the-friends/walk-calendar/mt-barker-summit/
CATEGORIES:Trail Starter
END:VEVENT
BEGIN:VEVENT
DTSTART;VALUE=DATE:20181027
DTEND;VALUE=DATE:20181029
DTSTAMP:20260423T080007
CREATED:20170928T030520Z
LAST-MODIFIED:20200219T232451Z
UID:10005137-1540598400-1540684800@heysentrail.asn.au
SUMMARY:Webb Gap to Burra Rd to Worlds End
DESCRIPTION:NOTE – If you wish to walk on only one day\, please contact the FOHT office to register for that day. The online registering system will only allow you to register for both walking days.\n\nSATURDAY 27 October\n\nThe trail once again crosses over the Tothill Range and back providing expansive views across the surrounding farmlands and Apoinga Lagoon. A sharp climb after Huppatz Hut and an at times tricky descent back to Burra Road provides a fore taste of things to come in future walks.\n\nSUNDAY 28th October\n\nA short walk across paddocks to the Morgan-Whyalla pipeline is followed by an interesting walk through an area of the Halleluja Hills before reaching Worlds End Road. Once off this road we finish near the Burra Gorge campground.\n\nBoth these walk are quite delightful and provide a fitting finale to this seasons walking.\n\nThe theme for our dinner on Saturday night is Halloween.
URL:https://heysentrail.asn.au/walking-the-heysen-trail/walk-the-trail-with-the-friends/walk-calendar/webb-gap-to-burra-rd-to-worlds-end-2/
CATEGORIES:End-to-End 11
END:VEVENT
BEGIN:VEVENT
DTSTART;VALUE=DATE:20181025
DTEND;VALUE=DATE:20181026
DTSTAMP:20260423T080007
CREATED:20181014T105328Z
LAST-MODIFIED:20200219T232451Z
UID:10005346-1540425600-1540425600@heysentrail.asn.au
SUMMARY:The Friend's Shed - Cobbler Creek Conservation Park
DESCRIPTION:We need help at the Shed.\n\nOur shed is not just a ‘Men’s Shed’. We need helpers to sort our supplies\, keep the shed in good order and prepare materials for the trail. \n\nThere are a range of jobs to be done which may vary from week to week as we get ready for different projects. Colin can also assign jobs based on your physical abilities.\n\nTasks to be done over the next few weeks include:\n\nâ€¢ Tidying up the shed\,\n\nâ€¢ Cutting up timber suitable for making stiles\,\n\nâ€¢ Preparing steel mesh for the Mt Crawford stair project.
URL:https://heysentrail.asn.au/walking-the-heysen-trail/walk-the-trail-with-the-friends/walk-calendar/the-friends-shed-cobbler-creek-conservation-park-2/
CATEGORIES:Other
END:VEVENT
BEGIN:VEVENT
DTSTART;VALUE=DATE:20181021
DTEND;VALUE=DATE:20181022
DTSTAMP:20260423T080007
CREATED:20180328T212033Z
LAST-MODIFIED:20200219T232451Z
UID:10005262-1540080000-1540080000@heysentrail.asn.au
SUMMARY:Carrick Hill Meander
DESCRIPTION:A meander around lower Carrick Hill. A relaxing walk to look for wildflowers and take in the amazing views. On our way back we will  walk around the perimeter of the formal gardens and grounds of Carrick Hill Estate and possibly ponder on times gone by.\n\nJoin me afterwards for a coffee at Carrick Hill House. This is optional and is also dependent on whether they have large functions on the day.\n\nBring your water\, morning tea and camera.
URL:https://heysentrail.asn.au/walking-the-heysen-trail/walk-the-trail-with-the-friends/walk-calendar/carrick-hill-meander/
CATEGORIES:Trail Starter
END:VEVENT
BEGIN:VEVENT
DTSTART;VALUE=DATE:20181021
DTEND;VALUE=DATE:20181022
DTSTAMP:20260423T080007
CREATED:20180323T044722Z
LAST-MODIFIED:20200219T232451Z
UID:10004694-1540080000-1540080000@heysentrail.asn.au
SUMMARY:Horsnell Gully
DESCRIPTION:An up and down walk in the Horsnell Gully Cons. Park and surrounds. There will be a number of steep ascents & descents throughout the walk.
URL:https://heysentrail.asn.au/walking-the-heysen-trail/walk-the-trail-with-the-friends/walk-calendar/horsnell-gully-5/
CATEGORIES:Trail Walker
END:VEVENT
BEGIN:VEVENT
DTSTART;VALUE=DATE:20181021
DTEND;VALUE=DATE:20181022
DTSTAMP:20260423T080007
CREATED:20171003T034837Z
LAST-MODIFIED:20200219T232451Z
UID:10004633-1540080000-1540080000@heysentrail.asn.au
SUMMARY:Montacute Heights to Cudlee Creek
DESCRIPTION:After some initial road walking the trail makes a very long and steep descent to 6th creek then climbs through Montacute CP and again to Thomas Hill.The final part of the walk takes us along Holland CK Rd and its specky private gardens.
URL:https://heysentrail.asn.au/walking-the-heysen-trail/walk-the-trail-with-the-friends/walk-calendar/montacute-heights-to-cudlee-creek-5/
CATEGORIES:End-to-End 12
END:VEVENT
BEGIN:VEVENT
DTSTART;VALUE=DATE:20181020
DTEND;VALUE=DATE:20181022
DTSTAMP:20260423T080007
CREATED:20171010T053943Z
LAST-MODIFIED:20200219T232451Z
UID:10005170-1539993600-1540080000@heysentrail.asn.au
SUMMARY:Locks Ruin to Bowman Park to Mt Zion
DESCRIPTION:NOTE – If you wish to walk on only one day\, please contact the FOHT office (once 	bookings have opened) to register for that day’s walk. The online registering 	system will only allow you to register for both days.\n\nDay 1 Saturday 20th October 2018 16kms\n\nAn easy walk\, predominantly along roads and road reserves\, this section takes us through the town of Crystal Brook\, then follows the Crystal Brook itself to historic Bowman Park.\n\nDay 2 Sunday 21st October 2018 16kms\n\nBeginning as a pleasant walk along the Crystal Brook\, past the southern most hills of the Flinders Ranges\, the Trail gradually climbs to the top of the range to reveal views over Port Pirie and Spencer Gulf.
URL:https://heysentrail.asn.au/walking-the-heysen-trail/walk-the-trail-with-the-friends/walk-calendar/locks-ruin-to-bowman-park-to-mt-zion-2/
CATEGORIES:End-to-End 10
END:VEVENT
BEGIN:VEVENT
DTSTART;VALUE=DATE:20181018
DTEND;VALUE=DATE:20181019
DTSTAMP:20260423T080007
CREATED:20181014T093923Z
LAST-MODIFIED:20200219T232451Z
UID:10005344-1539820800-1539820800@heysentrail.asn.au
SUMMARY:The Friend's Shed - Cobbler Creek Conservation Park
DESCRIPTION:We need help at the Shed.\n\nOur shed is not just a ‘Men’s Shed’. We need helpers to sort our supplies\, keep the shed in good order and prepare materials for the trail. \n\nThere are a range of jobs to be done which may vary from week to week as we get ready for different projects. Colin can also assign jobs based on your physical abilities.\n\nTasks to be done over the next few weeks include:\n\nâ€¢	Tidying up the shed\,\n\nâ€¢	Cutting up timber suitable for making stiles\,\n\nâ€¢	Preparing steel mesh for the Mt Crawford stair project.
URL:https://heysentrail.asn.au/walking-the-heysen-trail/walk-the-trail-with-the-friends/walk-calendar/the-friends-shed-cobbler-creek-conservation-park/
CATEGORIES:Other
END:VEVENT
BEGIN:VEVENT
DTSTART;VALUE=DATE:20181014
DTEND;VALUE=DATE:20181015
DTSTAMP:20260423T080007
CREATED:20180323T043834Z
LAST-MODIFIED:20200219T232451Z
UID:10004690-1539475200-1539475200@heysentrail.asn.au
SUMMARY:Mt Lofty via Eagle on the Hill
DESCRIPTION:A loop walk\, combining several of the walking tracks in Cleland conservation Park.  Morning Tea or Lunch will be had at the Summit\, to explore the stalls at the Hiking Expo\, which starts at 10.30 am.  Bring your own eats or drinks\, as there may be long queues at the cafe! Any walk leaders interested in becoming my Tail End Charlie?  Contact the leader on 0421 177 822 for any queries.  Don’t be late\, as we may not wait for latecomers\, especially if you do not contact the leader first!
URL:https://heysentrail.asn.au/walking-the-heysen-trail/walk-the-trail-with-the-friends/walk-calendar/mt-lofty-via-eagle-on-the-hill/
CATEGORIES:Trail Walker
END:VEVENT
BEGIN:VEVENT
DTSTART;VALUE=DATE:20181014
DTEND;VALUE=DATE:20181015
DTSTAMP:20260423T080007
CREATED:20171218T104834Z
LAST-MODIFIED:20200219T232451Z
UID:10005239-1539475200-1539475200@heysentrail.asn.au
SUMMARY:Inman Valley to Myponga
DESCRIPTION:Majestic gums line roadsides leading to the climb up Sugarloaf Hill where walkers are rewarded with spectacular rural views. The trail then leads into Myponga Conservation Park for more views and some testing undulations. Pretty farmland and quiet country roads complete this section.
URL:https://heysentrail.asn.au/walking-the-heysen-trail/walk-the-trail-with-the-friends/walk-calendar/inman-valley-to-myponga-5/
CATEGORIES:End-to-End 13
END:VEVENT
BEGIN:VEVENT
DTSTART;VALUE=DATE:20181014
DTEND;VALUE=DATE:20181015
DTSTAMP:20260423T080007
CREATED:20171016T052944Z
LAST-MODIFIED:20200219T232451Z
UID:10005179-1539475200-1539475200@heysentrail.asn.au
SUMMARY:Event - WalkingSA Mt Lofty
DESCRIPTION:Most Adelaidians are familiar with the Waterfall Gully track to Mt Lofty Summit but did you know there are at least 10 other routes that can get you to the top? Come and join one of the hosted walks and discover some of the lesser known trails exploring Cleland Conservation Park and the trails beyond.\n\nThere are walk options to suit everybody. If you’re after a serious climb along forest trails to get your heart pumping\, a gentle ramble to take in the scenery or something in between then we have a walk for you. Check out the options and choose from various lengths\, terrain and starting points. All guided walks will start at 10:30am and will be lead by us or other Walking SA member clubs so you don’t even need to read a map!\n\nOnce you’re at the top\, you can refresh yourself at the Summit Cafe and stroll among the stall holders in the summit courtyard.\n\nTo register for this event please visit the Walking SA link below. Registrations open on Tues 25th Sept and the various walk grades and further information can be found at this site.\n\nhttps://www.walkingsa.org.au/walktober/event-mt-lofty-2018/
URL:https://heysentrail.asn.au/walking-the-heysen-trail/walk-the-trail-with-the-friends/walk-calendar/event-walkingsa-mt-lofty/
CATEGORIES:Trail Starter
END:VEVENT
BEGIN:VEVENT
DTSTART;VALUE=DATE:20181013
DTEND;VALUE=DATE:20181015
DTSTAMP:20260423T080007
CREATED:20171001T092924Z
LAST-MODIFIED:20200219T232451Z
UID:10005152-1539388800-1539475200@heysentrail.asn.au
SUMMARY:Warren Gorge to Eyre Depot; Woolshed Flat to Quorn
DESCRIPTION:On Sunday … Warren Gorge to Eyre Depot.\n\nAn early start will take us driving to Warren Gorge to start from there.\n\nAfter climbing over the saddle we will enter Mount Arden Creek and wind our way southwards. The  winding creek bed with its waterfalls and rocky sections can make progress very slow. Leaving the ranges will have us arriving at Eyre Depot … and then only a short walk to meet the bus waiting to take us back to Warren Gorge to collect our cars.\n\nOn Sunday … Woolshed flat to Quorn.\n\nA steady climb to start the day takes walkers to the top of the range and views over Pichi Richi Pass. After descending into the pass again\, the Trail follows the historic Pichi Richi railway line\, passing the remnants of deserted sidings and settlements.\n\nNOTE – If you wish to walk on only one day\, please contact the FOHT office to register for that days walk. The online registering system will only allow you to register for both days.
URL:https://heysentrail.asn.au/walking-the-heysen-trail/walk-the-trail-with-the-friends/walk-calendar/warren-gorge-to-eyre-depot-woolshed-flat-to-quorn/
CATEGORIES:End-to-End 9
END:VEVENT
BEGIN:VEVENT
DTSTART;VALUE=DATE:20181010
DTEND;VALUE=DATE:20181011
DTSTAMP:20260423T080007
CREATED:20170927T075454Z
LAST-MODIFIED:20200219T232451Z
UID:10005128-1539129600-1539129600@heysentrail.asn.au
SUMMARY:Morialta Cons. Park
DESCRIPTION:A challenging walk in and around Morialta Conservation Park that includes two possibly three testing climbs(including Chapmans Track) and a somewhat difficult descent down Centre Track. An ideal walk for the end of the season.
URL:https://heysentrail.asn.au/walking-the-heysen-trail/walk-the-trail-with-the-friends/walk-calendar/morialta-cons-park/
CATEGORIES:Trail Walker
END:VEVENT
END:VCALENDAR