BEGIN:VCALENDAR
VERSION:2.0
PRODID:-//Friends of the Heysen Trail - ECPv6.15.20//NONSGML v1.0//EN
CALSCALE:GREGORIAN
METHOD:PUBLISH
X-WR-CALNAME:Friends of the Heysen Trail
X-ORIGINAL-URL:https://heysentrail.asn.au
X-WR-CALDESC:Events for Friends of the Heysen Trail
REFRESH-INTERVAL;VALUE=DURATION:PT1H
X-Robots-Tag:noindex
X-PUBLISHED-TTL:PT1H
BEGIN:VTIMEZONE
TZID:Australia/Adelaide
BEGIN:STANDARD
TZOFFSETFROM:+1030
TZOFFSETTO:+0930
TZNAME:ACST
DTSTART:20180331T163000
END:STANDARD
BEGIN:DAYLIGHT
TZOFFSETFROM:+0930
TZOFFSETTO:+1030
TZNAME:ACDT
DTSTART:20181006T163000
END:DAYLIGHT
BEGIN:STANDARD
TZOFFSETFROM:+1030
TZOFFSETTO:+0930
TZNAME:ACST
DTSTART:20190406T163000
END:STANDARD
BEGIN:DAYLIGHT
TZOFFSETFROM:+0930
TZOFFSETTO:+1030
TZNAME:ACDT
DTSTART:20191005T163000
END:DAYLIGHT
BEGIN:STANDARD
TZOFFSETFROM:+1030
TZOFFSETTO:+0930
TZNAME:ACST
DTSTART:20200404T163000
END:STANDARD
BEGIN:DAYLIGHT
TZOFFSETFROM:+0930
TZOFFSETTO:+1030
TZNAME:ACDT
DTSTART:20201003T163000
END:DAYLIGHT
END:VTIMEZONE
BEGIN:VEVENT
DTSTART;VALUE=DATE:20190704
DTEND;VALUE=DATE:20190705
DTSTAMP:20260423T075650
CREATED:20190614T110139Z
LAST-MODIFIED:20200219T232507Z
UID:10005527-1562198400-1562198400@heysentrail.asn.au
SUMMARY:Cobbler Creek Shed
DESCRIPTION:Maintenance Days at the Friends Shed at Cobbler Creek.\n\nVolunteers are welcome to join in. You don’t have to be an expert handy person.\n\nPlease register so we can anticipate numbers and plan jobs.
URL:https://heysentrail.asn.au/walking-the-heysen-trail/walk-the-trail-with-the-friends/walk-calendar/cobbler-creek-shed/
CATEGORIES:Friends Shed Maintenance Day
END:VEVENT
BEGIN:VEVENT
DTSTART;VALUE=DATE:20190630
DTEND;VALUE=DATE:20190701
DTSTAMP:20260423T075650
CREATED:20181022T112107Z
LAST-MODIFIED:20200219T232507Z
UID:10004775-1561852800-1561852800@heysentrail.asn.au
SUMMARY:Dashwood Gully to Mylor
DESCRIPTION:A picturesque walk through gently undulating farmland\, the northern blocks of Kuitpo Pine Forest and through the historic Jupiter Creek Goldfields.
URL:https://heysentrail.asn.au/walking-the-heysen-trail/walk-the-trail-with-the-friends/walk-calendar/dashwood-gully-to-mylor-5/
CATEGORIES:End-to-End 13
END:VEVENT
BEGIN:VEVENT
DTSTART;VALUE=DATE:20190630
DTEND;VALUE=DATE:20190701
DTSTAMP:20260423T075650
CREATED:20181019T055107Z
LAST-MODIFIED:20200219T232507Z
UID:10004756-1561852800-1561852800@heysentrail.asn.au
SUMMARY:Mount Misery
DESCRIPTION:This extremely hard walk incorporates sections of the Montacute Conservation Park and the valleys and ridges south of the Kangaroo Creek reservoir and the Thomas Hill forest region.\n\nWonderful views over the Adelaide plains.\n\nAfter the walk it may be possible to share coffee and cake or pizza at the Anderson Hill Winery.\n\nThis is a slightly less extreme version of the route described in ‘Push the Bush’
URL:https://heysentrail.asn.au/walking-the-heysen-trail/walk-the-trail-with-the-friends/walk-calendar/mount-misery/
CATEGORIES:Trail Walker
END:VEVENT
BEGIN:VEVENT
DTSTART;VALUE=DATE:20190630
DTEND;VALUE=DATE:20190701
DTSTAMP:20260423T075650
CREATED:20181019T055026Z
LAST-MODIFIED:20200219T232507Z
UID:10004754-1561852800-1561852800@heysentrail.asn.au
SUMMARY:Mack Creek
DESCRIPTION:Circular walk through a valley of magnificent Red River Gums. Following Mack Creek and a meandering bush track.\n\nCould have some challenges for new walkers… inclines and that it is a circular walk.
URL:https://heysentrail.asn.au/walking-the-heysen-trail/walk-the-trail-with-the-friends/walk-calendar/mack-creek-3/
CATEGORIES:Trail Starter
END:VEVENT
BEGIN:VEVENT
DTSTART;VALUE=DATE:20190630
DTEND;VALUE=DATE:20190701
DTSTAMP:20260423T075650
CREATED:20180920T041142Z
LAST-MODIFIED:20200219T232507Z
UID:10004702-1561852800-1561852800@heysentrail.asn.au
SUMMARY:Mt Crawford to Pewsey Vale
DESCRIPTION:A climb over Mt Crawford followed by more forest walking and another climb over Wirra Wirra peaks gets this walk off to a flyer.Due to recent re-routes the day is finished off with walking along back rds and a rd reserve.Still\,not a walk to be missed.
URL:https://heysentrail.asn.au/walking-the-heysen-trail/walk-the-trail-with-the-friends/walk-calendar/mt-crawford-to-pewsey-vale-6/
CATEGORIES:End-to-End 12
END:VEVENT
BEGIN:VEVENT
DTSTART;VALUE=DATE:20190627
DTEND;VALUE=DATE:20190628
DTSTAMP:20260423T075650
CREATED:20190603T135411Z
LAST-MODIFIED:20200219T232507Z
UID:10005525-1561593600-1561593600@heysentrail.asn.au
SUMMARY:The Friends Shed Maintenance Day - CANCELLED WORKING ON THE Trail
DESCRIPTION:The Shed will not be be open this Thursday. The Friends are installing a new cabin at Black Jack\, north of Burra.
URL:https://heysentrail.asn.au/walking-the-heysen-trail/walk-the-trail-with-the-friends/walk-calendar/the-friends-shed-maintenance-day-cancelled-working-on-the-trail/
CATEGORIES:Friends Shed Maintenance Day
END:VEVENT
BEGIN:VEVENT
DTSTART;VALUE=DATE:20190623
DTEND;VALUE=DATE:20190624
DTSTAMP:20260423T075650
CREATED:20181019T054934Z
LAST-MODIFIED:20200219T232507Z
UID:10004752-1561248000-1561248000@heysentrail.asn.au
SUMMARY:Three Parks Panorama\, Ashbourne
DESCRIPTION:We meander through the walking trails of Cox Scrub Conservation Park to the Finniss River. Then its a long\, steady trudge up Cole Crossing Road and on to Mount Magnificent Conservation Park. If the weather is good and the legs willing\, we will have lunch on the summit. Then we head back down and then through the Finniss Conservation Park and along some back roads to Cox Scrub C.P. for more walking trails back to the car park.
URL:https://heysentrail.asn.au/walking-the-heysen-trail/walk-the-trail-with-the-friends/walk-calendar/three-parks-panorama-ashbourne/
CATEGORIES:Trail Walker
END:VEVENT
BEGIN:VEVENT
DTSTART;VALUE=DATE:20190622
DTEND;VALUE=DATE:20190624
DTSTAMP:20260423T075650
CREATED:20181019T113345Z
LAST-MODIFIED:20200219T232507Z
UID:10005449-1561161600-1561248000@heysentrail.asn.au
SUMMARY:Newikie Creek to Dares Hill Summit Rd And Hallett to EE George Quarry
DESCRIPTION:NOTE – If you wish to walk on only one day\, please contact the FOHT office (once bookings have opened) to register for that day’s walk. The online registration system will only allow you to register for both days.\n\nSATURDAY 22nd June\n\nThis section passes through Caroona Creek Conservation Park and Tourilie Gorge\, which is one of the lesser known gems of the Trail. Part of the walk through the gorge will be along the ruins of an old bullock track. Look out for the old retaining walls and the hand dug rock cutting(an ideal location for a group photo).\n\nIt should be noted this is probably the most remote section of the trail south of the Flinders Ranges.\n\nSUNDAY 23rd June \n\nA gently undulating walk largely along rural back roads and road reserves through the surrounding farmlands.\n\nA pleasant and unique walk.\n\nDinner on Saturday evening will be at the Burra Hotel from 6.30pm.This will be a celebratory dinner for completing half the trail so lets all share the moment and toast the accomplishment.\n\nThe theme for the evening will be “Half & Half” so be imaginative.
URL:https://heysentrail.asn.au/walking-the-heysen-trail/walk-the-trail-with-the-friends/walk-calendar/newikie-creek-to-dares-hill-summit-rd-and-hallett-to-ee-george-quarry/
CATEGORIES:End-to-End 11
END:VEVENT
BEGIN:VEVENT
DTSTART;VALUE=DATE:20190622
DTEND;VALUE=DATE:20190623
DTSTAMP:20260423T075650
CREATED:20181013T032108Z
LAST-MODIFIED:20211123T001951Z
UID:10005335-1561161600-1561161600@heysentrail.asn.au
SUMMARY:Willunga Basin Trail
DESCRIPTION:We continue to stage 3 exploring the new Willunga Basin Trail – yet to be marked – 120km loop around the basin south of Adelaide. \n\nToday the walk leaves from Onkaparinga National Park\, winding its way through Hardy’s Scrub\, then travels some road reserves with a swoop across Gemtree Winery wetlands before a few quiet back roads take us into Willunga. Terrain is relatively flat with an occasional undulation.\n\nDistance approx. 21 km 6 hours.
URL:https://heysentrail.asn.au/walking-the-heysen-trail/walk-the-trail-with-the-friends/walk-calendar/willunga-basin-trail-2019-5/
CATEGORIES:Willunga Basin Trail End-to-End
END:VEVENT
BEGIN:VEVENT
DTSTART;VALUE=DATE:20190620
DTEND;VALUE=DATE:20190621
DTSTAMP:20260423T075650
CREATED:20190603T135147Z
LAST-MODIFIED:20200219T232506Z
UID:10005523-1560988800-1560988800@heysentrail.asn.au
SUMMARY:The Friends Shed Maintenance Day - Cobbler Creek
DESCRIPTION:The Shed will be open this Thursday from 9.00 am to 2.00pm.\n\nVolunteers are welcome to join in. You don’t have to be an expert handy person.\n\nIf you can attend to help in one of our current projects\, please register on-line or contact Colin Edwards. \n\nIt helps him plan jobs when he knows how many people to expect.
URL:https://heysentrail.asn.au/walking-the-heysen-trail/walk-the-trail-with-the-friends/walk-calendar/the-friends-shed-maintenance-day-cobbler-creek-21/
CATEGORIES:Friends Shed Maintenance Day
END:VEVENT
BEGIN:VEVENT
DTSTART;VALUE=DATE:20190619
DTEND;VALUE=DATE:20190620
DTSTAMP:20260423T075650
CREATED:20181018T012448Z
LAST-MODIFIED:20200219T232506Z
UID:10005354-1560902400-1560902400@heysentrail.asn.au
SUMMARY:Greenhill Loop
DESCRIPTION:A loop walk up from Langman Reserve\, Burnside through the quiet Greenhill Recreation Park and urban streets of Greenhill\, before descending into Chambers Gully and a meander around some of the trails on the northern side of Cleland Con. Park prior to returning along the Waterfall Gully Road Walking Trail and some quiet suburban streets of Burnside to the Reserve.\n\nIt is a walk of ups and downs\, some steep & some not so steep. The section in Greenhill Rec. Park offers panoramic views over Adelaide.\n\nCome prepared to do some climbs.\n\nPlease remember we will only stop for morning tea as we will finish before lunch.
URL:https://heysentrail.asn.au/walking-the-heysen-trail/walk-the-trail-with-the-friends/walk-calendar/greenhill-loop/
CATEGORIES:Trail Walker
END:VEVENT
BEGIN:VEVENT
DTSTART;VALUE=DATE:20190616
DTEND;VALUE=DATE:20190617
DTSTAMP:20260423T075650
CREATED:20181019T054720Z
LAST-MODIFIED:20200219T232506Z
UID:10004748-1560643200-1560643200@heysentrail.asn.au
SUMMARY:Linear Park\, Athelstone
DESCRIPTION:A pleasant ramble on the Linear Park Trail\, walking on both sides of the Torrens\, much of the walk off the paved trail.
URL:https://heysentrail.asn.au/walking-the-heysen-trail/walk-the-trail-with-the-friends/walk-calendar/linear-park-athelstone/
CATEGORIES:Trail Starter
END:VEVENT
BEGIN:VEVENT
DTSTART;VALUE=DATE:20190616
DTEND;VALUE=DATE:20190617
DTSTAMP:20260423T075650
CREATED:20181001T081124Z
LAST-MODIFIED:20200219T232506Z
UID:10004716-1560643200-1560643200@heysentrail.asn.au
SUMMARY:Kersbrook
DESCRIPTION:This walk is in a section of Mount Crawford Forest referred to as “Old Kersbook Locality”. We will be walking on wide open fire tracks through native forest and pine plantations and also along the edge of the forest where there is good views over surrounding farmland. Parts of this area were burnt in the Sampson Flat fires of 2015 and you will see the rejuvenation of the trees.\n\nA trail walker with undulating terrain.\n\nTo reach the meeting point there is a small section of gravel road.
URL:https://heysentrail.asn.au/walking-the-heysen-trail/walk-the-trail-with-the-friends/walk-calendar/kersbrook-3/
CATEGORIES:Trail Walker
END:VEVENT
BEGIN:VEVENT
DTSTART;VALUE=DATE:20190616
DTEND;VALUE=DATE:20190617
DTSTAMP:20260423T075650
CREATED:20180920T040901Z
LAST-MODIFIED:20200219T232506Z
UID:10004700-1560643200-1560643200@heysentrail.asn.au
SUMMARY:Nugget Rd to Mt Crawford
DESCRIPTION:This section of the trail combines several sections of MtCrawford pine forest with the natural bushland of Warren C/P and Little Mt Crawford to provide a picturesque and diverse walk .
URL:https://heysentrail.asn.au/walking-the-heysen-trail/walk-the-trail-with-the-friends/walk-calendar/nugget-rd-to-mt-crawford/
CATEGORIES:End-to-End 12
END:VEVENT
BEGIN:VEVENT
DTSTART;VALUE=DATE:20190613
DTEND;VALUE=DATE:20190614
DTSTAMP:20260423T075650
CREATED:20190603T134908Z
LAST-MODIFIED:20200219T232506Z
UID:10005521-1560384000-1560384000@heysentrail.asn.au
SUMMARY:The Friends Shed Maintenance Day - Cobbler Creek
DESCRIPTION:The Shed will be open this Thursday from 9.00 am to 2.00pm.\n\nVolunteers are welcome to join in. You don’t have to be an expert handy person.\n\nIf you can attend to help in one of our current projects\, please register on-line or contact Colin Edwards. \n\nIt helps him plan jobs when he knows how many people to expect.
URL:https://heysentrail.asn.au/walking-the-heysen-trail/walk-the-trail-with-the-friends/walk-calendar/the-friends-shed-maintenance-day-cobbler-creek-20/
CATEGORIES:Friends Shed Maintenance Day
END:VEVENT
BEGIN:VEVENT
DTSTART;VALUE=DATE:20190609
DTEND;VALUE=DATE:20190610
DTSTAMP:20260423T075650
CREATED:20181022T111917Z
LAST-MODIFIED:20200219T232506Z
UID:10004773-1560038400-1560038400@heysentrail.asn.au
SUMMARY:Kyeema to Dashwood Gully
DESCRIPTION:The dense native bushland of Kyeema Conservation Park\, the plantations of Kuitpo Forest and pretty back roads make this a pleasant winter walk.
URL:https://heysentrail.asn.au/walking-the-heysen-trail/walk-the-trail-with-the-friends/walk-calendar/kyeema-to-dashwood-gully-4/
CATEGORIES:End-to-End 13
END:VEVENT
BEGIN:VEVENT
DTSTART;VALUE=DATE:20190609
DTEND;VALUE=DATE:20190610
DTSTAMP:20260423T075650
CREATED:20181019T054617Z
LAST-MODIFIED:20200219T232506Z
UID:10005408-1560038400-1560038400@heysentrail.asn.au
SUMMARY:Mount Crawford
DESCRIPTION:Route is to be advised\, due to possible logging works\, but the intention is to climb Mt Crawford\, Little Mt Crawford\, and Tower Hill\, for a total of 21kms.
URL:https://heysentrail.asn.au/walking-the-heysen-trail/walk-the-trail-with-the-friends/walk-calendar/mount-crawford-4/
CATEGORIES:Trail Walker
END:VEVENT
BEGIN:VEVENT
DTSTART;VALUE=DATE:20190609
DTEND;VALUE=DATE:20190610
DTSTAMP:20260423T075650
CREATED:20181019T054524Z
LAST-MODIFIED:20200219T232506Z
UID:10005406-1560038400-1560038400@heysentrail.asn.au
SUMMARY:Ambers Gully
DESCRIPTION:We make our way leisurely uphill on the Yurrebilla Trail to take in the scenic view from the Sugarloaves lookout\, then descend via fire track with views over NE Adelaide.
URL:https://heysentrail.asn.au/walking-the-heysen-trail/walk-the-trail-with-the-friends/walk-calendar/ambers-gully-9/
CATEGORIES:Trail Starter
END:VEVENT
BEGIN:VEVENT
DTSTART;VALUE=DATE:20190606
DTEND;VALUE=DATE:20190607
DTSTAMP:20260423T075650
CREATED:20190528T113759Z
LAST-MODIFIED:20200219T232506Z
UID:10005519-1559779200-1559779200@heysentrail.asn.au
SUMMARY:The Friends Shed Maintenance Day - Cobbler Creek
DESCRIPTION:The Shed will be open this Thursday from 9.00 am to 2.00pm.\n\nVolunteers are welcome to join in. You don’t have to be an expert handy person.\n\nIf you can attend to help in one of our current projects\, please register on-line or contact Colin Edwards. \n\nIt helps him plan jobs when he knows how many people to expect.
URL:https://heysentrail.asn.au/walking-the-heysen-trail/walk-the-trail-with-the-friends/walk-calendar/the-friends-shed-maintenance-day-cobbler-creek-19/
CATEGORIES:Friends Shed Maintenance Day
END:VEVENT
BEGIN:VEVENT
DTSTART;VALUE=DATE:20190602
DTEND;VALUE=DATE:20190603
DTSTAMP:20260423T075650
CREATED:20181019T054430Z
LAST-MODIFIED:20200219T232506Z
UID:10005404-1559433600-1559433600@heysentrail.asn.au
SUMMARY:Black Hill
DESCRIPTION:This is a great training walk over a good mix of terrain from rocky clambering to easy strolls along well made tracks to challenging slogs up never ending hills. Expect to be challenged and rewarded with great views over the Adelaide plains. \n\nIt is only about 18 kms but could take 6 hours by the time we have morning tea and lunch.
URL:https://heysentrail.asn.au/walking-the-heysen-trail/walk-the-trail-with-the-friends/walk-calendar/black-hill-9/
CATEGORIES:Trail Walker
END:VEVENT
BEGIN:VEVENT
DTSTART;VALUE=DATE:20190602
DTEND;VALUE=DATE:20190603
DTSTAMP:20260423T075650
CREATED:20181019T054306Z
LAST-MODIFIED:20200219T232506Z
UID:10005402-1559433600-1559433600@heysentrail.asn.au
SUMMARY:Shepherds Hill
DESCRIPTION:Walking along well made trails with great views of Adelaide. This involves some short hill climbs. We are mostly in Shephards Hill recreation park then a short scramble over the train line and up the hill to Wittunga Gardens. Here we can have morning tea while enjoying the Flora. Bring your snacks and a drink.\n\nIf you register and are unable to come on the day please advise me 0402 036 296.
URL:https://heysentrail.asn.au/walking-the-heysen-trail/walk-the-trail-with-the-friends/walk-calendar/shepherds-hill-4/
CATEGORIES:Trail Starter
END:VEVENT
BEGIN:VEVENT
DTSTART;VALUE=DATE:20190602
DTEND;VALUE=DATE:20190603
DTSTAMP:20260423T075650
CREATED:20181008T073806Z
LAST-MODIFIED:20200219T232506Z
UID:10005320-1559433600-1559433600@heysentrail.asn.au
SUMMARY:Cobbler Hill to Tapanappa
DESCRIPTION:Although relatively short\, this section of the trail offers spectacular scenery\, including a magnificent waterfall\, as walkers follow narrow tracks through the dense native scrub of Deep Creek Conservation Park
URL:https://heysentrail.asn.au/walking-the-heysen-trail/walk-the-trail-with-the-friends/walk-calendar/cobbler-hill-to-tapanappa-6/
CATEGORIES:End-to-End 14
END:VEVENT
BEGIN:VEVENT
DTSTART;VALUE=DATE:20190601
DTEND;VALUE=DATE:20190603
DTSTAMP:20260423T075650
CREATED:20181020T221051Z
LAST-MODIFIED:20200219T232506Z
UID:10005459-1559347200-1559433600@heysentrail.asn.au
SUMMARY:E2E10 Block 9 Rd - Murraytown - Melrose
DESCRIPTION:Day 1: Saturday 1st June 2019 Block 9 Rd to Murraytown 21kms\n\nThe trail leaves the forest via a series of graded roads\, passing the White Park property and coming within reach of Murray town.\n\nDay 2: Sunday 2nd June 2019 Murraytown to Melrose 22kms\n\nFrom Murraytown the trail heads North following several back roads\, offering good views of Mount Remarkable and the South Flinders Ranges.  The trail continues North\, following tracks and graded roads\, and passes near Wild Dog Creek giving walkers great views of rolling wheat-growing country to the east and the peaks of the South Flinders Ranges to the west.  It then heads northwesterly along minor roads towards Melrose before heading through farmlands and onto Survey Road into Melrose. The Wirrabara Way ends in the historic town of Melrose.\n\n*If you would like to register to walk one day only\, please contact the FOTH office to register*
URL:https://heysentrail.asn.au/walking-the-heysen-trail/walk-the-trail-with-the-friends/walk-calendar/e2e10-block-9-rd-murraytown-melrose/
CATEGORIES:End-to-End 10
END:VEVENT
BEGIN:VEVENT
DTSTART;VALUE=DATE:20190530
DTEND;VALUE=DATE:20190531
DTSTAMP:20260423T075650
CREATED:20190528T112937Z
LAST-MODIFIED:20200219T232506Z
UID:10005517-1559174400-1559174400@heysentrail.asn.au
SUMMARY:The Friends Shed Maintenance Day - Cobbler Creek
DESCRIPTION:The Shed will be open this Thursday from 9.00 am to 2.00pm.\n\nVolunteers are welcome to join in. You don’t have to be an expert handy person.\n\nIf you can attend to help in one of our current projects\, please register on-line or contact Colin Edwards. \n\nIt helps him plan jobs when he knows how many people to expect.
URL:https://heysentrail.asn.au/walking-the-heysen-trail/walk-the-trail-with-the-friends/walk-calendar/the-friends-shed-maintenance-day-cobbler-creek-18/
CATEGORIES:Friends Shed Maintenance Day
END:VEVENT
BEGIN:VEVENT
DTSTART;VALUE=DATE:20190526
DTEND;VALUE=DATE:20190527
DTSTAMP:20260423T075650
CREATED:20181015T071649Z
LAST-MODIFIED:20200219T232506Z
UID:10005350-1558828800-1558828800@heysentrail.asn.au
SUMMARY:Mt Pleasant
DESCRIPTION:Circular walk from Glen Devon Trail Head through forest land\, remnant woodland and native scrub. Finishing at Mt Pleasant Summit a great place to stop for lunch before returning to cars.
URL:https://heysentrail.asn.au/walking-the-heysen-trail/walk-the-trail-with-the-friends/walk-calendar/mt-pleasant-3/
CATEGORIES:Trail Starter
END:VEVENT
BEGIN:VEVENT
DTSTART;VALUE=DATE:20190526
DTEND;VALUE=DATE:20190527
DTSTAMP:20260423T075650
CREATED:20181002T070348Z
LAST-MODIFIED:20200219T232506Z
UID:10005310-1558828800-1558828800@heysentrail.asn.au
SUMMARY:Carrick Hill - Brown Hill Summit
DESCRIPTION:This walk is listed on www.walkingsa.org.au as ….\n\nWaite Conservation Reserve & Brownhill Creek Walk\n\n9.5km circuit\, moderately difficult\, undulating\, duration 3-4hrs\n\nWalking anticlockwise there is a steep (but short) climb up to the summit of Brown Hill. We can take several rests stops on the way up and debate the meaning of the word “short”and any substitute words. We will take the climb at an easy pace so that everyone can reach the summit in good humour to enjoy the lovely panoramic view.\n\nThe walk joins the Yurebilla Trail as it winds through a remnant of original grassy woodland in the Waite Conservation Reserve looping back to the start.\n\nPlease bring morning tea to have on the trail\, water\, appropriate weather clothing\, good grip hiking boots and walking poles\, if you use them.\n\nThis walk is for more experienced walkers and those that want to test their fitness.\n\n**Please note** the meeting time has been brought forward.. Meet    845am  \n\nStart   900am sharp \n\nFinish approx. 1230pm
URL:https://heysentrail.asn.au/walking-the-heysen-trail/walk-the-trail-with-the-friends/walk-calendar/carrick-hill-brown-hill-summit/
CATEGORIES:Trail Starter
END:VEVENT
BEGIN:VEVENT
DTSTART;VALUE=DATE:20190525
DTEND;VALUE=DATE:20190527
DTSTAMP:20260423T075650
CREATED:20181019T113051Z
LAST-MODIFIED:20200219T232506Z
UID:10005448-1558742400-1558828800@heysentrail.asn.au
SUMMARY:Wandallah to Newikie Creek to Dares Hill Summit Rd
DESCRIPTION:These are 2 wonderful testing and rewarding walks.\n\nSATURDAY 25th MAY\n\nThis is a remote and very undulating section of the trail providing walkers their first introduction to the grazing lands beyond Goyders Line.Over the past few years the countryside in the area has been particularly dry.\n\nSUNDAY 26th MAY\n\nThis section passes through Caroona Con. Park and Tourilie Gorge\, which is one of the lesser known gems of the trail. Part of the walk through the gorge will be along the ruins of an old bullock track. Look out for the old retaining walls and the hand dug rock cutting.\n\nIt should be noted this is probably the most remote section of the trail south of the Flinders Ranges.\n\nThe Theme for the weekend is BACK TO SCHOOL; revive some long lost memories for a bit of FUN\n\nNOTE – If you wish to walk on only one day\, please contact the FOHT office (once bookings have opened) to register for that day’s walk. The online registration system will only allow you to register for both days.
URL:https://heysentrail.asn.au/walking-the-heysen-trail/walk-the-trail-with-the-friends/walk-calendar/wandallah-to-newikie-creek-to-dares-hill-summit-rd/
CATEGORIES:End-to-End 11
END:VEVENT
BEGIN:VEVENT
DTSTART;VALUE=DATE:20190525
DTEND;VALUE=DATE:20190526
DTSTAMP:20260423T075650
CREATED:20190313T054528Z
LAST-MODIFIED:20211123T001928Z
UID:10004797-1558742400-1558742400@heysentrail.asn.au
SUMMARY:Willunga Basin Trail
DESCRIPTION:This walk is an exploration along the new Willunga Basin Trail – yet to be marked – 120km loop around the basin south of Adelaide.   Today we walk from Maslins Beach to Onkaparinga National Park.  Starting along the coast to Moana\, then we take the rail wine trail to McLaren Vale followed by a long section of road/reserve to Onkaparinga. \n\nDistance approx. 24km 6-7 hours.
URL:https://heysentrail.asn.au/walking-the-heysen-trail/walk-the-trail-with-the-friends/walk-calendar/willunga-basin-trail-2019/
CATEGORIES:Willunga Basin Trail End-to-End
END:VEVENT
BEGIN:VEVENT
DTSTART;VALUE=DATE:20190523
DTEND;VALUE=DATE:20190524
DTSTAMP:20260423T075650
CREATED:20190424T023601Z
LAST-MODIFIED:20200219T232506Z
UID:10005514-1558569600-1558569600@heysentrail.asn.au
SUMMARY:The Friend's Shed Maintenance Day - Cobbler Creek
DESCRIPTION:The Shed will not be open this Thursday.\n\nColin is involved with an ‘on the trial project’ in the Mid North instead.
URL:https://heysentrail.asn.au/walking-the-heysen-trail/walk-the-trail-with-the-friends/walk-calendar/the-friends-shed-maintenance-day-cobbler-creek-17/
CATEGORIES:Friends Shed Maintenance Day
END:VEVENT
BEGIN:VEVENT
DTSTART;VALUE=DATE:20190519
DTEND;VALUE=DATE:20190520
DTSTAMP:20260423T075650
CREATED:20190425T071215Z
LAST-MODIFIED:20200219T232506Z
UID:10005515-1558224000-1558224000@heysentrail.asn.au
SUMMARY:Anstey Hill Recreation Park
DESCRIPTION:A loop walk taking in some of the historical sites of the Anstey Hill Recreation Park. \n\nThe walk will be undulating with periods of challenges and views of the city.
URL:https://heysentrail.asn.au/walking-the-heysen-trail/walk-the-trail-with-the-friends/walk-calendar/anstey-hill-recreation-park/
CATEGORIES:Trail Starter
END:VEVENT
END:VCALENDAR