BEGIN:VCALENDAR
VERSION:2.0
PRODID:-//Friends of the Heysen Trail - ECPv6.15.20//NONSGML v1.0//EN
CALSCALE:GREGORIAN
METHOD:PUBLISH
X-WR-CALNAME:Friends of the Heysen Trail
X-ORIGINAL-URL:https://heysentrail.asn.au
X-WR-CALDESC:Events for Friends of the Heysen Trail
REFRESH-INTERVAL;VALUE=DURATION:PT1H
X-Robots-Tag:noindex
X-PUBLISHED-TTL:PT1H
BEGIN:VTIMEZONE
TZID:Australia/Adelaide
BEGIN:STANDARD
TZOFFSETFROM:+1030
TZOFFSETTO:+0930
TZNAME:ACST
DTSTART:20150404T163000
END:STANDARD
BEGIN:DAYLIGHT
TZOFFSETFROM:+0930
TZOFFSETTO:+1030
TZNAME:ACDT
DTSTART:20151003T163000
END:DAYLIGHT
BEGIN:STANDARD
TZOFFSETFROM:+1030
TZOFFSETTO:+0930
TZNAME:ACST
DTSTART:20160402T163000
END:STANDARD
BEGIN:DAYLIGHT
TZOFFSETFROM:+0930
TZOFFSETTO:+1030
TZNAME:ACDT
DTSTART:20161001T163000
END:DAYLIGHT
BEGIN:STANDARD
TZOFFSETFROM:+1030
TZOFFSETTO:+0930
TZNAME:ACST
DTSTART:20170401T163000
END:STANDARD
BEGIN:DAYLIGHT
TZOFFSETFROM:+0930
TZOFFSETTO:+1030
TZNAME:ACDT
DTSTART:20170930T163000
END:DAYLIGHT
END:VTIMEZONE
BEGIN:VEVENT
DTSTART;VALUE=DATE:20160904
DTEND;VALUE=DATE:20160905
DTSTAMP:20260424T091547
CREATED:20151020T061326Z
LAST-MODIFIED:20200219T232433Z
UID:10004813-1472947200-1472947200@heysentrail.asn.au
SUMMARY:Mt Lofty circle
DESCRIPTION:A comfortable walk across Cleland Conservation Park following contour paths below the summits of Mount Lofty and Bonython. There will be views looking over the city and a variety of wild flowers to see. Descending\, we will then track along Piccadilly Valley for a climb back to the ridge line via Rhododendron Gully in the Botanic Gardens.
URL:https://heysentrail.asn.au/walking-the-heysen-trail/walk-the-trail-with-the-friends/walk-calendar/mt-lofty-circle-2/
CATEGORIES:Trail Starter
END:VEVENT
BEGIN:VEVENT
DTSTART;VALUE=DATE:20160904
DTEND;VALUE=DATE:20160905
DTSTAMP:20260424T091547
CREATED:20151109T041610Z
LAST-MODIFIED:20200219T232433Z
UID:10004865-1472947200-1472947200@heysentrail.asn.au
SUMMARY:Mylor to Cleland
DESCRIPTION:Although the most populous section of the trail\, it still retains a rural feel as walkers pass through the parks and bushland of Bridgewater\, Mt George Conservation Park\, Mt Lofty Botanic Gardens and Cleland Conservation Park.
URL:https://heysentrail.asn.au/walking-the-heysen-trail/walk-the-trail-with-the-friends/walk-calendar/mylor-to-cleland-3/
CATEGORIES:End-to-End 10
END:VEVENT
BEGIN:VEVENT
DTSTART;VALUE=DATE:20160910
DTEND;VALUE=DATE:20160912
DTSTAMP:20260424T091547
CREATED:20151109T041749Z
LAST-MODIFIED:20200219T232433Z
UID:10004867-1473465600-1473552000@heysentrail.asn.au
SUMMARY:Raeville to Locks Ruin to Bowman Park
DESCRIPTION:SATURDAY 10 September 2016\n\nThis walk follows dirt roads into the small town of Georgetown and beyond past Hiskeys Hut. The trail then follows undulating fencelines through Sams Hills.\n\nSUNDAY 11 September 2016\n\nAn easy walk\, predominantly along roads and road reserves\, this section takes us through the town of Crystal Brook\, then follows the Crystal Brook itself to historic Bowman Park.\n\nSaturday night – BBQ at Gladstone Caravan Park.  BYO meat\, drinks\, plates\, cutlery\, glass plus either a salad or dessert to share (one between 2 people will be sufficient).\n\nTHEME – The theme for Saturday night\, 17 May\, is anything that begins with “G”.  Looking forward to see what you come up with. \n\nNOTE – If you wish to walk on only one day\, please contact the FOHT office to register for that day. The online registering system will only allow you to register for both walking days.
URL:https://heysentrail.asn.au/walking-the-heysen-trail/walk-the-trail-with-the-friends/walk-calendar/raeville-to-locks-ruin-to-bowman-park-2/
CATEGORIES:End-to-End 8
END:VEVENT
BEGIN:VEVENT
DTSTART;VALUE=DATE:20160911
DTEND;VALUE=DATE:20160912
DTSTAMP:20260424T091547
CREATED:20151020T061544Z
LAST-MODIFIED:20200219T232433Z
UID:10004464-1473552000-1473552000@heysentrail.asn.au
SUMMARY:Cox's Scrub
DESCRIPTION:Gentle bushland which has escaped clearing apparently as it was no good for farming. It was used for keeping bees as the wild flowers are abundant. The sugar gums which are not native to the area attract both birds and bees. Views of the surrounding country.\n\nMorning coffee at the Quarry\n\nLunch by The Finniss River\n\nApprox 10 ks\, some sandy tracts\,
URL:https://heysentrail.asn.au/walking-the-heysen-trail/walk-the-trail-with-the-friends/walk-calendar/coxs-scrub-3/
CATEGORIES:Trail Starter
END:VEVENT
BEGIN:VEVENT
DTSTART;VALUE=DATE:20160911
DTEND;VALUE=DATE:20160912
DTSTAMP:20260424T091547
CREATED:20151020T061740Z
LAST-MODIFIED:20200219T232433Z
UID:10004466-1473552000-1473552000@heysentrail.asn.au
SUMMARY:Horsnell Gully
DESCRIPTION:Gully hopping from Horsnell into Gandys\, up and down.\n\nOne of Adelaide’s hidden bushlands.\n\nUp the waterfall track
URL:https://heysentrail.asn.au/walking-the-heysen-trail/walk-the-trail-with-the-friends/walk-calendar/horsnell-gully-3/
CATEGORIES:Trail Walker
END:VEVENT
BEGIN:VEVENT
DTSTART;VALUE=DATE:20160917
DTEND;VALUE=DATE:20160919
DTSTAMP:20260424T091547
CREATED:20151109T041943Z
LAST-MODIFIED:20200219T232433Z
UID:10004869-1474070400-1474156800@heysentrail.asn.au
SUMMARY:Peters Hill to Gerkie Gap to Webb Gap
DESCRIPTION:On Saturday…\n\nA pleasant walk along back roads through undulating farmland to the southern end of Tothill Range\, taking in the town of Marrabel and its memorial to the famous buckjumper ‘Curio’.\n\nOn Sunday…\n\nThis section of the trail follows the Tothill Ranges\, which boast the largest remaining section of remnant scrub in the area and are one of the delights of the Mid-North. There are pleasant vistas over the surrounding farmland\, with constant reminders of 19th century optimism and 21st century technology.\n\nNOTE – If you wish to walk on only one day\, please contact the FOHT office to register for that days walk. The online registering system will only allow you to register for both days.
URL:https://heysentrail.asn.au/walking-the-heysen-trail/walk-the-trail-with-the-friends/walk-calendar/peters-hill-to-gerkie-gap-to-webb-gap/
CATEGORIES:End-to-End 9
END:VEVENT
BEGIN:VEVENT
DTSTART;VALUE=DATE:20160918
DTEND;VALUE=DATE:20160919
DTSTAMP:20260424T091547
CREATED:20151020T062702Z
LAST-MODIFIED:20200219T232433Z
UID:10004468-1474156800-1474156800@heysentrail.asn.au
SUMMARY:Anstey Hill Recreation Park\, Vista
DESCRIPTION:Ã pleasant walk through and around the Anstey Hill Recreation Park\, named after an early road in the area built by George Alexander Anstey\,  a pioneer pastoralist & horticulturalist in Adelaide.\n\nStarting from Gate 6 a gradual rise leads us to the Newmans Nursery ruins where we veer southwards to climb towards the southern boundary of the park past the water treatment before skirting the boundary to the eastern edge and a walk through  bushland and open space where the odd western grey kangaroo is likely to be seen. \n\nThe walk then wends its way along various tracks past old quarries and mines in the northern section of the park before following a narrow track down to the Boundary Track\, along which we may observe some native orchids. After a short time on the Boundary track we then have a steady climb up the Wildflower walk where at the top we may again find some more orchids. We then walk down the Ridge Top walk to re-join the Boundary track and a short walk back to our cars.
URL:https://heysentrail.asn.au/walking-the-heysen-trail/walk-the-trail-with-the-friends/walk-calendar/anstey-hill-recreation-park-vista/
CATEGORIES:Trail Starter
END:VEVENT
BEGIN:VEVENT
DTSTART;VALUE=DATE:20160918
DTEND;VALUE=DATE:20160919
DTSTAMP:20260424T091547
CREATED:20151020T062845Z
LAST-MODIFIED:20200219T232433Z
UID:10004470-1474156800-1474156800@heysentrail.asn.au
SUMMARY:Morialta
DESCRIPTION:A walk around the lesser trodden tracks of Morialta.Approx 25kms this walk is for those who don’t mind testing out their stamina and lung capacity.A good level of fitness will be required to complete this walk in approx 6-7hrs\n\nBring morn tea\,lunch and energy snacks.\n\nWalking Poles recomended
URL:https://heysentrail.asn.au/walking-the-heysen-trail/walk-the-trail-with-the-friends/walk-calendar/morialta-4/
CATEGORIES:Trail Walker
END:VEVENT
BEGIN:VEVENT
DTSTART;VALUE=DATE:20160924
DTEND;VALUE=DATE:20160926
DTSTAMP:20260424T091547
CREATED:20151109T042135Z
LAST-MODIFIED:20200219T232433Z
UID:10004488-1474675200-1474761600@heysentrail.asn.au
SUMMARY:Broadview to Woolshed Flat to Quorn
DESCRIPTION:Saturday – This section of the trail climbs through grazing land and natural scrub to Mount Brown\, where walkers are provided with spectacular views of the northern Spencer Gulf from the viewing tower. A pretty single file descent leads Waukarie Creek and a classic Flinders Ranges creek walk.\n\nSunday – A steady climb to start the day takes walkers to the top of the range and views over Pichi Richi Pass. After descending into the pass again\, the Trail follows the historic Pichi Richi railway line\, passing the remnants of deserted sidings and settlements.\n\nNOTE – If you wish to walk on only one day\, please contact the FOHT office to register for that day. The online registering system will only allow you to register for both walking days.
URL:https://heysentrail.asn.au/walking-the-heysen-trail/walk-the-trail-with-the-friends/walk-calendar/broadview-to-woolshed-flat-to-quorn/
CATEGORIES:End-to-End 7
END:VEVENT
BEGIN:VEVENT
DTSTART;VALUE=DATE:20160925
DTEND;VALUE=DATE:20160926
DTSTAMP:20260424T091547
CREATED:20151020T063009Z
LAST-MODIFIED:20200219T232433Z
UID:10004472-1474761600-1474761600@heysentrail.asn.au
SUMMARY:Para Wirra
DESCRIPTION:This is a loop walk skirting Humbug Scrub Conservation Park and then going into Para Wirra National Park. Though mainly undulating there is some walking on tracks alng creek beds and the final section has a moderate up and down to the cars.\n\nCAN BE SLIPPERY WHEN WET. GOOD BOOTS RECCOMENDED.
URL:https://heysentrail.asn.au/walking-the-heysen-trail/walk-the-trail-with-the-friends/walk-calendar/para-wirra-4/
CATEGORIES:Trail Starter
END:VEVENT
BEGIN:VEVENT
DTSTART;VALUE=DATE:20160925
DTEND;VALUE=DATE:20160926
DTSTAMP:20260424T091547
CREATED:20151220T113258Z
LAST-MODIFIED:20200219T232433Z
UID:10004883-1474761600-1474761600@heysentrail.asn.au
SUMMARY:Tugwell Road to Inman Valley
DESCRIPTION:Having left the coast the trail enters the South Mount Lofty Ranges for what is a gently undulating walk through native bushland and private grazing land along quiet country roads and attractive road reserves. A number of the short climbs during the walk offer some classic Fleurieu farmland views.\n\nSome parts of the walk can be a little wet and boggy but native orchids\, grass trees and abundant birdlife more than compensate for any adverse conditions under foot.
URL:https://heysentrail.asn.au/walking-the-heysen-trail/walk-the-trail-with-the-friends/walk-calendar/tugwell-road-to-inman-valley-4/
CATEGORIES:End-to-End 11
END:VEVENT
BEGIN:VEVENT
DTSTART;VALUE=DATE:20160925
DTEND;VALUE=DATE:20160926
DTSTAMP:20260424T091547
CREATED:20160815T071347Z
LAST-MODIFIED:20200219T232433Z
UID:10004510-1474761600-1474761600@heysentrail.asn.au
SUMMARY:Chamber Gully loop
DESCRIPTION:A loop walk starting with a long climb to Greenhill Rd.\, follow the Wine Shanty to Mt. Lofty\,then to Eagle on the Hill and back to the start.\n\n22km  / approx.5hr
URL:https://heysentrail.asn.au/walking-the-heysen-trail/walk-the-trail-with-the-friends/walk-calendar/chamber-gully-loop/
CATEGORIES:Trail Walker
END:VEVENT
BEGIN:VEVENT
DTSTART;VALUE=DATE:20160927
DTEND;VALUE=DATE:20160928
DTSTAMP:20260424T091547
CREATED:20151110T070630Z
LAST-MODIFIED:20200219T232433Z
UID:10004504-1474934400-1474934400@heysentrail.asn.au
SUMMARY:Hahndorf - Bridgewater
DESCRIPTION:This walk follows the Pioneers Women’s Trail from where it begins in Hahndorf to a short distance beyond Bridgewater.\n\nMore information on this historic trail is available at https://www.walkingsa.org.au/walk/find-a-place-to-walk/pioneer-womens-trail-verdun-to-beaumont/ \n\n(Note that the downloadable map shows the trail starting at Verdun.)
URL:https://heysentrail.asn.au/walking-the-heysen-trail/walk-the-trail-with-the-friends/walk-calendar/hahndorf-bridgewater/
CATEGORIES:Trail Starter
END:VEVENT
BEGIN:VEVENT
DTSTART;VALUE=DATE:20161001
DTEND;VALUE=DATE:20161002
DTSTAMP:20260424T091547
CREATED:20160430T111459Z
LAST-MODIFIED:20200219T232434Z
UID:10004936-1475280000-1475280000@heysentrail.asn.au
SUMMARY:Lavender Federation Trail  Webb Gap to Manoora
DESCRIPTION:I AM SORRY TO SAY THIS WALK HAS BEEN CANCELLED DUE TO BUS NOT BEING ABLE TO GET US NO OUR STARTING PLACE.\n\nWE WILL COMPLETE THIS WALK IN EARLY NEXT YEAR.\n\nFinal walk on the Lavender Trail for this year.\n\nWe leave the Tothills behind us as we move west.  We pass a wind farm and on to Waterloo and then Manoora.
URL:https://heysentrail.asn.au/walking-the-heysen-trail/walk-the-trail-with-the-friends/walk-calendar/lavender-federation-trail-webb-gap-to-manoora/
CATEGORIES:End-to-End Lavender Trail
END:VEVENT
BEGIN:VEVENT
DTSTART;VALUE=DATE:20161002
DTEND;VALUE=DATE:20161003
DTSTAMP:20260424T091547
CREATED:20151109T033255Z
LAST-MODIFIED:20200219T232434Z
UID:10004833-1475366400-1475366400@heysentrail.asn.au
SUMMARY:Mt Barker
DESCRIPTION:From Laratinga Wetlands on Mount Barker Creek our ultimate destination is the Mount Barker summit. On a clear day views can be seen over the Lower Lakes of the Murray and west over the Onkaparinga Valley to Mount Lofty. Walking will be on the verge of some minor country roads until we reach the Conservation Reserve which offers a trail through open woodland. The understorey has a sparse layer of shrubs amongst which can be found a variety of native ground-cover and bulbous flowering plants.
URL:https://heysentrail.asn.au/walking-the-heysen-trail/walk-the-trail-with-the-friends/walk-calendar/mt-barker/
CATEGORIES:Trail Starter
END:VEVENT
BEGIN:VEVENT
DTSTART;VALUE=DATE:20161002
DTEND;VALUE=DATE:20161003
DTSTAMP:20260424T091547
CREATED:20151109T042347Z
LAST-MODIFIED:20200219T232434Z
UID:10004490-1475366400-1475366400@heysentrail.asn.au
SUMMARY:Cleland to Montacute Heights
DESCRIPTION:This spectacular section of the trail passes through the native bushland of cleland\, Horsnell Gully and Morialta Conservation Parks and along roadsides\, providing frequent vistas over Adelaide and the Hills.
URL:https://heysentrail.asn.au/walking-the-heysen-trail/walk-the-trail-with-the-friends/walk-calendar/cleland-to-montacute-heights-3/
CATEGORIES:End-to-End 10
END:VEVENT
BEGIN:VEVENT
DTSTART;VALUE=DATE:20161008
DTEND;VALUE=DATE:20161010
DTSTAMP:20260424T091547
CREATED:20151109T042529Z
LAST-MODIFIED:20200219T232434Z
UID:10004492-1475884800-1475971200@heysentrail.asn.au
SUMMARY:Wandallah to Newikie Creek to Dares Hill Summit Road
DESCRIPTION:SATURDAY 8 OCTOBER 2016\n\nThis remote section of the Heysen Trail gives walkers their first introduction to the grazing lands beyond Goyders Line. After Wandallah Shelter walking is undulating until turning east toward Sugar Loaf Range. The track then turns to the north where Newikie Creek is reached via White Hill Road and Black Jack Shelter. This is an exposed and undulating walk with some very nice views.\n\nSUNDAY 9 OCTOBER 2016\n\nThis section passes through Caroona Conservation Park and Tourilie Gorge\, which is one of the lessor known gems of the Trail. Look out for the remnants of an old bullock cut through the gorge.\n\nSATURDAY EVENING MEAL – Farrell Flat\n\nTHEME FOR THE WEEKEND – B (as in bikini\, beach\, bowling etc)\n\nNOTE – If you wish to walk on only one day\, please contact the FOHT office to register for that days walk. The online registering system will only allow you to register for both days.
URL:https://heysentrail.asn.au/walking-the-heysen-trail/walk-the-trail-with-the-friends/walk-calendar/wandallah-to-newikie-creek-to-dares-hill-summit-road-4/
CATEGORIES:End-to-End 8
END:VEVENT
BEGIN:VEVENT
DTSTART;VALUE=DATE:20161009
DTEND;VALUE=DATE:20161010
DTSTAMP:20260424T091547
CREATED:20151109T033818Z
LAST-MODIFIED:20200219T232434Z
UID:10004835-1475971200-1475971200@heysentrail.asn.au
SUMMARY:Shepherds Hill
DESCRIPTION:Exploring the parks of the face foothills. There are some good hills here as we cross gullies. shorter than usual trail walker but the hills make up for it.\n\nMostly on well made tracks with views.
URL:https://heysentrail.asn.au/walking-the-heysen-trail/walk-the-trail-with-the-friends/walk-calendar/shepherds-hill/
CATEGORIES:Trail Walker
END:VEVENT
BEGIN:VEVENT
DTSTART;VALUE=DATE:20161009
DTEND;VALUE=DATE:20161010
DTSTAMP:20260424T091547
CREATED:20160310T020027Z
LAST-MODIFIED:20200219T232434Z
UID:10004918-1475971200-1475971200@heysentrail.asn.au
SUMMARY:Linear Park Trail Athelstone
DESCRIPTION:A pleasant ramble on the Linear Park Trail\, walking on both sides of the Torrens\, much of the walk off the paved trail. A good walk in hot weather\, with several exit options.
URL:https://heysentrail.asn.au/walking-the-heysen-trail/walk-the-trail-with-the-friends/walk-calendar/linear-park-trail-athelstone/
CATEGORIES:Trail Starter
END:VEVENT
BEGIN:VEVENT
DTSTART;VALUE=DATE:20161015
DTEND;VALUE=DATE:20161017
DTSTAMP:20260424T091547
CREATED:20151109T042722Z
LAST-MODIFIED:20200219T232434Z
UID:10004494-1476489600-1476576000@heysentrail.asn.au
SUMMARY:Webb Gap to Burra Rd to Worlds End
DESCRIPTION:On Saturday…\n\nThe trail continues along the Tothill Range\, providing expansive views over the surrounding farmland and Apoinga Lagoon.\n\nOn Sunday…\n\nThe trail crosses undulating farmland before entering the scrubland of the Hallelujah Hills. The day finishes with an easy stroll to Worlds End Gorge.\n\nNOTE – If you wish to walk on only one day\, please contact the FOHT office to register for that days walk. The online registering system will only allow you to register for both days.
URL:https://heysentrail.asn.au/walking-the-heysen-trail/walk-the-trail-with-the-friends/walk-calendar/webb-gap-to-burra-rd-to-worlds-end/
CATEGORIES:End-to-End 9
END:VEVENT
BEGIN:VEVENT
DTSTART;VALUE=DATE:20161016
DTEND;VALUE=DATE:20161017
DTSTAMP:20260424T091547
CREATED:20151109T033933Z
LAST-MODIFIED:20200219T232434Z
UID:10004837-1476576000-1476576000@heysentrail.asn.au
SUMMARY:Cleland Conservation Park
DESCRIPTION:A loop walk around Cleland Wildlife Park\, and up to Mt Lofty Summit for Morning Tea. This includes the final steep 860 metres along the main Waterfall Gully to Mt Lofty Summit Track.  Walking SA are hosting walks in the area on the day\, and there will be marquees on the summit set up by the various walking clubs in SA (maybe including The FOHT).  So bring your own morning tea\, as the cafe is likely to be very busy!  The return route to the wildlife park is will depend on the weather.  An optional BBQ lunch using the free gas BBQ’s is planned after the walk.  BYO meat\, salad and drinks.\n\nBring your camera\, as Dingoes\, Yellow Footed Rock Wallabies\, Emus & Kangaroos are likely to be sighted through the perimeter fence.
URL:https://heysentrail.asn.au/walking-the-heysen-trail/walk-the-trail-with-the-friends/walk-calendar/cleland-conservation-park-3/
CATEGORIES:Trail Starter
END:VEVENT
BEGIN:VEVENT
DTSTART;VALUE=DATE:20161016
DTEND;VALUE=DATE:20161017
DTSTAMP:20260424T091547
CREATED:20151109T034055Z
LAST-MODIFIED:20200219T232434Z
UID:10004839-1476576000-1476576000@heysentrail.asn.au
SUMMARY:Beaumont Spur ( a walk through the Mt Osmond Reserve and Cleland Conservation Park )
DESCRIPTION:A challenging walk through the back of Beaumont up to Mt. Osmond\, onto the Old Bullock track then into and around Cleland Conservation Park\, exiting the park at the bottom of the Winter Track crossing over Waterfall Gully Rd and back into the Mount Osmond Reserve for the short walk back to the cars.\n\nThe actual walk through Cleland will be determined by the weather conditions on the day as it can be quite hot by mid October\, but will inevitably include some testing climbs.The trcks to be followed could include the Mirren\, Chinamans\, Carro\, Attunga\, Nangare and Wine Shanty Tracks.
URL:https://heysentrail.asn.au/walking-the-heysen-trail/walk-the-trail-with-the-friends/walk-calendar/beaumont-spur-a-walk-through-the-mt-osmond-reserve-and-cleland-conservation-park/
CATEGORIES:Trail Walker
END:VEVENT
BEGIN:VEVENT
DTSTART;VALUE=DATE:20161018
DTEND;VALUE=DATE:20161019
DTSTAMP:20260424T091547
CREATED:20160805T040632Z
LAST-MODIFIED:20200219T232434Z
UID:10004938-1476748800-1476748800@heysentrail.asn.au
SUMMARY:Walk Leader Training
DESCRIPTION:Walk Leading for the Friends.\n\nWhat is involved and how to do it.\n\nAn information session offered by experienced walk leaders.
URL:https://heysentrail.asn.au/walking-the-heysen-trail/walk-the-trail-with-the-friends/walk-calendar/walk-leader-training/
CATEGORIES:Other
END:VEVENT
BEGIN:VEVENT
DTSTART;VALUE=DATE:20161023
DTEND;VALUE=DATE:20161024
DTSTAMP:20260424T091547
CREATED:20151220T113444Z
LAST-MODIFIED:20200219T232434Z
UID:10004885-1477180800-1477180800@heysentrail.asn.au
SUMMARY:Inman Valley to Myponga
DESCRIPTION:A very undulating walk starting with a climb up Sugarloaf Hill and on to Moon Hill\, each offering spectactular rural views. With more ups & downs through the native bushland in the Myponga Conservation Park.\n\nThe back half of the day sees us walking through pretty farmland and along quiet country roads.\n\nAfter leaving the trail at Yulte Road we have a 2 klms walk to the cars.\n\nAfter the finish of the walk there will an end of season celebration with a Christmas Theme which we hope you all will stay for. A time to enjoy the company of your fellow walkers & reflect upon our first season on the Heysen Trail.\n\nSo bring something to share and maybe wear something to engender the forthcoming Christmas spirit and finish the season off in a joyous mood.
URL:https://heysentrail.asn.au/walking-the-heysen-trail/walk-the-trail-with-the-friends/walk-calendar/inman-valley-to-myponga-3/
CATEGORIES:End-to-End 11
END:VEVENT
BEGIN:VEVENT
DTSTART;VALUE=DATE:20161023
DTEND;VALUE=DATE:20161024
DTSTAMP:20260424T091547
CREATED:20160310T020245Z
LAST-MODIFIED:20200219T232434Z
UID:10004920-1477180800-1477180800@heysentrail.asn.au
SUMMARY:Waite Conservation
DESCRIPTION:Walk starts from the eastern end of Hartley Grove\, at the bottom of Wild Dog Glen looping around Waite Conservation Reserve.
URL:https://heysentrail.asn.au/walking-the-heysen-trail/walk-the-trail-with-the-friends/walk-calendar/waite-conservation/
CATEGORIES:Trail Starter
END:VEVENT
BEGIN:VEVENT
DTSTART;VALUE=DATE:20161023
DTEND;VALUE=DATE:20161024
DTSTAMP:20260424T091547
CREATED:20160310T020928Z
LAST-MODIFIED:20200219T232434Z
UID:10004922-1477180800-1477180800@heysentrail.asn.au
SUMMARY:Ambers Gully
DESCRIPTION:A great walk to test the skills\, with several sharp undulations.  See the best of the Black Hill Conservation Park in a morning walk\, being rewarded very quickly with magnificent views of Adelaide. Previous walks in this area have yielded kangaroos\, koalas and an echidna.\n\nSome recent uphill walking prior to participating would be an advantage. \n\nWalk through the Sugar Loaves\, then a steep track down to Ghost Tree Gully and up the Summit Link trail.  Downhill from here\, meandering along the Ambers Gully track\, to the car park. \n\nShould be comfortable 3 Â½ hours\, but have allowed plenty of time for the ups.\n\nMeal after at CafÃ© Va Bene\, Gorge Rd\, Campbelltown optional.  Please let me know if you would like a meal in the notes\, as being Sunday lunch\, we may need to book a table.
URL:https://heysentrail.asn.au/walking-the-heysen-trail/walk-the-trail-with-the-friends/walk-calendar/ambers-gully-7/
CATEGORIES:Trail Starter
END:VEVENT
BEGIN:VEVENT
DTSTART;VALUE=DATE:20161102
DTEND;VALUE=DATE:20161103
DTSTAMP:20260424T091547
CREATED:20161024T005427Z
LAST-MODIFIED:20200219T232434Z
UID:10004512-1478044800-1478044800@heysentrail.asn.au
SUMMARY:Marino Sheep Walk
DESCRIPTION:Yes there are merino sheep at Marino! We may even see them as we explore what Marino has to offer: secret gullies\, cliff top paths\, artworks\, parks\, lighthouse\, amazing rocky beach and stunning city and sea views.\n\nThis walk will include steps\, hills and some uneven ground. so a reasonable level of walking fitness is required\, however the pace will be relaxed.\n\nMarino is also well known for snakes and so please wear good footwear and remain alert while walking. \n\nThe walk will be followed by an optional meal at a local hotel.
URL:https://heysentrail.asn.au/walking-the-heysen-trail/walk-the-trail-with-the-friends/walk-calendar/marino-sheep-walk/
CATEGORIES:Summer Walks
END:VEVENT
BEGIN:VEVENT
DTSTART;VALUE=DATE:20161106
DTEND;VALUE=DATE:20161107
DTSTAMP:20260424T091547
CREATED:20151212T104713Z
LAST-MODIFIED:20200219T232434Z
UID:10004506-1478390400-1478390400@heysentrail.asn.au
SUMMARY:Montacute Heights to Cudlee Creek
DESCRIPTION:After an initial road walk\, the trail makes a very long and steep descent to Sixth Creek before climbing again through Montacute Conservation Park and Mt Crawford Forest Reserve.  A pleasant walk past the pretty private gardens along Holland Creek Road completes the section.
URL:https://heysentrail.asn.au/walking-the-heysen-trail/walk-the-trail-with-the-friends/walk-calendar/montacute-heights-to-cudlee-creek-3/
CATEGORIES:End-to-End 10
END:VEVENT
BEGIN:VEVENT
DTSTART;VALUE=DATE:20161109
DTEND;VALUE=DATE:20161110
DTSTAMP:20260424T091547
CREATED:20161024T005607Z
LAST-MODIFIED:20200219T232434Z
UID:10004514-1478649600-1478649600@heysentrail.asn.au
SUMMARY:Thai on Hutt
DESCRIPTION:Thai on Hutt is a short walk through the eastern Parklands on level ground.  I have it on good authority (from she who must be obeyed) that the Thai Restaurant is as authentic as possible south of Bangkok.  For an idea of the menu and price\, Google Kin Kin Thai.\n\nAfter the meal we will return with less spring to our steps to our starting point once again through Victoria Park.  No need to bring heavy trekking equipment.  Wallets required!
URL:https://heysentrail.asn.au/walking-the-heysen-trail/walk-the-trail-with-the-friends/walk-calendar/thai-on-hutt/
CATEGORIES:Summer Walks
END:VEVENT
BEGIN:VEVENT
DTSTART;VALUE=DATE:20161116
DTEND;VALUE=DATE:20161117
DTSTAMP:20260424T091547
CREATED:20161024T005726Z
LAST-MODIFIED:20200219T232434Z
UID:10004516-1479254400-1479254400@heysentrail.asn.au
SUMMARY:Fifth Creek Wade
DESCRIPTION:A pleasant amble along 5th Creek\, from its beginning at the Torrens to where we leave it at Black Hill.
URL:https://heysentrail.asn.au/walking-the-heysen-trail/walk-the-trail-with-the-friends/walk-calendar/fifth-creek-wade/
CATEGORIES:Summer Walks
END:VEVENT
END:VCALENDAR