BEGIN:VCALENDAR
VERSION:2.0
PRODID:-//Friends of the Heysen Trail - ECPv6.15.20//NONSGML v1.0//EN
CALSCALE:GREGORIAN
METHOD:PUBLISH
X-WR-CALNAME:Friends of the Heysen Trail
X-ORIGINAL-URL:https://heysentrail.asn.au
X-WR-CALDESC:Events for Friends of the Heysen Trail
REFRESH-INTERVAL;VALUE=DURATION:PT1H
X-Robots-Tag:noindex
X-PUBLISHED-TTL:PT1H
BEGIN:VTIMEZONE
TZID:Australia/Adelaide
BEGIN:STANDARD
TZOFFSETFROM:+1030
TZOFFSETTO:+0930
TZNAME:ACST
DTSTART:20120331T163000
END:STANDARD
BEGIN:DAYLIGHT
TZOFFSETFROM:+0930
TZOFFSETTO:+1030
TZNAME:ACDT
DTSTART:20121006T163000
END:DAYLIGHT
BEGIN:STANDARD
TZOFFSETFROM:+1030
TZOFFSETTO:+0930
TZNAME:ACST
DTSTART:20130406T163000
END:STANDARD
BEGIN:DAYLIGHT
TZOFFSETFROM:+0930
TZOFFSETTO:+1030
TZNAME:ACDT
DTSTART:20131005T163000
END:DAYLIGHT
BEGIN:STANDARD
TZOFFSETFROM:+1030
TZOFFSETTO:+0930
TZNAME:ACST
DTSTART:20140405T163000
END:STANDARD
BEGIN:DAYLIGHT
TZOFFSETFROM:+0930
TZOFFSETTO:+1030
TZNAME:ACDT
DTSTART:20141004T163000
END:DAYLIGHT
END:VTIMEZONE
BEGIN:VEVENT
DTSTART;VALUE=DATE:20131205
DTEND;VALUE=DATE:20131206
DTSTAMP:20260425T224339
CREATED:20130915T085719Z
LAST-MODIFIED:20200219T232351Z
UID:10004447-1386201600-1386201600@heysentrail.asn.au
SUMMARY:River Torrens Linear Park / Campbelltown
DESCRIPTION:A loop walk along the River Torrens Linear Park including highlights of the model ‘green village’ at Lochiel Park.\n\nBarbeque in park on return or dinner at Va Bene Cafe nearby.
URL:https://heysentrail.asn.au/walking-the-heysen-trail/walk-the-trail-with-the-friends/walk-calendar/river-torrens-linear-park-campbelltown/
CATEGORIES:Summer Walks
END:VEVENT
BEGIN:VEVENT
DTSTART;VALUE=DATE:20131127
DTEND;VALUE=DATE:20131128
DTSTAMP:20260425T224339
CREATED:20130915T085626Z
LAST-MODIFIED:20200219T232351Z
UID:10004445-1385510400-1385510400@heysentrail.asn.au
SUMMARY:Semaphore Largs Bay Beach Walk
DESCRIPTION:Walk the beach from Semaphore to Fort Largs\, check out the fort and the Snakepit and then amble back along the boardwalk to Semaphore for dinner at the Semaphore Pub\, the only pub I ever had a key for!!
URL:https://heysentrail.asn.au/walking-the-heysen-trail/walk-the-trail-with-the-friends/walk-calendar/semaphore-largs-bay-beach-walk/
CATEGORIES:Summer Walks
END:VEVENT
BEGIN:VEVENT
DTSTART;VALUE=DATE:20131120
DTEND;VALUE=DATE:20131121
DTSTAMP:20260425T224339
CREATED:20130915T085545Z
LAST-MODIFIED:20200219T232351Z
UID:10004443-1384905600-1384905600@heysentrail.asn.au
SUMMARY:Adelaide Uncovered
DESCRIPTION:A meandering walk through Adelaide’s West End exploring laneways and visual art.
URL:https://heysentrail.asn.au/walking-the-heysen-trail/walk-the-trail-with-the-friends/walk-calendar/adelaide-uncovered/
CATEGORIES:Summer Walks
END:VEVENT
BEGIN:VEVENT
DTSTART;VALUE=DATE:20131117
DTEND;VALUE=DATE:20131118
DTSTAMP:20260425T224339
CREATED:20130507T031255Z
LAST-MODIFIED:20200219T232351Z
UID:10004431-1384646400-1384646400@heysentrail.asn.au
SUMMARY:End of Year Bash\, BBQ + Band
DESCRIPTION:Come and see your President boogie to the tune of the foot-tapping Bogaduck Band at the beautiful Paxton Winery in McLaren Vale.\n\nSunday 17 November\, 12-5pm\n\n$20 per person\n\nBefores\, bbq and artisan bread provided. Wine for purchase by the bottle or glass\, cash only\, no BYO. Bring beer or soft drink\, bring Salad or Dessert to share\, chair or rug\, plates & cutlery.\n\nPaxton Winery\n\nLot 100 Wheaton Road\, McLaren Vale
URL:https://heysentrail.asn.au/walking-the-heysen-trail/walk-the-trail-with-the-friends/walk-calendar/end-of-year-bash-bbq-band/
CATEGORIES:Social
END:VEVENT
BEGIN:VEVENT
DTSTART;VALUE=DATE:20131113
DTEND;VALUE=DATE:20131114
DTSTAMP:20260425T224339
CREATED:20130915T085244Z
LAST-MODIFIED:20200219T232351Z
UID:10004441-1384300800-1384300800@heysentrail.asn.au
SUMMARY:Marino Coastal Walk
DESCRIPTION:Coastal cliffs walk from Marino to Hallett Cove Conservation Park and return.\n\nThere are board walks along the erosion prone cliffs and formed paths beside the gullies.\n\nIt is also an opportunity to explore interesting geological features and the sites vital to Tjilbruke legend.\n\nAt the end of the walk you can join us for fish and chips at Marino Rocks Cafe.
URL:https://heysentrail.asn.au/walking-the-heysen-trail/walk-the-trail-with-the-friends/walk-calendar/marino-coastal-walk/
CATEGORIES:Summer Walks
END:VEVENT
BEGIN:VEVENT
DTSTART;VALUE=DATE:20131110
DTEND;VALUE=DATE:20131111
DTSTAMP:20260425T224339
CREATED:20121204T052103Z
LAST-MODIFIED:20200219T232351Z
UID:10004357-1384041600-1384041600@heysentrail.asn.au
SUMMARY:Inman Valley to James Track
DESCRIPTION:A very undulating walk starting with a testing climb up Sugarloaf Hill and on to Moon Hill. The trail then leads into Myponga CP where we will be rewarded with good views and a few more steep ups and downs. The second half of the day sees us walking along pretty rural backroads towards Myponga. There is a 2km walk to the cars after leaving the trail on Yulte Road.
URL:https://heysentrail.asn.au/walking-the-heysen-trail/walk-the-trail-with-the-friends/walk-calendar/inman-valley-to-james-track/
CATEGORIES:End-to-End 8
END:VEVENT
BEGIN:VEVENT
DTSTART;VALUE=DATE:20131107
DTEND;VALUE=DATE:20131108
DTSTAMP:20260425T224339
CREATED:20130915T083449Z
LAST-MODIFIED:20200219T232351Z
UID:10004435-1383782400-1383782400@heysentrail.asn.au
SUMMARY:Walk Planning and Volunteers BBQ
DESCRIPTION:This is the night that the Council puts on a thank you BBQ for all the volunteers that make the FOHT run so well. \n\nBefore the BBQ walk leaders meet to plan the next walking season.\n\nPlanning meeting at 6pm followed by the BBQ at 7pm.
URL:https://heysentrail.asn.au/walking-the-heysen-trail/walk-the-trail-with-the-friends/walk-calendar/walk-planning-and-volunteers-bbq/
CATEGORIES:Other
END:VEVENT
BEGIN:VEVENT
DTSTART;VALUE=DATE:20131106
DTEND;VALUE=DATE:20131107
DTSTAMP:20260425T224339
CREATED:20130915T085142Z
LAST-MODIFIED:20200219T232351Z
UID:10004439-1383696000-1383696000@heysentrail.asn.au
SUMMARY:Chambers Gully
DESCRIPTION:This loop will take us through some lovely natural bushland close to Adelaide. Although there is a steady climb it is not steep and gives great views of Adelaide. The area has many Koalas and kangaroos. Optional Indian meal at end of walk
URL:https://heysentrail.asn.au/walking-the-heysen-trail/walk-the-trail-with-the-friends/walk-calendar/chambers-gully/
CATEGORIES:Summer Walks
END:VEVENT
BEGIN:VEVENT
DTSTART;VALUE=DATE:20131103
DTEND;VALUE=DATE:20131104
DTSTAMP:20260425T224339
CREATED:20121204T052040Z
LAST-MODIFIED:20200219T232351Z
UID:10004355-1383436800-1383436800@heysentrail.asn.au
SUMMARY:Second Creek to source
DESCRIPTION:A walk with everything. Street ramble\, parks\, historic sites\, bush trails\, and off trail hills.\n\nStarting on the Torrens I plan to follow the line of Second Creek\, through St Peters\, Stepney\, Norwood\, Marryatville\, and Burnside\, before climbing into the foothills\, and the wilds of Slapes gully.\n\nWill park vehicles at the end of the walk and  bus to the start.
URL:https://heysentrail.asn.au/walking-the-heysen-trail/walk-the-trail-with-the-friends/walk-calendar/second-creek-to-source/
CATEGORIES:Trail Walker
END:VEVENT
BEGIN:VEVENT
DTSTART;VALUE=DATE:20131102
DTEND;VALUE=DATE:20131104
DTSTAMP:20260425T224339
CREATED:20121204T052000Z
LAST-MODIFIED:20200219T232351Z
UID:10004353-1383350400-1383436800@heysentrail.asn.au
SUMMARY:Locks Ruin to Bowman Park to Mt Zion
DESCRIPTION:SATURDAY\n\nAn easy walk\, predominantly along roads and road reserves\, this section takes us through the town of Crystal Brook\, then follows the Crystal Brook itself to historic Bowman Park.\n\nSUNDAY\n\nBegining as a pleasant walk along the Crystal Brook\, past the southern most hills of the Flinders Ranges\, the Trail gradually climbs to the top of the range to reveal views over Port Pirie and Spencer Gulf.
URL:https://heysentrail.asn.au/walking-the-heysen-trail/walk-the-trail-with-the-friends/walk-calendar/locks-ruin-to-bowman-park-to-mt-zion/
CATEGORIES:End-to-End 5
END:VEVENT
BEGIN:VEVENT
DTSTART;VALUE=DATE:20131030
DTEND;VALUE=DATE:20131031
DTSTAMP:20260425T224339
CREATED:20130915T085014Z
LAST-MODIFIED:20200219T232351Z
UID:10004438-1383091200-1383091200@heysentrail.asn.au
SUMMARY:Torrens Linear Park - Western end
DESCRIPTION:This walk is along the River Torrens linear path.\n\nOptional dinner at the Lockleys Hotel after the walk.
URL:https://heysentrail.asn.au/walking-the-heysen-trail/walk-the-trail-with-the-friends/walk-calendar/torrens-linear-park-western-end/
CATEGORIES:Summer Walks
END:VEVENT
BEGIN:VEVENT
DTSTART;VALUE=DATE:20131027
DTEND;VALUE=DATE:20131028
DTSTAMP:20260425T224339
CREATED:20121204T051920Z
LAST-MODIFIED:20200219T232351Z
UID:10004351-1382832000-1382832000@heysentrail.asn.au
SUMMARY:Crafers
DESCRIPTION:A walk mostly on roads.\n\nUsing parts of the George Driscoll Sea to Summit Trail and the Yurrebilla Trail we decend from Crafers into Brownhill Creek via Belair National Park … and than climb all the way out again via a more direct route
URL:https://heysentrail.asn.au/walking-the-heysen-trail/walk-the-trail-with-the-friends/walk-calendar/crafers/
CATEGORIES:Trail Walker
END:VEVENT
BEGIN:VEVENT
DTSTART;VALUE=DATE:20131027
DTEND;VALUE=DATE:20131028
DTSTAMP:20260425T224339
CREATED:20121204T051821Z
LAST-MODIFIED:20200219T232351Z
UID:10004349-1382832000-1382832000@heysentrail.asn.au
SUMMARY:Maslins to Willunga
DESCRIPTION:An easy walk along the cliffs with sea and country views. May see the occasional seal or perhaps dolphins and if still around maybe a whale.\n\n80% flat with a few gully’s and inclines.\n\nOpportunity for coffee at Star of Greece\, Willunga if not too busy\n\nIt is a linear walk approx. 10 ks
URL:https://heysentrail.asn.au/walking-the-heysen-trail/walk-the-trail-with-the-friends/walk-calendar/maslins-to-willunga/
CATEGORIES:Trail Starter
END:VEVENT
BEGIN:VEVENT
DTSTART;VALUE=DATE:20131027
DTEND;VALUE=DATE:20131028
DTSTAMP:20260425T224339
CREATED:20121204T051708Z
LAST-MODIFIED:20200219T232351Z
UID:10004216-1382832000-1382832000@heysentrail.asn.au
SUMMARY:Montacute Heights to Cudlee Ck
DESCRIPTION:After an initial road walk\, the trail makes a very long and steep descent to Sixth Creek before climbing again through Montacute Conservation Park and Mt Crawford Forest Reserve. A pleasant walk past the pretty private gardens along Holland Creek Road completes the section.
URL:https://heysentrail.asn.au/walking-the-heysen-trail/walk-the-trail-with-the-friends/walk-calendar/montacute-heights-to-cudlee-ck/
CATEGORIES:End-to-End 7
END:VEVENT
BEGIN:VEVENT
DTSTART;VALUE=DATE:20131026
DTEND;VALUE=DATE:20131028
DTSTAMP:20260425T224339
CREATED:20121204T051742Z
LAST-MODIFIED:20200219T232351Z
UID:10004217-1382745600-1382832000@heysentrail.asn.au
SUMMARY:Locks Ruin to E Smith Rd to Curnow's Hut
DESCRIPTION:Theme: “Cops and Robbers”. Budget cell accommodation is available for everyone at Gladstone Gaol: $15/person/night or $20/person/night with linen provided.\n\nSat.26th: From Lock’s Ruin we head east thru farmland to cross the Rocky River and then some lumpy stuff to Hiskey’s Hut where we will have a “nature stop” to water young trees planted by the Greening Committee. Then its road walking on through Georgetown and along Lehmann’s Rd. to the cars.\n\nSun.27th: Today we head North! We quickly climb to the ridge which takes us up and down and thru more farmland and across to Bundaleer Forest. We take a re-route away from the burnt areas of the forest and along Springs Rd. to Curnow’s Hut.\n\nNOTE: The walks may be altered/shortened due to weather conditions.
URL:https://heysentrail.asn.au/walking-the-heysen-trail/walk-the-trail-with-the-friends/walk-calendar/locks-ruin-to-e-smith-rd-to-curnows-hut/
CATEGORIES:End-to-End Minus 1
END:VEVENT
BEGIN:VEVENT
DTSTART;VALUE=DATE:20131023
DTEND;VALUE=DATE:20131024
DTSTAMP:20260425T224339
CREATED:20130915T084848Z
LAST-MODIFIED:20200219T232351Z
UID:10004437-1382486400-1382486400@heysentrail.asn.au
SUMMARY:West Park Lands
DESCRIPTION:Exploring the sculpture trail along the Western Parklands and into Bonython Park.\n\nDinner at Adelaide Pho
URL:https://heysentrail.asn.au/walking-the-heysen-trail/walk-the-trail-with-the-friends/walk-calendar/west-park-lands/
CATEGORIES:Summer Walks
END:VEVENT
BEGIN:VEVENT
DTSTART;VALUE=DATE:20131020
DTEND;VALUE=DATE:20131021
DTSTAMP:20260425T224339
CREATED:20121204T051644Z
LAST-MODIFIED:20200219T232351Z
UID:10004215-1382227200-1382227200@heysentrail.asn.au
SUMMARY:Deep Creek Conservation Park
DESCRIPTION:This walk will cover some of the best areas of deep Creek Conservation Park. It will be challenging in places\, you will pass thru thick native scrub\, past a waterfall to a cove and spectacular coastal scenery. There should be plenty of native animals and wildflower’s in this remote area.\n\nYou will need to get a day pass to the park\, at the self registration point as you near Trig camp ground.
URL:https://heysentrail.asn.au/walking-the-heysen-trail/walk-the-trail-with-the-friends/walk-calendar/deep-creek-conservation-park/
CATEGORIES:Trail Walker
END:VEVENT
BEGIN:VEVENT
DTSTART;VALUE=DATE:20131020
DTEND;VALUE=DATE:20131021
DTSTAMP:20260425T224339
CREATED:20121204T051620Z
LAST-MODIFIED:20200219T232351Z
UID:10004214-1382227200-1382227200@heysentrail.asn.au
SUMMARY:Scott Creek
DESCRIPTION:Follow fire trails and tracks through the Scott’s Creek Conservation Park. Catch the last of the spring orchids and some lovely views across the valley.
URL:https://heysentrail.asn.au/walking-the-heysen-trail/walk-the-trail-with-the-friends/walk-calendar/scott-creek-2/
CATEGORIES:Trail Starter
END:VEVENT
BEGIN:VEVENT
DTSTART;VALUE=DATE:20131019
DTEND;VALUE=DATE:20131021
DTSTAMP:20260425T224339
CREATED:20121204T051530Z
LAST-MODIFIED:20200219T232351Z
UID:10004213-1382140800-1382227200@heysentrail.asn.au
SUMMARY:Kapunda to Hamilton to Peters Hill
DESCRIPTION:SATURDAY: From Kapunda we head northwest along backroads and tracks to Black Joes Road\, then mainly north along fence lines and tracks to the old telephone exchange at the crossroads.  The walk is over undulating mainly open country of the lower North Mount Lofty Ranges.\n\nSUNDAY: A pleasant walk along back roads and road reserves of open scrubland. After the short walk up Peters Hill\, walkers are rewarded with pretty vistas over the farmlands of the Lower North.  We will take a short detour to visit Marshalls Hut.\n\nNOTE – If you wish to walk on only one day\, please contact the FOHT office to register for that day.  The online registering system will only allow you to register for both walking days.\n\nThe THEME for the weekend will be HALLOWEEN.  Unlike our usual themes the theme will extend into the Saturday night dinner.
URL:https://heysentrail.asn.au/walking-the-heysen-trail/walk-the-trail-with-the-friends/walk-calendar/kapunda-to-hamilton-to-peters-hill/
CATEGORIES:End-to-End 6
END:VEVENT
BEGIN:VEVENT
DTSTART;VALUE=DATE:20131013
DTEND;VALUE=DATE:20131014
DTSTAMP:20260425T224339
CREATED:20121204T051502Z
LAST-MODIFIED:20200219T232350Z
UID:10004212-1381622400-1381622400@heysentrail.asn.au
SUMMARY:Newland Head
DESCRIPTION:Loop walk through Newland Head Conservation Park which includes part of Heysen Trail. This beautiful coastal walk starts from Waitpinga Beach passing through sand dunes and mainly coastal vegetation. Views across Waitinga and Parsons Beaches to Kangaroo Island can be enjoyed at the lookout. Walking along the cliff tops is a rewarding section with views towards the Bluff. The trail is sandy with lots of exposed tree roots.
URL:https://heysentrail.asn.au/walking-the-heysen-trail/walk-the-trail-with-the-friends/walk-calendar/newland-head/
CATEGORIES:Trail Walker
END:VEVENT
BEGIN:VEVENT
DTSTART;VALUE=DATE:20131013
DTEND;VALUE=DATE:20131014
DTSTAMP:20260425T224339
CREATED:20121204T051437Z
LAST-MODIFIED:20200219T232350Z
UID:10004211-1381622400-1381622400@heysentrail.asn.au
SUMMARY:Sturt Gorge
DESCRIPTION:We will explore a few of the tracks at the western end of Sturt Gorge and perhaps see the river in flow. Depending on the day we may exit the gorge and explore the pine forest and lake on the campus of Flinders University.  There could be some ups and downs on dirt paths so shoes with good grip are recommended. Start time 8.30am. Plan to finish around12.30pm. Bring morning tea to have on the trail. There is a lovely park at the start/ end where you can enjoy a picnic lunch.
URL:https://heysentrail.asn.au/walking-the-heysen-trail/walk-the-trail-with-the-friends/walk-calendar/sturt-gorge/
CATEGORIES:Trail Starter
END:VEVENT
BEGIN:VEVENT
DTSTART;VALUE=DATE:20131013
DTEND;VALUE=DATE:20131014
DTSTAMP:20260425T224339
CREATED:20121204T051419Z
LAST-MODIFIED:20200219T232350Z
UID:10004210-1381622400-1381622400@heysentrail.asn.au
SUMMARY:Tugwell Road to Inman Valley
DESCRIPTION:A Gentle undulating walk.  This section follows country roads\, farm fencelines and attractive road reserves. Native orchids\, grass trees\, abundant birdlife and classic Fleurieu farmland views make this a walk to remember. Take time out to explore the church ruin and graveyard on Hancock Rd above Inman Valley.
URL:https://heysentrail.asn.au/walking-the-heysen-trail/walk-the-trail-with-the-friends/walk-calendar/tugwell-road-to-inman-valley/
CATEGORIES:End-to-End 8
END:VEVENT
BEGIN:VEVENT
DTSTART;VALUE=DATE:20131012
DTEND;VALUE=DATE:20131014
DTSTAMP:20260425T224339
CREATED:20121204T051327Z
LAST-MODIFIED:20200219T232350Z
UID:10004209-1381536000-1381622400@heysentrail.asn.au
SUMMARY:Dutchmans Stern car park to Eyre Depot\, Quorn to Dutchmans Stern
DESCRIPTION:Saturday 12th. We do the long day today! After leaving the cars at Dutchmans Car Park\, we walk around the Stern\, then head down (unexpectly) through a lovely gorgette\, and after a climb or two\, arrive on the western margin of the ranges. Then a rather tiring traverse along a fence line to Eyre Depot. We won’t get closer than this to the western plains.\n\n  Sunday 13th. From Quorn we head north-west through fields and then pleasant foothills  into the Dutchmans Stern Conservation Park. We then divert from the Trail to do the Dutchmans Loop\, visiting the summit for superb views in all directions. We should be able to see Wilpena Pound.Please note-you will be “Qing” on Saturday night. Theme – QI (Quorn Inspirations). “Q” or “Quorn”. 6.30pm join the quiet queue of quaint walkers taking a quick quench while quizzing the leaders about the quirks of the Heysen Trail ahead of quaffing to quell the quibbles at Quorn Community Hall.
URL:https://heysentrail.asn.au/walking-the-heysen-trail/walk-the-trail-with-the-friends/walk-calendar/dutchmans-stern-car-park-to-eyre-depot-quorn-to-dutchmans-stern/
CATEGORIES:End-to-End 4
END:VEVENT
BEGIN:VEVENT
DTSTART;VALUE=DATE:20131009
DTEND;VALUE=DATE:20131010
DTSTAMP:20260425T224339
CREATED:20121204T052152Z
LAST-MODIFIED:20200219T232350Z
UID:10004359-1381276800-1381276800@heysentrail.asn.au
SUMMARY:First Twilight Walk of the season
DESCRIPTION:First Twilight Walk of the season.\n\nTwilight Walks will follow on Wednesday nights during daylight saving time.
URL:https://heysentrail.asn.au/walking-the-heysen-trail/walk-the-trail-with-the-friends/walk-calendar/first-twilight-walk-of-the-season/
CATEGORIES:Summer Walks
END:VEVENT
BEGIN:VEVENT
DTSTART;VALUE=DATE:20131006
DTEND;VALUE=DATE:20131007
DTSTAMP:20260425T224339
CREATED:20130326T123649Z
LAST-MODIFIED:20200219T232350Z
UID:10004429-1381017600-1381017600@heysentrail.asn.au
SUMMARY:Section 59: Bunyeroo to Aroona Hut
DESCRIPTION:In this section walkers climb from Bunyeroo Valley\, up to Yanyanna Hut\, passing several vantage points along the way that provide superb photo opportunities of the ranges behind. Continuing along Yanyanna Track\, the trail passes old settlers huts before entering the geologically significant Trezona area. The pleasant walk continues along Brachina and Enorama creeks past the Golden Spike and other significant geological sites\, before climbing to cross the ABC Range\, where spectacular views of the Heysen Range unfold.
URL:https://heysentrail.asn.au/walking-the-heysen-trail/walk-the-trail-with-the-friends/walk-calendar/section-59-bunyeroo-to-aroona-hut/
CATEGORIES:Warren Bonython Memorial Walk
END:VEVENT
BEGIN:VEVENT
DTSTART;VALUE=DATE:20131006
DTEND;VALUE=DATE:20131007
DTSTAMP:20260425T224339
CREATED:20130326T123648Z
LAST-MODIFIED:20200219T232350Z
UID:10004427-1381017600-1381017600@heysentrail.asn.au
SUMMARY:Section 55: Leigh Creek Road to Red Range
DESCRIPTION:A classic Flinders Ranges creek walk\, the whole day is spent in Wonoka Creek which has been the site of a couple of major floods in recent years. The trail continues along creeks following the picturesque Mernmerna Creek and Slaty Creek to the Red Range campsite.
URL:https://heysentrail.asn.au/walking-the-heysen-trail/walk-the-trail-with-the-friends/walk-calendar/section-55-leigh-creek-road-to-red-range/
CATEGORIES:Warren Bonython Memorial Walk
END:VEVENT
BEGIN:VEVENT
DTSTART;VALUE=DATE:20131006
DTEND;VALUE=DATE:20131007
DTSTAMP:20260425T224339
CREATED:20130326T123647Z
LAST-MODIFIED:20200219T232350Z
UID:10004425-1381017600-1381017600@heysentrail.asn.au
SUMMARY:Section 49: Dutchmans Stern to Eyre Depot
DESCRIPTION:This is a deceptively tough walk with a bit of everything – undulating firetracks with spectacular views\, a rocky gorge and a gibber strewn floodplain.
URL:https://heysentrail.asn.au/walking-the-heysen-trail/walk-the-trail-with-the-friends/walk-calendar/section-49-dutchmans-stern-to-eyre-depot/
CATEGORIES:Warren Bonython Memorial Walk
END:VEVENT
BEGIN:VEVENT
DTSTART;VALUE=DATE:20131006
DTEND;VALUE=DATE:20131007
DTSTAMP:20260425T224339
CREATED:20130325T100200Z
LAST-MODIFIED:20200219T232348Z
UID:10004223-1381017600-1381017600@heysentrail.asn.au
SUMMARY:Section 8: Myponga to Mt Compass
DESCRIPTION:After a short road walk\, the trail enters the small but picturesque Yulte Conservation Park. After emerging from the bushland\, the trail crosses open farmland continuing along Lawless Rd (and the Myponga Pistol Club firing range)\, and gradually climbing to Mt Cone\, which offers distant views over Victor Harbor to the South.
URL:https://heysentrail.asn.au/walking-the-heysen-trail/walk-the-trail-with-the-friends/walk-calendar/section-8-myponga-to-mt-compass/
CATEGORIES:Warren Bonython Memorial Walk
END:VEVENT
BEGIN:VEVENT
DTSTART;VALUE=DATE:20131006
DTEND;VALUE=DATE:20131007
DTSTAMP:20260425T224339
CREATED:20130325T100200Z
LAST-MODIFIED:20200219T232349Z
UID:10004241-1381017600-1381017600@heysentrail.asn.au
SUMMARY:Section 38: Locks Ruin to Bowman Park
DESCRIPTION:An easy walk\, predominantly along roads and road reserves\, this section takes us through the town of Crystal Brook\, then follows the Crystal Brook itself to historic Bowman Park.
URL:https://heysentrail.asn.au/walking-the-heysen-trail/walk-the-trail-with-the-friends/walk-calendar/section-38-locks-ruin-to-bowman-park/
CATEGORIES:Warren Bonython Memorial Walk
END:VEVENT
BEGIN:VEVENT
DTSTART;VALUE=DATE:20131006
DTEND;VALUE=DATE:20131007
DTSTAMP:20260425T224339
CREATED:20130325T100200Z
LAST-MODIFIED:20200219T232350Z
UID:10004256-1381017600-1381017600@heysentrail.asn.au
SUMMARY:Section 46: Horrocks Pass to Broadview
DESCRIPTION:Starting with a tough climb out of Horrocks Pass to the ridge\, the Trail traverses exposed\, gibber littered hills and farmland. Walkers are rewarded with views over the Willochra Plain.
URL:https://heysentrail.asn.au/walking-the-heysen-trail/walk-the-trail-with-the-friends/walk-calendar/section-46-horrocks-pass-to-broadview/
CATEGORIES:Warren Bonython Memorial Walk
END:VEVENT
END:VCALENDAR