BEGIN:VCALENDAR
VERSION:2.0
PRODID:-//Friends of the Heysen Trail - ECPv6.15.20//NONSGML v1.0//EN
CALSCALE:GREGORIAN
METHOD:PUBLISH
X-WR-CALNAME:Friends of the Heysen Trail
X-ORIGINAL-URL:https://heysentrail.asn.au
X-WR-CALDESC:Events for Friends of the Heysen Trail
REFRESH-INTERVAL;VALUE=DURATION:PT1H
X-Robots-Tag:noindex
X-PUBLISHED-TTL:PT1H
BEGIN:VTIMEZONE
TZID:Australia/Adelaide
BEGIN:STANDARD
TZOFFSETFROM:+1030
TZOFFSETTO:+0930
TZNAME:ACST
DTSTART:20140405T163000
END:STANDARD
BEGIN:DAYLIGHT
TZOFFSETFROM:+0930
TZOFFSETTO:+1030
TZNAME:ACDT
DTSTART:20141004T163000
END:DAYLIGHT
BEGIN:STANDARD
TZOFFSETFROM:+1030
TZOFFSETTO:+0930
TZNAME:ACST
DTSTART:20150404T163000
END:STANDARD
BEGIN:DAYLIGHT
TZOFFSETFROM:+0930
TZOFFSETTO:+1030
TZNAME:ACDT
DTSTART:20151003T163000
END:DAYLIGHT
BEGIN:STANDARD
TZOFFSETFROM:+1030
TZOFFSETTO:+0930
TZNAME:ACST
DTSTART:20160402T163000
END:STANDARD
BEGIN:DAYLIGHT
TZOFFSETFROM:+0930
TZOFFSETTO:+1030
TZNAME:ACDT
DTSTART:20161001T163000
END:DAYLIGHT
BEGIN:STANDARD
TZOFFSETFROM:+1030
TZOFFSETTO:+0930
TZNAME:ACST
DTSTART:20170401T163000
END:STANDARD
BEGIN:DAYLIGHT
TZOFFSETFROM:+0930
TZOFFSETTO:+1030
TZNAME:ACDT
DTSTART:20170930T163000
END:DAYLIGHT
END:VTIMEZONE
BEGIN:VEVENT
DTSTART;VALUE=DATE:20160417
DTEND;VALUE=DATE:20160418
DTSTAMP:20260426T021252
CREATED:20151212T113520Z
LAST-MODIFIED:20200219T232409Z
UID:10004871-1460851200-1460851200@heysentrail.asn.au
SUMMARY:Lavender Trail meets Heysen Trail
DESCRIPTION:The Lavender Trail meets the Heysen Trail at Webb Gap.\n\nOur walk begins as a leisurely stroll on the Heysen Trail along Kernchens Road to Webb Gap Road. A short climb gets us to the top of Webb Gap and a typical Heysen trail campsite where we will have morning tea. Then its an easy wander down to the opening ceremony.\n\n12noon: Opening Ceremony at Junction of the trails. We will then head to Peppermint Springs via a fairly direct route.\n\n1pm: Lunch at Peppermint Springs (Robertstown War Memorial Community Centre will have a wide selection of food to purchase). Some more speakers and exhibits.\n\n2pm: Walks resume. We will make our way back to Webb Gap using the Lavender Trail over farmland and into the foothills of the Tothill Range which may be fairly up and down and the track rocky in places. From Webb Gap we will retrace our steps back to the vehicles.
URL:https://heysentrail.asn.au/walking-the-heysen-trail/walk-the-trail-with-the-friends/walk-calendar/lavender-trail-meets-heysen-trail/
CATEGORIES:Trail Starter
END:VEVENT
BEGIN:VEVENT
DTSTART;VALUE=DATE:20160417
DTEND;VALUE=DATE:20160418
DTSTAMP:20260426T021252
CREATED:20151020T040141Z
LAST-MODIFIED:20200219T232408Z
UID:10004446-1460851200-1460851200@heysentrail.asn.au
SUMMARY:Cleland Conservation Park
DESCRIPTION:A walk of approx 22.5kms taking 6-7hrs.The walk traverses the park from south to north and back \, so even though it’s a reasonably long walk it’s not an overly hard one.It will be a good walk to test your fitness for the upcoming walking season.
URL:https://heysentrail.asn.au/walking-the-heysen-trail/walk-the-trail-with-the-friends/walk-calendar/cleland-conservation-park-2/
CATEGORIES:Trail Walker
END:VEVENT
BEGIN:VEVENT
DTSTART;VALUE=DATE:20160417
DTEND;VALUE=DATE:20160418
DTSTAMP:20260426T021252
CREATED:20151020T035938Z
LAST-MODIFIED:20200219T232408Z
UID:10004444-1460851200-1460851200@heysentrail.asn.au
SUMMARY:Onkaparinga
DESCRIPTION:TBA
URL:https://heysentrail.asn.au/walking-the-heysen-trail/walk-the-trail-with-the-friends/walk-calendar/onkaparinga-4/
CATEGORIES:Trail Starter
END:VEVENT
BEGIN:VEVENT
DTSTART;VALUE=DATE:20160323
DTEND;VALUE=DATE:20160324
DTSTAMP:20260426T021252
CREATED:20151016T012652Z
LAST-MODIFIED:20200219T232408Z
UID:10004442-1458691200-1458691200@heysentrail.asn.au
SUMMARY:Brighton-Kingston Park
DESCRIPTION:A beautiful walk along the beach from Brighton to Kingston Park cliff face.  Then onto the Kingston Conservation Park near the Tijiburke Trail and Monument.\n\nAfterwards refresh your thirst & view the sunset from the Esplanade Hotel.
URL:https://heysentrail.asn.au/walking-the-heysen-trail/walk-the-trail-with-the-friends/walk-calendar/brighton-kingston-park/
CATEGORIES:Summer Walks
END:VEVENT
BEGIN:VEVENT
DTSTART;VALUE=DATE:20160318
DTEND;VALUE=DATE:20160319
DTSTAMP:20260426T021252
CREATED:20160129T010835Z
LAST-MODIFIED:20200219T232408Z
UID:10004917-1458259200-1458259200@heysentrail.asn.au
SUMMARY:Annual General Meeting
DESCRIPTION:Friends of the Heysen Trail and Other Walking Trails Inc AGM 2016\n\n7.30pm on Friday 18th March 2016.\n\nNOTE: A NEW VENUE this year – the Plympton Community Centre\,\n\n34 Long Street\, Plympton\, SA 5038. (UBD Map 129\, E10.)\n\nGuest Speaker: Erina Sipos will address the meeting at the conclusion of the AGM. Erina is the mother of the family of ‘5 ordinary people’. She will talk about the Heysen Trail trek they undertook in 2015. \n\nHear about our Association’s activities in 2015 and plans for 2016.\n\nMeet your council (they are the people who make the decisions) and find out what we intend to do to further develop\, maintain and promote the use of the Heysen and other walking trails.\n\nPlease bring a plate of supper to share.
URL:https://heysentrail.asn.au/walking-the-heysen-trail/walk-the-trail-with-the-friends/walk-calendar/annual-general-meeting-3/
CATEGORIES:Other
END:VEVENT
BEGIN:VEVENT
DTSTART;VALUE=DATE:20160316
DTEND;VALUE=DATE:20160317
DTSTAMP:20260426T021252
CREATED:20151016T012518Z
LAST-MODIFIED:20200219T232408Z
UID:10004440-1458086400-1458086400@heysentrail.asn.au
SUMMARY:Ginza Walk
DESCRIPTION:Come with me to Japan without all the hassles of modern air travel.  After the one hour walk through the suburbs\, we will enter the land of Gyoza\, Spicy Karaage\, Tempura\, Sashimi and all the other strange and delightful culinary morsels of Japanese cuisine.\n\nI have booked dinnner at Ginza at 7.00 pm.
URL:https://heysentrail.asn.au/walking-the-heysen-trail/walk-the-trail-with-the-friends/walk-calendar/ginza-walk/
CATEGORIES:Summer Walks
END:VEVENT
BEGIN:VEVENT
DTSTART;VALUE=DATE:20160309
DTEND;VALUE=DATE:20160310
DTSTAMP:20260426T021252
CREATED:20151016T012358Z
LAST-MODIFIED:20200219T232408Z
UID:10004769-1457481600-1457481600@heysentrail.asn.au
SUMMARY:Village in City - Walk the SE corner of Adelaide
DESCRIPTION:In the late 19th Century\, people from all social levels\n\nlived in the south eastern corner of the city. The wealthy\n\noccupied mansions on East and South Terrace\, the growing\n\nmiddle class lived in Victorian villas in Halifax and Gilles\n\nStreets\, while the intervening small cottages were filled by\n\nworkers who were able to walk to work or work from home.\n\nPastoralists\, government workers\, publicans\, policemen and\n\nplasterers all lived in close proximity. However in the 1920s\n\nand 1930s it became fashionable to move to the suburbs\n\non the other side of the south and east Park Lands.\n\nMeal to follow for those so entices at the General Havelock\n\nHotel.
URL:https://heysentrail.asn.au/walking-the-heysen-trail/walk-the-trail-with-the-friends/walk-calendar/village-in-city-walk-the-se-corner-of-adelaide/
CATEGORIES:Summer Walks
END:VEVENT
BEGIN:VEVENT
DTSTART;VALUE=DATE:20160302
DTEND;VALUE=DATE:20160303
DTSTAMP:20260426T021252
CREATED:20151016T012239Z
LAST-MODIFIED:20200219T232408Z
UID:10004768-1456876800-1456876800@heysentrail.asn.au
SUMMARY:Glenelg
DESCRIPTION:Stroll along the Patawalonga looking at the yachts and then past the Golf Course\, across to have a look at The Adventure Activity Center.\n\nDown to the beach to watch the sunset and walk back to Glenelg.\n\nTea optional at The Watermark on Anazac Highway.\n\nDistance about 8 ks
URL:https://heysentrail.asn.au/walking-the-heysen-trail/walk-the-trail-with-the-friends/walk-calendar/glenelg/
CATEGORIES:Summer Walks
END:VEVENT
BEGIN:VEVENT
DTSTART;VALUE=DATE:20160224
DTEND;VALUE=DATE:20160225
DTSTAMP:20260426T021252
CREATED:20151016T012112Z
LAST-MODIFIED:20200219T232408Z
UID:10004767-1456272000-1456272000@heysentrail.asn.au
SUMMARY:Tennyson West Lakes
DESCRIPTION:A loop walk of approximately 6.5 km\, north along Tennyson & West Lakes Shore Beaches\, then south along the western shore of West Lakes itself.
URL:https://heysentrail.asn.au/walking-the-heysen-trail/walk-the-trail-with-the-friends/walk-calendar/tennyson-west-lakes/
CATEGORIES:Summer Walks
END:VEVENT
BEGIN:VEVENT
DTSTART;VALUE=DATE:20160217
DTEND;VALUE=DATE:20160218
DTSTAMP:20260426T021252
CREATED:20151016T010657Z
LAST-MODIFIED:20200219T232408Z
UID:10004766-1455667200-1455667200@heysentrail.asn.au
SUMMARY:Cleland Conservation Park
DESCRIPTION:A walk in the southern end of Cleland along bush and service tracks. This walk has a few undulations to get the blood flowing but nothing too taxing. Walking boots or sturdy sandshoes are a must and if you usually use walking poles feel free to bring them along. The walk is about 7kms long and will take 2 hrs. Optional meal at the Crafers Hotel afterwards.
URL:https://heysentrail.asn.au/walking-the-heysen-trail/walk-the-trail-with-the-friends/walk-calendar/cleland-conservation-park/
CATEGORIES:Summer Walks
END:VEVENT
BEGIN:VEVENT
DTSTART;VALUE=DATE:20160210
DTEND;VALUE=DATE:20160211
DTSTAMP:20260426T021252
CREATED:20151016T010527Z
LAST-MODIFIED:20200219T232408Z
UID:10004763-1455062400-1455062400@heysentrail.asn.au
SUMMARY:Wild Dog Gully
DESCRIPTION:A walk into the hills above Mitcham.\n\nSteep and challenging in parts
URL:https://heysentrail.asn.au/walking-the-heysen-trail/walk-the-trail-with-the-friends/walk-calendar/wild-dog-gully/
CATEGORIES:Summer Walks
END:VEVENT
BEGIN:VEVENT
DTSTART;VALUE=DATE:20160203
DTEND;VALUE=DATE:20160204
DTSTAMP:20260426T021252
CREATED:20151016T010356Z
LAST-MODIFIED:20200219T232408Z
UID:10004761-1454457600-1454457600@heysentrail.asn.au
SUMMARY:Mt George
DESCRIPTION:The walk is generally easy going with one short steep section rising to Mount George over some rocks.\n\nFrom Mount George there is an excellent view of the valley and surrounding countryside. We usually see a Koala or two\,\n\nThere is the opportunity for tea at The Bridgewater Inn.
URL:https://heysentrail.asn.au/walking-the-heysen-trail/walk-the-trail-with-the-friends/walk-calendar/mt-george-3/
CATEGORIES:Summer Walks
END:VEVENT
BEGIN:VEVENT
DTSTART;VALUE=DATE:20160127
DTEND;VALUE=DATE:20160128
DTSTAMP:20260426T021252
CREATED:20151016T010226Z
LAST-MODIFIED:20200219T232408Z
UID:10004759-1453852800-1453852800@heysentrail.asn.au
SUMMARY:Coromandel Valley
DESCRIPTION:Wetlands\, big trees\, bush tracks\, small running creeks\, paved paths and even a small easy hill. This walk has it all and offers lots of variety and interest. It should suit anyone with a capability to walk for one and a half to two hours.\n\nAfter the walk we can have dinner\, a cold ale and a yarn at a nearby hotel if you fancy that.
URL:https://heysentrail.asn.au/walking-the-heysen-trail/walk-the-trail-with-the-friends/walk-calendar/coromandel-valley/
CATEGORIES:Summer Walks
END:VEVENT
BEGIN:VEVENT
DTSTART;VALUE=DATE:20160120
DTEND;VALUE=DATE:20160121
DTSTAMP:20260426T021252
CREATED:20151016T010010Z
LAST-MODIFIED:20200219T232408Z
UID:10004757-1453248000-1453248000@heysentrail.asn.au
SUMMARY:Craigburn Farm
DESCRIPTION:A mix of gentle trails with a bit of everything\, old pastures\, creeks\, lake\, away from the hustle and bustle of the city.\n\nOptional tea at Montagna CafÃ©
URL:https://heysentrail.asn.au/walking-the-heysen-trail/walk-the-trail-with-the-friends/walk-calendar/craigburn-farm-2/
CATEGORIES:Summer Walks
END:VEVENT
BEGIN:VEVENT
DTSTART;VALUE=DATE:20160113
DTEND;VALUE=DATE:20160114
DTSTAMP:20260426T021252
CREATED:20151016T005846Z
LAST-MODIFIED:20200219T232408Z
UID:10004755-1452643200-1452643200@heysentrail.asn.au
SUMMARY:West Beach to Grange
DESCRIPTION:A beach walk from West Beach SLSC to Grange Jetty.  Meal to be decided on the night by the group\, numerous options at Grange or Henley Square.  Car shuffle from West Beach SLSC TO Grange\, will take approximately 15 minutes\, or maybe share cabs after the meal if all agree.\n\nLATE NOTICE: With the weather forecast to be 39 degrees and with the possibility of a thunderstorm\, the walk may have to be shortened or even cancelled at the last minute.  A decision won’t be made until the last minute\, as it may be cooler by 6pm. If you decide not to come\, your leader can be contacted on 0421 177 822.
URL:https://heysentrail.asn.au/walking-the-heysen-trail/walk-the-trail-with-the-friends/walk-calendar/west-beach-to-grange/
CATEGORIES:Summer Walks
END:VEVENT
BEGIN:VEVENT
DTSTART;VALUE=DATE:20160106
DTEND;VALUE=DATE:20160107
DTSTAMP:20260426T021252
CREATED:20151016T005655Z
LAST-MODIFIED:20200219T232408Z
UID:10004753-1452038400-1452038400@heysentrail.asn.au
SUMMARY:Western Torrens Linear Park
DESCRIPTION:This walk takes us along the River Torrens linear path.
URL:https://heysentrail.asn.au/walking-the-heysen-trail/walk-the-trail-with-the-friends/walk-calendar/western-torrens-linear-park/
CATEGORIES:Summer Walks
END:VEVENT
BEGIN:VEVENT
DTSTART;VALUE=DATE:20151230
DTEND;VALUE=DATE:20151231
DTSTAMP:20260426T021252
CREATED:20151016T004923Z
LAST-MODIFIED:20200219T232408Z
UID:10004751-1451433600-1451433600@heysentrail.asn.au
SUMMARY:No walk
DESCRIPTION:
URL:https://heysentrail.asn.au/walking-the-heysen-trail/walk-the-trail-with-the-friends/walk-calendar/no-walk-2/
CATEGORIES:Summer Walks
END:VEVENT
BEGIN:VEVENT
DTSTART;VALUE=DATE:20151226
DTEND;VALUE=DATE:20151227
DTSTAMP:20260426T021252
CREATED:20151016T003849Z
LAST-MODIFIED:20200219T232408Z
UID:10004749-1451088000-1451088000@heysentrail.asn.au
SUMMARY:Boxing Day walk - 6th creek
DESCRIPTION:This classic post Christmas walk has been undertaken by a dedicated group of walkers for over 20 years.\n\nJoin them and others to burn off the excesses of Christmas Day and get rid of the left-overs with a shared lunch at the end. Bring your left-overs\, a chair and your favourite beverage.\n\nNo need to register\, just turn up.\n\nMeeting – 8.15am\, Sixth Creek ford on Valley Road\, on the way to Montacute Cons Park off Corkscrew Road\, (where the Heysen Trail joins Valley Road). Sthn Guide Book 3.6 – grid 957377
URL:https://heysentrail.asn.au/walking-the-heysen-trail/walk-the-trail-with-the-friends/walk-calendar/boxing-day-walk-6th-creek-2/
CATEGORIES:Social
END:VEVENT
BEGIN:VEVENT
DTSTART;VALUE=DATE:20151223
DTEND;VALUE=DATE:20151224
DTSTAMP:20260426T021252
CREATED:20151016T003730Z
LAST-MODIFIED:20200219T232408Z
UID:10004747-1450828800-1450828800@heysentrail.asn.au
SUMMARY:No walk
DESCRIPTION:
URL:https://heysentrail.asn.au/walking-the-heysen-trail/walk-the-trail-with-the-friends/walk-calendar/no-walk/
CATEGORIES:Summer Walks
END:VEVENT
BEGIN:VEVENT
DTSTART;VALUE=DATE:20151216
DTEND;VALUE=DATE:20151217
DTSTAMP:20260426T021252
CREATED:20151016T003506Z
LAST-MODIFIED:20200219T232408Z
UID:10004746-1450224000-1450224000@heysentrail.asn.au
SUMMARY:Walk Cancelled due to Hot weather
DESCRIPTION:A circular walk around the lower slopes of Black Hill Conservation Park\, if the weather is warm an alternate route will be taken.
URL:https://heysentrail.asn.au/walking-the-heysen-trail/walk-the-trail-with-the-friends/walk-calendar/walk-cancelled-due-to-hot-weather/
CATEGORIES:Summer Walks
END:VEVENT
BEGIN:VEVENT
DTSTART;VALUE=DATE:20151209
DTEND;VALUE=DATE:20151210
DTSTAMP:20260426T021252
CREATED:20151016T002923Z
LAST-MODIFIED:20200219T232408Z
UID:10004745-1449619200-1449619200@heysentrail.asn.au
SUMMARY:Chambers Gully
DESCRIPTION:A loop walk with a steady but not steep climb with views of Adelaide\, Koalas and our native bushland
URL:https://heysentrail.asn.au/walking-the-heysen-trail/walk-the-trail-with-the-friends/walk-calendar/chambers-gully-4/
CATEGORIES:Summer Walks
END:VEVENT
BEGIN:VEVENT
DTSTART;VALUE=DATE:20151202
DTEND;VALUE=DATE:20151203
DTSTAMP:20260426T021252
CREATED:20151016T002737Z
LAST-MODIFIED:20200219T232408Z
UID:10004744-1449014400-1449014400@heysentrail.asn.au
SUMMARY:Beaumont
DESCRIPTION:A loop walk in the Mount Osmond Reserve incorporating part of the Pioneer Women’s Trail and Burnside Walking Trails.\n\nThis walk will give spectacular views of Adelaide City and suburbs.
URL:https://heysentrail.asn.au/walking-the-heysen-trail/walk-the-trail-with-the-friends/walk-calendar/beaumont-2/
CATEGORIES:Summer Walks
END:VEVENT
BEGIN:VEVENT
DTSTART;VALUE=DATE:20151125
DTEND;VALUE=DATE:20151126
DTSTAMP:20260426T021252
CREATED:20151016T002447Z
LAST-MODIFIED:20200219T232408Z
UID:10004743-1448409600-1448409600@heysentrail.asn.au
SUMMARY:Marino
DESCRIPTION:Rocky beach\, tidal pools\, sea cliffs\, lighthouse\, cliff top path\, secret gullies\, conservation park\, seaside sculptures and art\, historic house and grounds\, fabulous views\, uphill walking\, fascinating pieces of tree branches suspended on electricity wires!!…. \n\nThese are some of the delights Marino has to offer. We may not see it all but we can explore some of it. Afterwards we could have fish and chips on the beach or tea at the local pub as an optional extra.
URL:https://heysentrail.asn.au/walking-the-heysen-trail/walk-the-trail-with-the-friends/walk-calendar/marino/
CATEGORIES:Summer Walks
END:VEVENT
BEGIN:VEVENT
DTSTART;VALUE=DATE:20151118
DTEND;VALUE=DATE:20151119
DTSTAMP:20260426T021252
CREATED:20151016T002254Z
LAST-MODIFIED:20200219T232408Z
UID:10004742-1447804800-1447804800@heysentrail.asn.au
SUMMARY:German Club Walk
DESCRIPTION:Trio of sausages\, Roast Pork hock\, Kassler Steak\, JÃ¤gerbraten with red cabbage\, Beef Roulade\, Hearty German fare on the menu\, under $20 main meal\, excellent German beer… vegeterians tolerated. \n\nEastern Parklands walk before and after dinner\, from Dulwich to Flinders Street\, Adelaide.\n\nDinner booked at German Club for 7.00 pm
URL:https://heysentrail.asn.au/walking-the-heysen-trail/walk-the-trail-with-the-friends/walk-calendar/german-club-walk/
CATEGORIES:Summer Walks
END:VEVENT
BEGIN:VEVENT
DTSTART;VALUE=DATE:20151115
DTEND;VALUE=DATE:20151116
DTSTAMP:20260426T021252
CREATED:20150527T083518Z
LAST-MODIFIED:20200219T232408Z
UID:10004434-1447545600-1447545600@heysentrail.asn.au
SUMMARY:End of Year Bash\, BBQ + Band at Belair National Park
DESCRIPTION:Come and Rock and Roll to foot-tapping band “Raunchy Sugar” at the green surroundings of Karka Pavilion in Belair National Park\, Upper Sturt Road\, Belair.\n\nSunday 15 November\, 12-4.30pm    $20 per person\n\nPark entry fees are waived for attending members.  Please mention at the entry gate at Belair National Park that you are attending a function at Karka Pavilion\, you will then be directed to the venue.\n\nBefores\, BBQ and artisan bread will be provided.  \n\nBring a Salad or Dessert to share\, bring chair or rug\, glass\, plates & cutlery.\n\nBYO Wine\, beer or soft drinks.  \n\nNo refunds!
URL:https://heysentrail.asn.au/walking-the-heysen-trail/walk-the-trail-with-the-friends/walk-calendar/end-of-year-bash-bbq-band-at-belair-national-park/
CATEGORIES:Social
END:VEVENT
BEGIN:VEVENT
DTSTART;VALUE=DATE:20151111
DTEND;VALUE=DATE:20151112
DTSTAMP:20260426T021252
CREATED:20151016T002048Z
LAST-MODIFIED:20200219T232408Z
UID:10004740-1447200000-1447200000@heysentrail.asn.au
SUMMARY:Anstey Hill - Tea Tree Gully
DESCRIPTION:A good walk up and down the hills face above Tea Tree Gully. Views across the suburbs. Historic ruins of Newmans Nursery (horseradish fame). Local scrub and quarries. Good walking with a couple of rough rocky sections â€“ an eroded track. Optional after walk dinner at Thai restaurant.
URL:https://heysentrail.asn.au/walking-the-heysen-trail/walk-the-trail-with-the-friends/walk-calendar/anstey-hill-tea-tree-gully/
CATEGORIES:Summer Walks
END:VEVENT
BEGIN:VEVENT
DTSTART;VALUE=DATE:20151108
DTEND;VALUE=DATE:20151109
DTSTAMP:20260426T021252
CREATED:20150626T042640Z
LAST-MODIFIED:20200219T232408Z
UID:10004436-1446940800-1446940800@heysentrail.asn.au
SUMMARY:Cudlee Creek to Mewett Rd
DESCRIPTION:The trail leads walkers through the rolling hills of the South Mt Lofty Ranges and sections of Mt Crawford Forest. The climb towards Mt Gould provides outstanding views.\n\nRather than leave the trail to exit via Mewett Rd we will continue on to The Nugget Rd and exit via Watts Gully Road.
URL:https://heysentrail.asn.au/walking-the-heysen-trail/walk-the-trail-with-the-friends/walk-calendar/cudlee-creek-to-mewett-rd/
CATEGORIES:End-to-End 9
END:VEVENT
BEGIN:VEVENT
DTSTART;VALUE=DATE:20151104
DTEND;VALUE=DATE:20151105
DTSTAMP:20260426T021252
CREATED:20151015T082412Z
LAST-MODIFIED:20200219T232408Z
UID:10004738-1446595200-1446595200@heysentrail.asn.au
SUMMARY:Taverna Brompton
DESCRIPTION:An urban experience in Bowden – Brompton\, a heritage tour\, an excuse to sharpen the appetites.  There are lots of interesting things happening in this hidden corner of Adelaide.  If\, like me\, you have an insatiable craving for souvlakia with chips & salads\, come along\, you will not be disappointed. Dinner at Taverna at 7.00pm.
URL:https://heysentrail.asn.au/walking-the-heysen-trail/walk-the-trail-with-the-friends/walk-calendar/taverna-brompton/
CATEGORIES:Summer Walks
END:VEVENT
BEGIN:VEVENT
DTSTART;VALUE=DATE:20151101
DTEND;VALUE=DATE:20151102
DTSTAMP:20260426T021252
CREATED:20141213T042517Z
LAST-MODIFIED:20200219T232407Z
UID:10004705-1446336000-1446336000@heysentrail.asn.au
SUMMARY:Inman Valley to Myponga
DESCRIPTION:Majestic gums line roadsides leading to the climb up sugarloaf Hill where walkers are rewarded with spectacular rural views.  The trail then leads into Myponga Conservation Park for more views and some testing undulations.  Pretty farmland and quiet country roads complete this section.
URL:https://heysentrail.asn.au/walking-the-heysen-trail/walk-the-trail-with-the-friends/walk-calendar/inman-valley-to-myponga-2/
CATEGORIES:End-to-End 10
END:VEVENT
BEGIN:VEVENT
DTSTART;VALUE=DATE:20151101
DTEND;VALUE=DATE:20151102
DTSTAMP:20260426T021252
CREATED:20141122T014637Z
LAST-MODIFIED:20200219T232407Z
UID:10004683-1446336000-1446336000@heysentrail.asn.au
SUMMARY:Moana to Port Willunga
DESCRIPTION:For the last Trailwalker (2015 season)\, I am offering a walk across an interesting section of Adelaide’s southern coastline with dramatic cliffs\, a nudist beach and other historic features. This walk is about 19.5 kms long and comprises a variety of walking surfaces from beach sand to cliff face rocks.  Our lunch stop is near an icecream shop at Port Willunga! \n\nThis walk could be undertaken in hot conditions.  Bring enough water\, 2 and half litres and suncream\, etc.\n\nBy about 2.30 pm when walkers return to their starting point\, the thought of coffee could be uppermost in their minds…
URL:https://heysentrail.asn.au/walking-the-heysen-trail/walk-the-trail-with-the-friends/walk-calendar/moana-to-port-willunga/
CATEGORIES:Trail Walker
END:VEVENT
END:VCALENDAR