BEGIN:VCALENDAR
VERSION:2.0
PRODID:-//Friends of the Heysen Trail - ECPv6.15.20//NONSGML v1.0//EN
CALSCALE:GREGORIAN
METHOD:PUBLISH
X-WR-CALNAME:Friends of the Heysen Trail
X-ORIGINAL-URL:https://heysentrail.asn.au
X-WR-CALDESC:Events for Friends of the Heysen Trail
REFRESH-INTERVAL;VALUE=DURATION:PT1H
X-Robots-Tag:noindex
X-PUBLISHED-TTL:PT1H
BEGIN:VTIMEZONE
TZID:Australia/Adelaide
BEGIN:STANDARD
TZOFFSETFROM:+1030
TZOFFSETTO:+0930
TZNAME:ACST
DTSTART:20120331T163000
END:STANDARD
BEGIN:DAYLIGHT
TZOFFSETFROM:+0930
TZOFFSETTO:+1030
TZNAME:ACDT
DTSTART:20121006T163000
END:DAYLIGHT
BEGIN:STANDARD
TZOFFSETFROM:+1030
TZOFFSETTO:+0930
TZNAME:ACST
DTSTART:20130406T163000
END:STANDARD
BEGIN:DAYLIGHT
TZOFFSETFROM:+0930
TZOFFSETTO:+1030
TZNAME:ACDT
DTSTART:20131005T163000
END:DAYLIGHT
BEGIN:STANDARD
TZOFFSETFROM:+1030
TZOFFSETTO:+0930
TZNAME:ACST
DTSTART:20140405T163000
END:STANDARD
BEGIN:DAYLIGHT
TZOFFSETFROM:+0930
TZOFFSETTO:+1030
TZNAME:ACDT
DTSTART:20141004T163000
END:DAYLIGHT
END:VTIMEZONE
BEGIN:VEVENT
DTSTART;VALUE=DATE:20131006
DTEND;VALUE=DATE:20131007
DTSTAMP:20260425T224315
CREATED:20130325T100200Z
LAST-MODIFIED:20200219T232349Z
UID:10004390-1381017600-1381017600@heysentrail.asn.au
SUMMARY:Section 27: Worlds End to Burra
DESCRIPTION:Although primarily a long\, flat\, treeless walk\, along dirt roads and road reserves\, this section provides walkers with a perspective on the diversity of landscapes of the Trail. The final few kilometres provide pleasant views over the historic Burra township.
URL:https://heysentrail.asn.au/walking-the-heysen-trail/walk-the-trail-with-the-friends/walk-calendar/section-27-worlds-end-to-burra/
CATEGORIES:Warren Bonython Memorial Walk
END:VEVENT
BEGIN:VEVENT
DTSTART;VALUE=DATE:20131006
DTEND;VALUE=DATE:20131007
DTSTAMP:20260425T224315
CREATED:20130325T100200Z
LAST-MODIFIED:20200219T232349Z
UID:10004398-1381017600-1381017600@heysentrail.asn.au
SUMMARY:Section 33: EE George Quarry to Spalding Rd
DESCRIPTION:Most of this section is spent walking south\, initially along  the crest of Brown Hill Range\, following the remnants of an old 1840s stone wall (the longest in SA). It is quite an undulating walk\, with little shelter from the elements\, however the views make up for any discomfort. The last 5-6 km follow rural back roads to the main Spalding to Burra road.
URL:https://heysentrail.asn.au/walking-the-heysen-trail/walk-the-trail-with-the-friends/walk-calendar/section-33-ee-george-quarry-to-spalding-rd/
CATEGORIES:Warren Bonython Memorial Walk
END:VEVENT
BEGIN:VEVENT
DTSTART;VALUE=DATE:20131006
DTEND;VALUE=DATE:20131007
DTSTAMP:20260425T224315
CREATED:20130325T100200Z
LAST-MODIFIED:20200219T232349Z
UID:10004406-1381017600-1381017600@heysentrail.asn.au
SUMMARY:Section 37: Raeville to Locks Ruin
DESCRIPTION:This walk follows dirt roads into the small town of Georgetown and beyond past Hiskeys Hut. The trail then follows undulating fencelines through Sams Hills.
URL:https://heysentrail.asn.au/walking-the-heysen-trail/walk-the-trail-with-the-friends/walk-calendar/section-37-raeville-to-locks-ruin/
CATEGORIES:Warren Bonython Memorial Walk
END:VEVENT
BEGIN:VEVENT
DTSTART;VALUE=DATE:20131006
DTEND;VALUE=DATE:20131007
DTSTAMP:20260425T224315
CREATED:20130325T100200Z
LAST-MODIFIED:20200219T232350Z
UID:10004414-1381017600-1381017600@heysentrail.asn.au
SUMMARY:Section 52: Buckaringa to Calabrinda Creek
DESCRIPTION:Although a predominantly flat walk along the Heysen Trail\, this section passes below rocky outcrops\, and crosses the Willochra Creek providing views across the Willochra Plain.
URL:https://heysentrail.asn.au/walking-the-heysen-trail/walk-the-trail-with-the-friends/walk-calendar/section-52-buckaringa-to-calabrinda-creek/
CATEGORIES:Warren Bonython Memorial Walk
END:VEVENT
BEGIN:VEVENT
DTSTART;VALUE=DATE:20131006
DTEND;VALUE=DATE:20131007
DTSTAMP:20260425T224315
CREATED:20130325T100200Z
LAST-MODIFIED:20200219T232348Z
UID:10004225-1381017600-1381017600@heysentrail.asn.au
SUMMARY:Section 9: Mt Compass to Kyeema
DESCRIPTION:The pretty dairy pastures of Mt Compass and Nangkita provide the backdrop for the first section of this walk. Back roads then lead walkers through Finnis Conservation Park and into Mt Magnificent Conservation Park\, where a short hike off the main trail rewards walkers with spectacular views over the southern Fleurieu Peninsula. A combination of native bushland and open grazing land completes the day.
URL:https://heysentrail.asn.au/walking-the-heysen-trail/walk-the-trail-with-the-friends/walk-calendar/section-9-mt-compass-to-kyeema/
CATEGORIES:Warren Bonython Memorial Walk
END:VEVENT
BEGIN:VEVENT
DTSTART;VALUE=DATE:20131006
DTEND;VALUE=DATE:20131007
DTSTAMP:20260425T224315
CREATED:20130325T100200Z
LAST-MODIFIED:20200219T232349Z
UID:10004242-1381017600-1381017600@heysentrail.asn.au
SUMMARY:Section 39: Bowman Park to Mt Zion
DESCRIPTION:Begining as a pleasant walk along the Crystal Brook\, past the southern most hills of the Flinders Ranges\, the Trail gradually climbs to the top of the range to reveal views over Port Pirie and Spencer Gulf.
URL:https://heysentrail.asn.au/walking-the-heysen-trail/walk-the-trail-with-the-friends/walk-calendar/section-39-bowman-park-to-mt-zion/
CATEGORIES:Warren Bonython Memorial Walk
END:VEVENT
BEGIN:VEVENT
DTSTART;VALUE=DATE:20131006
DTEND;VALUE=DATE:20131007
DTSTAMP:20260425T224315
CREATED:20130325T100200Z
LAST-MODIFIED:20200219T232350Z
UID:10004258-1381017600-1381017600@heysentrail.asn.au
SUMMARY:Section 47: Broadview to Woolshed Flat
DESCRIPTION:This section of the trail climbs through grazing land and natural scrub to Mount Brown\, where walkers are provided with spectacular views of the northern Spencer Gulf from the viewing tower. A pretty single file descent leads Waukarie Creek and a classic Flinders Ranges creek walk. There are some steep climbs from Broadview to the summit.
URL:https://heysentrail.asn.au/walking-the-heysen-trail/walk-the-trail-with-the-friends/walk-calendar/section-47-broadview-to-woolshed-flat/
CATEGORIES:Warren Bonython Memorial Walk
END:VEVENT
BEGIN:VEVENT
DTSTART;VALUE=DATE:20131006
DTEND;VALUE=DATE:20131007
DTSTAMP:20260425T224315
CREATED:20130325T100200Z
LAST-MODIFIED:20200219T232349Z
UID:10004391-1381017600-1381017600@heysentrail.asn.au
SUMMARY:Section 28: Burra to Wandallah
DESCRIPTION:This section of the Trail goes through historic Burra\, passing the old Redruth Gaol and other reminders of a bygone era. The trail then takes walkers over the exposed hills of the North Mount Lofty Ranges.\n\nSUNDAY NIGHT – Post-walk celebration of the Warren Bonython Walk at Farrell Flat hall.  Commencing at 6 pm.  BYO BBQ meat and drinks plua a salad or dessert to share.  A gold coin donation to cover the hall hire.
URL:https://heysentrail.asn.au/walking-the-heysen-trail/walk-the-trail-with-the-friends/walk-calendar/section-28-burra-to-wandallah/
CATEGORIES:Warren Bonython Memorial Walk
END:VEVENT
BEGIN:VEVENT
DTSTART;VALUE=DATE:20131006
DTEND;VALUE=DATE:20131007
DTSTAMP:20260425T224315
CREATED:20130325T100200Z
LAST-MODIFIED:20200219T232350Z
UID:10004415-1381017600-1381017600@heysentrail.asn.au
SUMMARY:Section 53: Calabrinda Creek to Jarvis Hill
DESCRIPTION:This is a long but fairly fast walk\, initially along vehicle tracks\, then over open grazing land along the face of Yappala Range and past the historic Mt Elm school site to Jarvis Hill carpark.
URL:https://heysentrail.asn.au/walking-the-heysen-trail/walk-the-trail-with-the-friends/walk-calendar/section-53-calabrinda-creek-to-jarvis-hill/
CATEGORIES:Warren Bonython Memorial Walk
END:VEVENT
BEGIN:VEVENT
DTSTART;VALUE=DATE:20131006
DTEND;VALUE=DATE:20131007
DTSTAMP:20260425T224316
CREATED:20130325T100200Z
LAST-MODIFIED:20200219T232350Z
UID:10004423-1381017600-1381017600@heysentrail.asn.au
SUMMARY:Section 60: Aroona Hut to Parachilna Trailhead
DESCRIPTION:This final section of the trail follows Aroona Valley to the watershed dividing it from the Parachilna Creek catchment to the north. It then follows the valley between ABC Range and Heysen Range\, past abandoned mines to the final stile at the Parachilna Trailhead. This walk is a pleasant amble\, perfect for reflecting on the years and kilometres taken to get here\, and the friendships made along the way.
URL:https://heysentrail.asn.au/walking-the-heysen-trail/walk-the-trail-with-the-friends/walk-calendar/section-60-aroona-hut-to-parachilna-trailhead/
CATEGORIES:Warren Bonython Memorial Walk
END:VEVENT
BEGIN:VEVENT
DTSTART;VALUE=DATE:20131006
DTEND;VALUE=DATE:20131007
DTSTAMP:20260425T224316
CREATED:20130325T100200Z
LAST-MODIFIED:20200219T232348Z
UID:10004227-1381017600-1381017600@heysentrail.asn.au
SUMMARY:Section 10: Kyeema to Dashwood Gully
DESCRIPTION:The dense native bushland of Kyeema Conservation Park\, the plantations of Kuitpo Forest and pretty back roads make this a pleasant winter walk.
URL:https://heysentrail.asn.au/walking-the-heysen-trail/walk-the-trail-with-the-friends/walk-calendar/section-10-kyeema-to-dashwood-gully/
CATEGORIES:Warren Bonython Memorial Walk
END:VEVENT
BEGIN:VEVENT
DTSTART;VALUE=DATE:20131006
DTEND;VALUE=DATE:20131007
DTSTAMP:20260425T224316
CREATED:20130325T100200Z
LAST-MODIFIED:20200219T232349Z
UID:10004244-1381017600-1381017600@heysentrail.asn.au
SUMMARY:Section 40: Mt Zion to Wirrabara Forest
DESCRIPTION:For most of this section the trail follows gravel roads and a rollercoaster firetrack through natural bushland towards the TV tower at The Bluff where walkers are rewarded with spectacular views of the gulf and beyond.
URL:https://heysentrail.asn.au/walking-the-heysen-trail/walk-the-trail-with-the-friends/walk-calendar/section-40-mt-zion-to-wirrabara-forest/
CATEGORIES:Warren Bonython Memorial Walk
END:VEVENT
BEGIN:VEVENT
DTSTART;VALUE=DATE:20131006
DTEND;VALUE=DATE:20131007
DTSTAMP:20260425T224316
CREATED:20130325T100200Z
LAST-MODIFIED:20200219T232348Z
UID:10004367-1381017600-1381017600@heysentrail.asn.au
SUMMARY:Section 4: Balquhidder to Waitpinga
DESCRIPTION:Picturesque farmland\, unspoilt sandy beaches\, rocky headlands and the chance to spot whales characterise this section of the Trail.
URL:https://heysentrail.asn.au/walking-the-heysen-trail/walk-the-trail-with-the-friends/walk-calendar/section-4-balquhidder-to-waitpinga/
CATEGORIES:Warren Bonython Memorial Walk
END:VEVENT
BEGIN:VEVENT
DTSTART;VALUE=DATE:20131006
DTEND;VALUE=DATE:20131007
DTSTAMP:20260425T224316
CREATED:20130325T100200Z
LAST-MODIFIED:20200219T232349Z
UID:10004376-1381017600-1381017600@heysentrail.asn.au
SUMMARY:Section 20: Tanunda to Kapunda
DESCRIPTION:This section takes walkers along back roads and road reserves past vineyards and wineries of the Barossa Valley\, through the small town of Greenock and into the cropping and grazing land of the Lower North. It is a long but mainly flat walk with only a few undulations. Pleasant vistas and changing seasonal colours make this a pretty walk.
URL:https://heysentrail.asn.au/walking-the-heysen-trail/walk-the-trail-with-the-friends/walk-calendar/section-20-tanunda-to-kapunda/
CATEGORIES:Warren Bonython Memorial Walk
END:VEVENT
BEGIN:VEVENT
DTSTART;VALUE=DATE:20131006
DTEND;VALUE=DATE:20131007
DTSTAMP:20260425T224316
CREATED:20130325T100200Z
LAST-MODIFIED:20200219T232349Z
UID:10004384-1381017600-1381017600@heysentrail.asn.au
SUMMARY:Section 24: Gerkie Gap to Webb Gap
DESCRIPTION:This section of the trail follows the Tothill Ranges\, which boast the largest remaining section of remnant scrub in the area and are one of the delights of the Mid-North. There are pleasant vistas over the surrounding farmland\, with constant reminders of 19th century optimism and 21st century technology.\n\nSUNDAY NIGHT – Post-walk celebration of the Warren Bonython Walk at Farrell Flat hall.  Commencing at 6 pm.  BYO BBQ meat and drinks plua a salad or dessert to share.  A gold coin donation to cover the hall hire.
URL:https://heysentrail.asn.au/walking-the-heysen-trail/walk-the-trail-with-the-friends/walk-calendar/section-24-gerkie-gap-to-webb-gap/
CATEGORIES:Warren Bonython Memorial Walk
END:VEVENT
BEGIN:VEVENT
DTSTART;VALUE=DATE:20131006
DTEND;VALUE=DATE:20131007
DTSTAMP:20260425T224316
CREATED:20130325T100200Z
LAST-MODIFIED:20200219T232349Z
UID:10004392-1381017600-1381017600@heysentrail.asn.au
SUMMARY:Section 29: Wandallah to Newikie Creek
DESCRIPTION:This remote and very undulating section gives walkers their first introduction to the grazing lands beyond Goyders Line\, traversing remnant bushland and remote valleys.
URL:https://heysentrail.asn.au/walking-the-heysen-trail/walk-the-trail-with-the-friends/walk-calendar/section-29-wandallah-to-newikie-creek/
CATEGORIES:Warren Bonython Memorial Walk
END:VEVENT
BEGIN:VEVENT
DTSTART;VALUE=DATE:20131006
DTEND;VALUE=DATE:20131007
DTSTAMP:20260425T224316
CREATED:20130325T100200Z
LAST-MODIFIED:20200219T232349Z
UID:10004400-1381017600-1381017600@heysentrail.asn.au
SUMMARY:Section 34: Spalding Rd to Chlorinator
DESCRIPTION:This is a very flat\, but unique walk that follows the Freshwater intake channel for Bundaleer Reservoir\, only leaving it for a few km to go through Spalding. Walkers will see some fascinating examples of engineering from the early 1900s.
URL:https://heysentrail.asn.au/walking-the-heysen-trail/walk-the-trail-with-the-friends/walk-calendar/section-34-spalding-rd-to-chlorinator/
CATEGORIES:Warren Bonython Memorial Walk
END:VEVENT
BEGIN:VEVENT
DTSTART;VALUE=DATE:20131006
DTEND;VALUE=DATE:20131007
DTSTAMP:20260425T224316
CREATED:20130325T100200Z
LAST-MODIFIED:20200219T232350Z
UID:10004408-1381017600-1381017600@heysentrail.asn.au
SUMMARY:Section 48: Woolshed Flat to Dutchmans Stern
DESCRIPTION:A steady climb to start the day takes walkers to the top of the range and views over Pichi Richi Pass. After descending into the pass again\, the Trail follows the historic Pichi Richi railway line\, passing the remnants of deserted sidings and settlements. The trail passes the outskirts of Quorn before climbing gradually towards The Dutchmans Stern. Taking a detour off of the Heysen Trail to walk the 6 km Dutchmans Stern loop will provide a memorable highlight.
URL:https://heysentrail.asn.au/walking-the-heysen-trail/walk-the-trail-with-the-friends/walk-calendar/section-48-woolshed-flat-to-dutchmans-stern/
CATEGORIES:Warren Bonython Memorial Walk
END:VEVENT
BEGIN:VEVENT
DTSTART;VALUE=DATE:20131006
DTEND;VALUE=DATE:20131007
DTSTAMP:20260425T224316
CREATED:20130325T100200Z
LAST-MODIFIED:20200219T232350Z
UID:10004416-1381017600-1381017600@heysentrail.asn.au
SUMMARY:Section 54: Jarvis Hill to Leigh Creek Rd
DESCRIPTION:One of the gems of the Trail\, this ridge walk provides spectacular views and many photo opportunities. It is a short walk\, but may still take up to 4 hours because of the terrain and photo stops.
URL:https://heysentrail.asn.au/walking-the-heysen-trail/walk-the-trail-with-the-friends/walk-calendar/section-54-jarvis-hill-to-leigh-creek-rd/
CATEGORIES:Warren Bonython Memorial Walk
END:VEVENT
BEGIN:VEVENT
DTSTART;VALUE=DATE:20131006
DTEND;VALUE=DATE:20131007
DTSTAMP:20260425T224316
CREATED:20130325T100200Z
LAST-MODIFIED:20200219T232348Z
UID:10004229-1381017600-1381017600@heysentrail.asn.au
SUMMARY:Section 11: Dashwood Gully to Mylor
DESCRIPTION:A picturesque walk through gently undulating farmland\, the northern blocks of Kuitpo Pine Forest and through the historic Jupiter Creek Goldfields.
URL:https://heysentrail.asn.au/walking-the-heysen-trail/walk-the-trail-with-the-friends/walk-calendar/section-11-dashwood-gully-to-mylor/
CATEGORIES:Warren Bonython Memorial Walk
END:VEVENT
BEGIN:VEVENT
DTSTART;VALUE=DATE:20131006
DTEND;VALUE=DATE:20131007
DTSTAMP:20260425T224316
CREATED:20130325T100200Z
LAST-MODIFIED:20200219T232349Z
UID:10004246-1381017600-1381017600@heysentrail.asn.au
SUMMARY:Section 41: Wirrabara Forest to Block 9 Rd
DESCRIPTION:This section provides a very diverse range of scenery\, beginning with the dense natural scrub\, ridgelines and spectacular vistas of the Telowie Gorge Conservation Park\, then descending to a narrow single file track along a very pretty creek line\, before emerging into walk alongside pine forests.
URL:https://heysentrail.asn.au/walking-the-heysen-trail/walk-the-trail-with-the-friends/walk-calendar/section-41-wirrabara-forest-to-block-9-rd/
CATEGORIES:Warren Bonython Memorial Walk
END:VEVENT
BEGIN:VEVENT
DTSTART;VALUE=DATE:20131006
DTEND;VALUE=DATE:20131007
DTSTAMP:20260425T224316
CREATED:20130325T100200Z
LAST-MODIFIED:20200219T232348Z
UID:10004368-1381017600-1381017600@heysentrail.asn.au
SUMMARY:Section 5: Waitpinga to Tugwell Rd
DESCRIPTION:One of the most spectacular sections of the Trail\, walkers follow sandy tracks through the coastal scrub of Newland Head Conservation Park\, and dramatic clifftops towards Victor Harbor. Here whales have been sighted\, as well as seals\, dolphins and the endangered white bellied sea eagle. At Kings Beach the Trail leaves the coast following roads and an uncleared road reserve to begin the long journey north.
URL:https://heysentrail.asn.au/walking-the-heysen-trail/walk-the-trail-with-the-friends/walk-calendar/section-5-waitpinga-to-tugwell-rd/
CATEGORIES:Warren Bonython Memorial Walk
END:VEVENT
BEGIN:VEVENT
DTSTART;VALUE=DATE:20131006
DTEND;VALUE=DATE:20131007
DTSTAMP:20260425T224316
CREATED:20130325T100200Z
LAST-MODIFIED:20200219T232349Z
UID:10004393-1381017600-1381017600@heysentrail.asn.au
SUMMARY:Section 30: Newikie Creek to Dares Hill Summit Rd
DESCRIPTION:This section passes through Caroona Conservation Park and Tourilie Gorge\, which is one of the lesser known gems of the Trail. Look out for the remnants of an old bullock track cut through the gorge.
URL:https://heysentrail.asn.au/walking-the-heysen-trail/walk-the-trail-with-the-friends/walk-calendar/section-30-newikie-creek-to-dares-hill-summit-rd/
CATEGORIES:Warren Bonython Memorial Walk
END:VEVENT
BEGIN:VEVENT
DTSTART;VALUE=DATE:20131006
DTEND;VALUE=DATE:20131007
DTSTAMP:20260425T224316
CREATED:20130325T100200Z
LAST-MODIFIED:20200219T232350Z
UID:10004417-1381017600-1381017600@heysentrail.asn.au
SUMMARY:Section 56: Red Range to Moralana Drive
DESCRIPTION:This is an easy and pretty walk with gentle undulations\, along creeklines and through native pine woodlands\, in the shadow of Elder Range and Mt Aleck.
URL:https://heysentrail.asn.au/walking-the-heysen-trail/walk-the-trail-with-the-friends/walk-calendar/section-56-red-range-to-moralana-drive/
CATEGORIES:Warren Bonython Memorial Walk
END:VEVENT
BEGIN:VEVENT
DTSTART;VALUE=DATE:20131006
DTEND;VALUE=DATE:20131007
DTSTAMP:20260425T224316
CREATED:20130325T100200Z
LAST-MODIFIED:20200219T232348Z
UID:10004231-1381017600-1381017600@heysentrail.asn.au
SUMMARY:Section 12: Mylor to Cleland
DESCRIPTION:Although the most populous section of the trail\, it still retains a rural feel as walkers pass through the parks and bushland of Bridgewater\, Mt George Conservation Park\, Mt Lofty Botanic Gardens and Cleland Conservation Park.
URL:https://heysentrail.asn.au/walking-the-heysen-trail/walk-the-trail-with-the-friends/walk-calendar/section-12-mylor-to-cleland/
CATEGORIES:Warren Bonython Memorial Walk
END:VEVENT
BEGIN:VEVENT
DTSTART;VALUE=DATE:20131006
DTEND;VALUE=DATE:20131007
DTSTAMP:20260425T224316
CREATED:20130325T100200Z
LAST-MODIFIED:20200219T232349Z
UID:10004248-1381017600-1381017600@heysentrail.asn.au
SUMMARY:Section 42: Block 9 Rd to Murraytown
DESCRIPTION:This section starts in the Wirrabara pine forest with there are some testing climbs. After leaving the forest the rest of the day is spent walking along back roads and road reserves through undulating farmland.
URL:https://heysentrail.asn.au/walking-the-heysen-trail/walk-the-trail-with-the-friends/walk-calendar/section-42-block-9-rd-to-murraytown/
CATEGORIES:Warren Bonython Memorial Walk
END:VEVENT
BEGIN:VEVENT
DTSTART;VALUE=DATE:20131006
DTEND;VALUE=DATE:20131007
DTSTAMP:20260425T224316
CREATED:20130325T100200Z
LAST-MODIFIED:20200219T232348Z
UID:10004361-1381017600-1381017600@heysentrail.asn.au
SUMMARY:Section 1: Cape Jervis to Cobbler Hill
DESCRIPTION:Starting from the Cape Jervis trailhead\, adjacent the ferry terminal\, this iconic first section of the Heysen Trail follows sandy coastal tracks and exposed coastal hillsides\, providing spectacular views over Backstairs Passage to Kangaroo Island. Walkers are often rewarded with sightings of seals and dolphins. At Blowhole Beach the trail enters Deep Creek Conservation Park to begin the long climb through native bushland to Cobbler Hill.
URL:https://heysentrail.asn.au/walking-the-heysen-trail/walk-the-trail-with-the-friends/walk-calendar/section-1-cape-jervis-to-cobbler-hill/
CATEGORIES:Warren Bonython Memorial Walk
END:VEVENT
BEGIN:VEVENT
DTSTART;VALUE=DATE:20131006
DTEND;VALUE=DATE:20131007
DTSTAMP:20260425T224316
CREATED:20130325T100200Z
LAST-MODIFIED:20200219T232348Z
UID:10004369-1381017600-1381017600@heysentrail.asn.au
SUMMARY:Section 16: Cudlee Creek to Mewett Rd
DESCRIPTION:The trail leads walkers through the rolling hills of the South Mount Lofty Ranges and sections of Mount Crawford Forest. The climb towards Mount Gould provides outstanding views.
URL:https://heysentrail.asn.au/walking-the-heysen-trail/walk-the-trail-with-the-friends/walk-calendar/section-16-cudlee-creek-to-mewett-rd/
CATEGORIES:Warren Bonython Memorial Walk
END:VEVENT
BEGIN:VEVENT
DTSTART;VALUE=DATE:20131006
DTEND;VALUE=DATE:20131007
DTSTAMP:20260425T224316
CREATED:20130325T100200Z
LAST-MODIFIED:20200219T232349Z
UID:10004378-1381017600-1381017600@heysentrail.asn.au
SUMMARY:Section 21: Kapunda to Hamilton
DESCRIPTION:A pleasant walk following backroads\, tracks and fence lines through the undulating farmland of the Lower North.\n\nAfter the walk there is an invitation to gather at The Tanunda Club (45 MacDonnell St\, Tanunda). This will be an opportunity to meet with other WB walkers who will have completed other nearby sections of the trail.\n\nThe Club offers reasonably priced drinks\, coffee and nibbles. Dinner will also be available if people want to “kick on”.
URL:https://heysentrail.asn.au/walking-the-heysen-trail/walk-the-trail-with-the-friends/walk-calendar/section-21-kapunda-to-hamilton/
CATEGORIES:Warren Bonython Memorial Walk
END:VEVENT
BEGIN:VEVENT
DTSTART;VALUE=DATE:20131006
DTEND;VALUE=DATE:20131007
DTSTAMP:20260425T224316
CREATED:20130325T100200Z
LAST-MODIFIED:20200219T232349Z
UID:10004386-1381017600-1381017600@heysentrail.asn.au
SUMMARY:Section 25: Webb Gap to Burra Rd
DESCRIPTION:This section of the trail continues along the Tothill Ranges\, which boast the largest remaining section of remnant scrub in the area and are one of the delights of the Mid-North\, providing expansive views over the surrounding farmland and Apoinga Lagoon.\n\nSUNDAY NIGHT – Post-walk celebration of the Warren Bonython Walk at Farrell Flat hall.  Commencing at 6 pm.  BYO BBQ meat and drinks plua a salad or dessert to share.  A gold coin donation to cover the hall hire.
URL:https://heysentrail.asn.au/walking-the-heysen-trail/walk-the-trail-with-the-friends/walk-calendar/section-25-webb-gap-to-burra-rd/
CATEGORIES:Warren Bonython Memorial Walk
END:VEVENT
END:VCALENDAR