BEGIN:VCALENDAR
VERSION:2.0
PRODID:-//Friends of the Heysen Trail - ECPv6.15.20//NONSGML v1.0//EN
CALSCALE:GREGORIAN
METHOD:PUBLISH
X-WR-CALNAME:Friends of the Heysen Trail
X-ORIGINAL-URL:https://heysentrail.asn.au
X-WR-CALDESC:Events for Friends of the Heysen Trail
REFRESH-INTERVAL;VALUE=DURATION:PT1H
X-Robots-Tag:noindex
X-PUBLISHED-TTL:PT1H
BEGIN:VTIMEZONE
TZID:Australia/Adelaide
BEGIN:STANDARD
TZOFFSETFROM:+1030
TZOFFSETTO:+0930
TZNAME:ACST
DTSTART:20170401T163000
END:STANDARD
BEGIN:DAYLIGHT
TZOFFSETFROM:+0930
TZOFFSETTO:+1030
TZNAME:ACDT
DTSTART:20170930T163000
END:DAYLIGHT
BEGIN:STANDARD
TZOFFSETFROM:+1030
TZOFFSETTO:+0930
TZNAME:ACST
DTSTART:20180331T163000
END:STANDARD
BEGIN:DAYLIGHT
TZOFFSETFROM:+0930
TZOFFSETTO:+1030
TZNAME:ACDT
DTSTART:20181006T163000
END:DAYLIGHT
BEGIN:STANDARD
TZOFFSETFROM:+1030
TZOFFSETTO:+0930
TZNAME:ACST
DTSTART:20190406T163000
END:STANDARD
BEGIN:DAYLIGHT
TZOFFSETFROM:+0930
TZOFFSETTO:+1030
TZNAME:ACDT
DTSTART:20191005T163000
END:DAYLIGHT
BEGIN:STANDARD
TZOFFSETFROM:+1030
TZOFFSETTO:+0930
TZNAME:ACST
DTSTART:20200404T163000
END:STANDARD
BEGIN:DAYLIGHT
TZOFFSETFROM:+0930
TZOFFSETTO:+1030
TZNAME:ACDT
DTSTART:20201003T163000
END:DAYLIGHT
END:VTIMEZONE
BEGIN:VEVENT
DTSTART;VALUE=DATE:20190322
DTEND;VALUE=DATE:20190323
DTSTAMP:20260423T182616
CREATED:20190215T235444Z
LAST-MODIFIED:20200219T232452Z
UID:10004789-1553212800-1553212800@heysentrail.asn.au
SUMMARY:AGM Friends of the Heysen Trail
DESCRIPTION:The 32nd Annual General Meeting of the Friends of the Heysen Trail and Other Walking Trails Inc. will be held at 7.30 pm on Friday March 22nd 2019. The venue will be the Woodville Lawn Bowling Club\, Oval Avenue\, Woodville.\n\nNominations are sought from you\, our members\, for election to the Friends Council at the AGM\, for positions including Vice President\, Secretary\, Treasurer and half the remaining members. Our Constitution calls for not less than four and no more than ten non office-bearing members.\n\nOur guest speaker will be Briony Ankor\, who\, in 2018 hiked the Heysen Trail solo using this challenge to raise funds and awareness of Narcolepsy.\n\nHear about our Association’s activities in 2018 and plans for 2019.\n\nMeet your council (they are the people who make the decisions) and find out what we intend to do to further develop\, maintain and promote the use of the Heysen and other walking trails.\n\nView further information about when Council meetings are held and the role of a Councilor. Download the Nomination Form for Council.\n\nAGM Agenda\n\n\n\n 	Apologies\n\n 	Acceptance of Minutes of the previous AGM held on March 23rd 2018.\n\n 	President’s Report\n\n 	Financial Report\n\n 	Trail Development Report\n\n 	Election of Officers\n\n6.1 Vice President\n\n6.2 Treasurer\n\n6.3 Secretary\n\n6.4 Council Members\n\n 	Appointment of Auditor\n\n 	Appointment of Honorary Members\n\n 	AnyÂ  Other Business\n\n 	Close of Meeting\n\n\n\nAny member wishing to move a motion at the AGM should be aware of the Constitutional requirements:\n\n‘Notice of any such motion proposed to be moved at a General Meeting by any member not being a member of the Council shall be signed by the proposer and seconder and shall be delivered to the Secretary at least seven days before the meeting. No motion moved by any member other than a member of the Council shall be entertained by the meeting unless notice thereof has been given as aforesaid.’
URL:https://heysentrail.asn.au/walking-the-heysen-trail/walk-the-trail-with-the-friends/walk-calendar/agm-friends-of-the-heysen-trail-2/
CATEGORIES:Other
END:VEVENT
BEGIN:VEVENT
DTSTART;VALUE=DATE:20190321
DTEND;VALUE=DATE:20190322
DTSTAMP:20260423T182616
CREATED:20190225T123436Z
LAST-MODIFIED:20200219T232452Z
UID:10004795-1553126400-1553126400@heysentrail.asn.au
SUMMARY:The Friends Shed Maintenance Day - Cobbler Creek
DESCRIPTION:We need helpers to sort our supplies\, keep the shed in good order and prepare materials for the trail. If you can’t make it for the whole day\, any contribution is welcome.\n\nThere are a range of jobs to be done which may vary from week to week as we get ready for different projects. Colin can also assign jobs based on your physical abilities.\n\nTasks to be done over the next few weeks include:\n\nâ€¢ Preparing camping benches for installation.\n\nâ€¢ Cutting up timber\,\n\nâ€¢ Installing internal fittings on our newly acquired hut\,
URL:https://heysentrail.asn.au/walking-the-heysen-trail/walk-the-trail-with-the-friends/walk-calendar/the-friends-shed-maintenance-day-cobbler-creek-11/
CATEGORIES:Friends Shed Maintenance Day
END:VEVENT
BEGIN:VEVENT
DTSTART;VALUE=DATE:20190320
DTEND;VALUE=DATE:20190321
DTSTAMP:20260423T182616
CREATED:20181123T211725Z
LAST-MODIFIED:20200219T232452Z
UID:10005468-1553040000-1553040000@heysentrail.asn.au
SUMMARY:Summertown
DESCRIPTION:A pleasant walk through the backstreets and reserves of Summertown at the top of Greenhill Road including a short section of the Heysen Trail and a brief time along the northeastern edge of the Cleland Cons. Park.\n\nThere a couple of short climbs during the walk but nothing too testing.\n\nAn optional dinner at the Uraidla Hotel after the walk.
URL:https://heysentrail.asn.au/walking-the-heysen-trail/walk-the-trail-with-the-friends/walk-calendar/summertown-3/
CATEGORIES:Summer Walks
END:VEVENT
BEGIN:VEVENT
DTSTART;VALUE=DATE:20190314
DTEND;VALUE=DATE:20190315
DTSTAMP:20260423T182616
CREATED:20190225T041429Z
LAST-MODIFIED:20200219T232452Z
UID:10004793-1552521600-1552521600@heysentrail.asn.au
SUMMARY:Friends Shed Maintenance Day - Cobbler Creek
DESCRIPTION:We need helpers to sort our supplies\, keep the shed in good order and prepare materials for the trail. If you can’t make it for the whole day\, any contribution is welcome.\n\nThere are a range of jobs to be done which may vary from week to week as we get ready for different projects. Colin can also assign jobs based on your physical abilities.\n\nTasks to be done over the next few weeks include:\n\nâ€¢ Preparing camping benches for installation.\n\nâ€¢ Preparing for the Baderloo toilet installtion trip\,\n\nâ€¢ Installing internal fittings on our newly acquired hut\,
URL:https://heysentrail.asn.au/walking-the-heysen-trail/walk-the-trail-with-the-friends/walk-calendar/friends-shed-maintenance-day-cobbler-creek-2/
CATEGORIES:Friends Shed Maintenance Day
END:VEVENT
BEGIN:VEVENT
DTSTART;VALUE=DATE:20190313
DTEND;VALUE=DATE:20190314
DTSTAMP:20260423T182616
CREATED:20181019T224159Z
LAST-MODIFIED:20200219T232452Z
UID:10005455-1552435200-1552435200@heysentrail.asn.au
SUMMARY:Semaphore Main Street Hysterical Walk
DESCRIPTION:Semaphore’s history isn’t confined to a museum. Even from the end of the jetty you can see the Timeball Tower\, the oldest working carousel in the southern hemisphere\, the glorious 1920s Palais bathing pavilion (now the Semaphore Palais hotel)\, historical buildings along Semaphore Road and the Ozone Theatre building.\n\nSemaphore Road â€“ one of Adelaide’s widest boulevards â€“ is finding a new sense of style. Funky boutiques have opened their doors alongside famous â€˜old salt’ pubs. Contemporary cafes are serving beneath the tin ceilings of century-old buildings. Indulge in high quality food in a beachside atmosphere\, where fine dining and great pubs mix with quirky cafes and good old-fashioned fish and chips.\n\nThe walk to be followed by a meal at one of the local eating houses.
URL:https://heysentrail.asn.au/walking-the-heysen-trail/walk-the-trail-with-the-friends/walk-calendar/semaphore-main-street-hysterical-walk/
CATEGORIES:Summer Walks
END:VEVENT
BEGIN:VEVENT
DTSTART;VALUE=DATE:20190307
DTEND;VALUE=DATE:20190308
DTSTAMP:20260423T182616
CREATED:20190225T040907Z
LAST-MODIFIED:20200219T232452Z
UID:10004791-1551916800-1551916800@heysentrail.asn.au
SUMMARY:Friends Shed Maintenance Day - Cobbler Creek
DESCRIPTION:We need helpers to sort our supplies\, keep the shed in good order and prepare materials for the trail. If you can’t make it for the whole day\, any contribution is welcome.\n\nThere are a range of jobs to be done which may vary from week to week as we get ready for different projects. Colin can also assign jobs based on your physical abilities.\n\nTasks to be done over the next few weeks include:\n\nâ€¢ Preparing camping benches for installation.\n\nâ€¢ Preparing for the Baderloo toilet installtion trip\,\n\nâ€¢ Installing internal fittings on our newly acquired hut\,
URL:https://heysentrail.asn.au/walking-the-heysen-trail/walk-the-trail-with-the-friends/walk-calendar/friends-shed-maintenance-day-cobbler-creek/
CATEGORIES:Friends Shed Maintenance Day
END:VEVENT
BEGIN:VEVENT
DTSTART;VALUE=DATE:20190306
DTEND;VALUE=DATE:20190307
DTSTAMP:20260423T182616
CREATED:20181019T053101Z
LAST-MODIFIED:20200219T232452Z
UID:10005380-1551830400-1551830400@heysentrail.asn.au
SUMMARY:Norton Summit
DESCRIPTION:A comfortable walk around Norton Summit area including a short stints on the Heysen and Adelaide 100 trails\, some back roads & through some pleasant bushland.\n\nThis is a gentle walk with just a couple of kindly inclines.\n\nAn optional dinner after the walk at the Scenic Hotel.
URL:https://heysentrail.asn.au/walking-the-heysen-trail/walk-the-trail-with-the-friends/walk-calendar/norton-summit/
CATEGORIES:Summer Walks
END:VEVENT
BEGIN:VEVENT
DTSTART;VALUE=DATE:20190228
DTEND;VALUE=DATE:20190301
DTSTAMP:20260423T182616
CREATED:20190128T212126Z
LAST-MODIFIED:20200219T232452Z
UID:10005492-1551312000-1551312000@heysentrail.asn.au
SUMMARY:The Friend's Shed Maintenance Day - Cobbler Creek
DESCRIPTION:We need helpers to sort our supplies\, keep the shed in good order and prepare materials for the trail. If you can’t make it for the whole day\, any contribution is welcome.\n\nThere are a range of jobs to be done which may vary from week to week as we get ready for different projects. Colin can also assign jobs based on your physical abilities.\n\nTasks to be done over the next few weeks include:\n\nâ€¢ Cutting up timber\,\n\nâ€¢ Installing internal fittings on our newly acquired hut\,\n\nâ€¢ Preparing camping benches for installation.
URL:https://heysentrail.asn.au/walking-the-heysen-trail/walk-the-trail-with-the-friends/walk-calendar/the-friends-shed-maintenance-day-cobbler-creek-10/
CATEGORIES:Friends Shed Maintenance Day
END:VEVENT
BEGIN:VEVENT
DTSTART;VALUE=DATE:20190227
DTEND;VALUE=DATE:20190228
DTSTAMP:20260423T182616
CREATED:20181019T052958Z
LAST-MODIFIED:20200219T232452Z
UID:10005378-1551225600-1551225600@heysentrail.asn.au
SUMMARY:Kingston Park
DESCRIPTION:This is a walk to explore the beach and gullies in the area. Even though it is forecast to be 32C on Wednesday the 27th Feb it is usually a few degrees  cooler by the sea. If it is hot we can turn it into a pleasant beach walk and skip the hills. The walk will start at 6pm and finish about 730pm followed by an optional dinner at the Seacliff Hotel.
URL:https://heysentrail.asn.au/walking-the-heysen-trail/walk-the-trail-with-the-friends/walk-calendar/kingston-park/
CATEGORIES:Summer Walks
END:VEVENT
BEGIN:VEVENT
DTSTART;VALUE=DATE:20190221
DTEND;VALUE=DATE:20190222
DTSTAMP:20260423T182616
CREATED:20190128T211519Z
LAST-MODIFIED:20200219T232452Z
UID:10005491-1550707200-1550707200@heysentrail.asn.au
SUMMARY:The Friend's Shed Maintenance Day - Cobbler Creek
DESCRIPTION:We need helpers to sort our supplies\, keep the shed in good order and prepare materials for the trail. If you can’t make it for the whole day\, any contribution is welcome.\n\nThere are a range of jobs to be done which may vary from week to week as we get ready for different projects. Colin can also assign jobs based on your physical abilities.\n\nTasks to be done over the next few weeks include:\n\nâ€¢ Cutting up timber\,\n\nâ€¢ Installing internal fittings on our newly acquired hut\,\n\nâ€¢ Preparing camping benches for installation.
URL:https://heysentrail.asn.au/walking-the-heysen-trail/walk-the-trail-with-the-friends/walk-calendar/the-friends-shed-maintenance-day-cobbler-creek-9/
CATEGORIES:Friends Shed Maintenance Day
END:VEVENT
BEGIN:VEVENT
DTSTART;VALUE=DATE:20190220
DTEND;VALUE=DATE:20190221
DTSTAMP:20260423T182616
CREATED:20181123T211028Z
LAST-MODIFIED:20200219T232452Z
UID:10005465-1550620800-1550620800@heysentrail.asn.au
SUMMARY:Grange to Torrens outlet and back
DESCRIPTION:A beach and/or path walk depending on personal preference\, pace of the group and conditions.  We may not make it to the Torrens outlet\, if not\, we will turn around after about 50 minutes to make it back in time for dinner.  Any queries\, please contact the leader on \n\n0421 177 822.  Please don’t be late arriving\, as we may not wait for you if you are late!\n\n**LATE UPDATE: Dinner is not possible at the Grange Jetty Cafe by the time we finish the walk.  Possible dinner at Grange Hotel instead\, may be decided on the night.\n\n**PLEASE NOTE:  THERE IS A SIMILAR WALK ON THE SAME DAY AT 5.30 PM RUN BY ADELAIDE WALKERS AND JOGGERS.  YOUR LEADER BASED HIS WALK ON THIS ONE\, BUT DID NOT CHECK THE DATE THAT IT WAS BEING RUN!  PLEASE MAKE SURE THAT YOU JOIN THE CORRECT WALK!  MY WALK STARTS AT 6 PM!
URL:https://heysentrail.asn.au/walking-the-heysen-trail/walk-the-trail-with-the-friends/walk-calendar/grange-to-torrens-outlet-and-back/
CATEGORIES:Summer Walks
END:VEVENT
BEGIN:VEVENT
DTSTART;VALUE=DATE:20190214
DTEND;VALUE=DATE:20190215
DTSTAMP:20260423T182616
CREATED:20190128T210936Z
LAST-MODIFIED:20200219T232452Z
UID:10005490-1550102400-1550102400@heysentrail.asn.au
SUMMARY:The Friend's Shed Maintenance Day - Cobbler Creek
DESCRIPTION:We need helpers to sort our supplies\, keep the shed in good order and prepare materials for the trail. If you can’t make it for the whole day\, any contribution is welcome.\n\nThere are a range of jobs to be done which may vary from week to week as we get ready for different projects. Colin can also assign jobs based on your physical abilities.\n\nTasks to be done over the next few weeks include:\n\nâ€¢ Cutting up timber\,\n\nâ€¢ Installing internal fittings on our newly acquired hut\,\n\nâ€¢ Preparing camping benches for installation.
URL:https://heysentrail.asn.au/walking-the-heysen-trail/walk-the-trail-with-the-friends/walk-calendar/the-friends-shed-maintenance-day-cobbler-creek-8/
CATEGORIES:Friends Shed Maintenance Day
END:VEVENT
BEGIN:VEVENT
DTSTART;VALUE=DATE:20190213
DTEND;VALUE=DATE:20190214
DTSTAMP:20260423T182616
CREATED:20181019T052535Z
LAST-MODIFIED:20200219T232452Z
UID:10005376-1550016000-1550016000@heysentrail.asn.au
SUMMARY:Port Noarlunga
DESCRIPTION:A wander through some features of a place that retains a village feel\, then following a route by the river across a footbridge to the mouth and concluding with a stroll along the beach.  1.5-2hours approx. 5-6km that may be modified subject to weather.
URL:https://heysentrail.asn.au/walking-the-heysen-trail/walk-the-trail-with-the-friends/walk-calendar/port-noarlunga/
CATEGORIES:Summer Walks
END:VEVENT
BEGIN:VEVENT
DTSTART;VALUE=DATE:20190207
DTEND;VALUE=DATE:20190208
DTSTAMP:20260423T182616
CREATED:20190128T210211Z
LAST-MODIFIED:20200219T232452Z
UID:10005484-1549497600-1549497600@heysentrail.asn.au
SUMMARY:The Friend's Shed Maintenance Day - Cobbler Creek
DESCRIPTION:We need helpers to sort our supplies\, keep the shed in good order and prepare materials for the trail. If you can’t make it for the whole day\, any contribution is welcome.\n\nThere are a range of jobs to be done which may vary from week to week as we get ready for different projects. Colin can also assign jobs based on your physical abilities.\n\nTasks to be done over the next few weeks include:\n\nâ€¢ Cutting up timber\,\n\nâ€¢ Installing internal fittings on our newly acquired hut\,\n\nâ€¢ Preparing camping benches for installation.
URL:https://heysentrail.asn.au/walking-the-heysen-trail/walk-the-trail-with-the-friends/walk-calendar/the-friends-shed-maintenance-day-cobbler-creek-7/
CATEGORIES:Friends Shed Maintenance Day
END:VEVENT
BEGIN:VEVENT
DTSTART;VALUE=DATE:20190206
DTEND;VALUE=DATE:20190207
DTSTAMP:20260423T182616
CREATED:20181019T052444Z
LAST-MODIFIED:20200219T232452Z
UID:10005374-1549411200-1549411200@heysentrail.asn.au
SUMMARY:SE Parklands
DESCRIPTION:Come and explore Adelaide city’s south eastern corner and its surrounds. This walk will take us along cosmopolitan Hutt Street\, through Tuthangga (Park 17) adjacent a historic carriageway and then along the western edge of Victoria Park / Pakakanthi (Park 16). We’ll then cross Wakefield Street into Ityamai-Itpina (Park 15) and then walk back along East Terrace\, the only street in Colonel Light’s plan that wasn’t straight\, past historic olive groves and grand homes\, both old and new.\n\nOptional meal after the walk at the Havelock Hotel.
URL:https://heysentrail.asn.au/walking-the-heysen-trail/walk-the-trail-with-the-friends/walk-calendar/se-parklands/
CATEGORIES:Summer Walks
END:VEVENT
BEGIN:VEVENT
DTSTART;VALUE=DATE:20190131
DTEND;VALUE=DATE:20190201
DTSTAMP:20260423T182616
CREATED:20190128T200731Z
LAST-MODIFIED:20200219T232452Z
UID:10005482-1548892800-1548892800@heysentrail.asn.au
SUMMARY:The Friend's Shed Maintenance Day- Cobbler Creek
DESCRIPTION:We need helpers to sort our supplies\, keep the shed in good order and prepare materials for the trail. If you can’t make it for the whole day\, any contribution is welcome.\n\nThere are a range of jobs to be done which may vary from week to week as we get ready for different projects. Colin can also assign jobs based on your physical abilities.\n\nTasks to be done over the next few weeks include:\n\nâ€¢ Cutting up timber\,\n\nâ€¢ Installing internal fittings on our newly acquired hut\,\n\nâ€¢ Preparing camping benches for installation.
URL:https://heysentrail.asn.au/walking-the-heysen-trail/walk-the-trail-with-the-friends/walk-calendar/the-friends-shed-maintenance-day-cobbler-creek-6/
CATEGORIES:Friends Shed Maintenance Day
END:VEVENT
BEGIN:VEVENT
DTSTART;VALUE=DATE:20190130
DTEND;VALUE=DATE:20190131
DTSTAMP:20260423T182616
CREATED:20181019T052353Z
LAST-MODIFIED:20200219T232452Z
UID:10005372-1548806400-1548806400@heysentrail.asn.au
SUMMARY:Wild Dog Glen
DESCRIPTION:A walk into the hills above Mitcham.\n\nSteep and challenging in parts
URL:https://heysentrail.asn.au/walking-the-heysen-trail/walk-the-trail-with-the-friends/walk-calendar/wild-dog-glen-5/
CATEGORIES:Summer Walks
END:VEVENT
BEGIN:VEVENT
DTSTART;VALUE=DATE:20190124
DTEND;VALUE=DATE:20190125
DTSTAMP:20260423T182616
CREATED:20181230T210059Z
LAST-MODIFIED:20200219T232452Z
UID:10005473-1548288000-1548288000@heysentrail.asn.au
SUMMARY:The Friends Shed Maintenance Day - Cancelled
DESCRIPTION:We need helpers to sort our supplies\, keep the shed in good order and prepare materials for the trail. If you can’t make it for the whole day\, any contribution is welcome.\n\nThere are a range of jobs to be done which may vary from week to week as we get ready for different projects. Colin can also assign jobs based on your physical abilities.\n\nTasks to be done over the next few weeks include:\n\nâ€¢ Cutting up timber\,\n\nâ€¢ Installing internal fittings on our newly acquired hut\,\n\nâ€¢ Preparing camping benches for installation.
URL:https://heysentrail.asn.au/walking-the-heysen-trail/walk-the-trail-with-the-friends/walk-calendar/the-friends-shed-maintenance-day-cancelled/
CATEGORIES:Friends Shed Maintenance Day
END:VEVENT
BEGIN:VEVENT
DTSTART;VALUE=DATE:20190123
DTEND;VALUE=DATE:20190124
DTSTAMP:20260423T182616
CREATED:20181019T052225Z
LAST-MODIFIED:20200219T232452Z
UID:10005370-1548201600-1548201600@heysentrail.asn.au
SUMMARY:Cancelled\, no walkers
DESCRIPTION:
URL:https://heysentrail.asn.au/walking-the-heysen-trail/walk-the-trail-with-the-friends/walk-calendar/cancelled-no-walkers/
CATEGORIES:Summer Walks
END:VEVENT
BEGIN:VEVENT
DTSTART;VALUE=DATE:20190117
DTEND;VALUE=DATE:20190118
DTSTAMP:20260423T182616
CREATED:20181213T014522Z
LAST-MODIFIED:20200219T232452Z
UID:10005471-1547683200-1547683200@heysentrail.asn.au
SUMMARY:The Friends Shed Maintenance Day - Cobbler Creek
DESCRIPTION:This is our first Shed day for the year. \n\nWe need helpers to sort our supplies\, keep the shed in good order and prepare materials for the trail. If you can’t make it for the whole day\, any contribution is welcome.\n\nTasks to be done over the next few weeks include:\n\nâ€¢ Cutting up timber\,\n\nâ€¢ Installing internal fittings on our newly acquired hut\,\n\nâ€¢ Preparing camping benches for installation.  \n\nColin can also assign jobs based on your physical abilities.
URL:https://heysentrail.asn.au/walking-the-heysen-trail/walk-the-trail-with-the-friends/walk-calendar/the-friends-shed-maintenance-day-cobbler-creek-5/
CATEGORIES:Friends Shed Maintenance Day
END:VEVENT
BEGIN:VEVENT
DTSTART;VALUE=DATE:20190116
DTEND;VALUE=DATE:20190117
DTSTAMP:20260423T182616
CREATED:20181019T052141Z
LAST-MODIFIED:20200219T232452Z
UID:10005368-1547596800-1547596800@heysentrail.asn.au
SUMMARY:Mitcham
DESCRIPTION:Join us for an evening stroll along Brownhill Creek and through surrounding areas. Hopefully spotting some wildlife along the way. Optional meal at the Edinburgh Hotel after the walk\n\n*****Due to the possibility of very hot weather\, we will either shorten the walk or cancel. Please watch this space!
URL:https://heysentrail.asn.au/walking-the-heysen-trail/walk-the-trail-with-the-friends/walk-calendar/mitcham/
CATEGORIES:Summer Walks
END:VEVENT
BEGIN:VEVENT
DTSTART;VALUE=DATE:20190109
DTEND;VALUE=DATE:20190110
DTSTAMP:20260423T182616
CREATED:20181019T052057Z
LAST-MODIFIED:20200219T232452Z
UID:10005367-1546992000-1546992000@heysentrail.asn.au
SUMMARY:Botanic Park
DESCRIPTION:Join in a gentle stroll through the Botanic Gardens (before the gates close)\, Botanic Park and around the Torrens Lake (including the footbridge at the oval). Optional dinner at the Hackney Hotel afterwards.\n\nWalk will be mostly on sealed paths\, so boots and poles definitely not required.
URL:https://heysentrail.asn.au/walking-the-heysen-trail/walk-the-trail-with-the-friends/walk-calendar/botanic-park/
CATEGORIES:Summer Walks
END:VEVENT
BEGIN:VEVENT
DTSTART;VALUE=DATE:20190102
DTEND;VALUE=DATE:20190103
DTSTAMP:20260423T182616
CREATED:20181002T070137Z
LAST-MODIFIED:20200219T232452Z
UID:10004718-1546387200-1546387200@heysentrail.asn.au
SUMMARY:Chambers Gully
DESCRIPTION:We will enjoy the cool sanctuary of Chambers Gully as we follow the track fringed with ferns. Cockatoos\, butterflies\, koalas and bandicoots love this gully.  A fairly steep climb takes us up around SugarLoaf hill\, which provides splendid views of the city and coast.\n\nThe ground is quite uneven so wear sturdy walking boots\, and bring your poles if you want.\n\nJoin us for a meal afterwards at Cascada Cafe – 540 Glynburn Road\, Burnside. This is  optional.
URL:https://heysentrail.asn.au/walking-the-heysen-trail/walk-the-trail-with-the-friends/walk-calendar/chambers-gully-9/
CATEGORIES:Summer Walks
END:VEVENT
BEGIN:VEVENT
DTSTART;VALUE=DATE:20181219
DTEND;VALUE=DATE:20181220
DTSTAMP:20260423T182616
CREATED:20181019T051956Z
LAST-MODIFIED:20200219T232452Z
UID:10005366-1545177600-1545177600@heysentrail.asn.au
SUMMARY:West Beach
DESCRIPTION:Come along and enjoy a twilight walk along the West Beach seafront and River Torrens Linear Trail. Distance is approx. 6.0kms. Optional meal after the walk at The Henley Beach Hotel.
URL:https://heysentrail.asn.au/walking-the-heysen-trail/walk-the-trail-with-the-friends/walk-calendar/west-beach/
CATEGORIES:Summer Walks
END:VEVENT
BEGIN:VEVENT
DTSTART;VALUE=DATE:20181213
DTEND;VALUE=DATE:20181214
DTSTAMP:20260423T182616
CREATED:20181127T071252Z
LAST-MODIFIED:20200219T232452Z
UID:10005470-1544659200-1544659200@heysentrail.asn.au
SUMMARY:The Friends Shed Maintenance Day - Cobbler Creek
DESCRIPTION:We have our last Shed day for the year and again we need your help.\n\nWe need helpers to keep the shed in good order and prepare materials for the trail.\n\nThere are a range of jobs to be done which may vary from week to week as we get ready for different projects. Colin can also assign jobs based on your physical abilities.\n\nTasks to be done over the next few weeks include:\n\nâ€¢ Cutting up timber suitable for making stiles\,\n\nâ€¢ Painting our newly acquired hut in preparation for installation\,\n\nâ€¢ Preparing camping benches for installation.
URL:https://heysentrail.asn.au/walking-the-heysen-trail/walk-the-trail-with-the-friends/walk-calendar/the-friends-shed-maintenance-day-cobbler-creek-4/
CATEGORIES:Friends Shed Maintenance Day
END:VEVENT
BEGIN:VEVENT
DTSTART;VALUE=DATE:20181212
DTEND;VALUE=DATE:20181213
DTSTAMP:20260423T182616
CREATED:20181019T051854Z
LAST-MODIFIED:20200219T232452Z
UID:10005365-1544572800-1544572800@heysentrail.asn.au
SUMMARY:Anstey's Hill
DESCRIPTION:An evening walk around Anstey’s Hill Recreation Park pathways including the original Newman’s Nursery ruins. \n\nBe on the look out for the local wildlife.\n\nThere are a couple of hills during the walk\, including Torture Hill\, but nothing too hard.
URL:https://heysentrail.asn.au/walking-the-heysen-trail/walk-the-trail-with-the-friends/walk-calendar/ansteys-hill-3/
CATEGORIES:Summer Walks
END:VEVENT
BEGIN:VEVENT
DTSTART;VALUE=DATE:20181206
DTEND;VALUE=DATE:20181207
DTSTAMP:20260423T182616
CREATED:20181115T213955Z
LAST-MODIFIED:20200219T232452Z
UID:10005463-1544054400-1544054400@heysentrail.asn.au
SUMMARY:The Friends Shed Maintenance Day - Cobbler Creek
DESCRIPTION:We have another Shed day planned and we need your help. \n\nWe need helpers to sort our supplies\, keep the shed in good order and prepare materials for the trail.\n\nThere are a range of jobs to be done which may vary from week to week as we get ready for different projects. Colin can also assign jobs based on your physical abilities.\n\nTasks to be done over the next few weeks include:\n\nâ€¢ Cutting up timber suitable for making stiles\,\n\nâ€¢ Preliminary work on our newly acquired hut in preparation for installation\,\n\nâ€¢ Preparing camping benches for installation.
URL:https://heysentrail.asn.au/walking-the-heysen-trail/walk-the-trail-with-the-friends/walk-calendar/the-friends-shed-maintenance-day-cobbler-creek-3/
CATEGORIES:Friends Shed Maintenance Day
END:VEVENT
BEGIN:VEVENT
DTSTART;VALUE=DATE:20181205
DTEND;VALUE=DATE:20181206
DTSTAMP:20260423T182616
CREATED:20181016T052424Z
LAST-MODIFIED:20200219T232451Z
UID:10004727-1543968000-1543968000@heysentrail.asn.au
SUMMARY:O'Halloran Hill
DESCRIPTION:Explore tracks through the O’Halloran Hill Conservation Park before it is “renovated” into the recently proclaimed Glenthorne National Park.  A few undulations giving views across the city and coast; plenty of birds but perhaps more weeds than wildlflowers.  Wandering for approx 5-6kms up to 2 hours.
URL:https://heysentrail.asn.au/walking-the-heysen-trail/walk-the-trail-with-the-friends/walk-calendar/ohalloran-hill/
CATEGORIES:Summer Walks
END:VEVENT
BEGIN:VEVENT
DTSTART;VALUE=DATE:20181202
DTEND;VALUE=DATE:20181203
DTSTAMP:20260423T182616
CREATED:20180724T031252Z
LAST-MODIFIED:20200219T232451Z
UID:10005301-1543708800-1543708800@heysentrail.asn.au
SUMMARY:Xmas Bash
DESCRIPTION:Come and Rock and Roll to foot-tapping band “Raunchy Sugar” at the green surroundings of Karka Pavilion in Belair National Park\, Upper Sturt Road\, Belair. https://goo.gl/maps/nguzMrCm8uM2\n\nSunday 2 December\, midday to 4.30pm $20 per person\n\nPark entry fees are waived for attending members. Please mention at the entry gate at Belair National Park that you are attending a Friends of Heysen Trail function at Karka Pavilion\, you will then be directed to the venue.\n\nBefores\, BBQ and artisan bread will be provided. \n\nBring a Salad or Dessert to share\, bring chair or rug\, glass\, plates & cutlery.\n\nBring your partner/spouse and family.\n\nBYO Wine\, beer or soft drinks. \n\nNo refunds!
URL:https://heysentrail.asn.au/walking-the-heysen-trail/walk-the-trail-with-the-friends/walk-calendar/xmas-bash/
CATEGORIES:Social
END:VEVENT
BEGIN:VEVENT
DTSTART;VALUE=DATE:20181129
DTEND;VALUE=DATE:20181130
DTSTAMP:20260423T182616
CREATED:20181115T213310Z
LAST-MODIFIED:20200219T232451Z
UID:10005461-1543449600-1543449600@heysentrail.asn.au
SUMMARY:The Friends Shed Maintenance Day - Cobbler Creek
DESCRIPTION:We have another Shed day planned and we need your help.\n\nWe need helpers to sort our supplies\, keep the shed in good order and prepare materials for the trail.\n\nThere are a range of jobs to be done which may vary from week to week as we get ready for different projects. Colin can also assign jobs based on your physical abilities.\n\nTasks to be done over the next few weeks include:\n\nâ€¢ Cutting up timber suitable for making stiles\,\n\nâ€¢ Preliminary work on our newly acquired hut in preparation for installation\,\n\nâ€¢ Preparing camping benches for installation.
URL:https://heysentrail.asn.au/walking-the-heysen-trail/walk-the-trail-with-the-friends/walk-calendar/the-friends-shed-maintenance-day-cobbler-creek-2/
CATEGORIES:Friends Shed Maintenance Day
END:VEVENT
END:VCALENDAR