BEGIN:VCALENDAR
VERSION:2.0
PRODID:-//Friends of the Heysen Trail - ECPv6.15.20//NONSGML v1.0//EN
CALSCALE:GREGORIAN
METHOD:PUBLISH
X-WR-CALNAME:Friends of the Heysen Trail
X-ORIGINAL-URL:https://heysentrail.asn.au
X-WR-CALDESC:Events for Friends of the Heysen Trail
REFRESH-INTERVAL;VALUE=DURATION:PT1H
X-Robots-Tag:noindex
X-PUBLISHED-TTL:PT1H
BEGIN:VTIMEZONE
TZID:Australia/Adelaide
BEGIN:STANDARD
TZOFFSETFROM:+1030
TZOFFSETTO:+0930
TZNAME:ACST
DTSTART:20180331T163000
END:STANDARD
BEGIN:DAYLIGHT
TZOFFSETFROM:+0930
TZOFFSETTO:+1030
TZNAME:ACDT
DTSTART:20181006T163000
END:DAYLIGHT
BEGIN:STANDARD
TZOFFSETFROM:+1030
TZOFFSETTO:+0930
TZNAME:ACST
DTSTART:20190406T163000
END:STANDARD
BEGIN:DAYLIGHT
TZOFFSETFROM:+0930
TZOFFSETTO:+1030
TZNAME:ACDT
DTSTART:20191005T163000
END:DAYLIGHT
BEGIN:STANDARD
TZOFFSETFROM:+1030
TZOFFSETTO:+0930
TZNAME:ACST
DTSTART:20200404T163000
END:STANDARD
BEGIN:DAYLIGHT
TZOFFSETFROM:+0930
TZOFFSETTO:+1030
TZNAME:ACDT
DTSTART:20201003T163000
END:DAYLIGHT
END:VTIMEZONE
BEGIN:VEVENT
DTSTART;VALUE=DATE:20190803
DTEND;VALUE=DATE:20190805
DTSTAMP:20260423T144827
CREATED:20181016T105603Z
LAST-MODIFIED:20200219T232508Z
UID:10004733-1564790400-1564876800@heysentrail.asn.au
SUMMARY:Horrocks Pass to Broadview to Woolshed Flat
DESCRIPTION:Day 1: Saturday 4th August 2019 Broadview to Woolshed Flat 16kms\n\nStarting with a tough climb out of Horrocks Pass to the ridge\, the Trail traverses exposed\, gibber littered hills and farmland.  Walkers are rewarded with views over the Willochra Plain. \n\nDay 2: Sunday 5th August 2019\n\nThis section of the trail climbs through grazing land and natural scrub to Mount Brown\, where walkers are provided with spectacular views of the northern Spencer Gulf from the viewing tower.  A pretty single file descent leads Waukarie Creek and a classic Flinders Ranges creek walk.\n\n*If you would like to register to walk one day only\, please contact the FOTH office to register*
URL:https://heysentrail.asn.au/walking-the-heysen-trail/walk-the-trail-with-the-friends/walk-calendar/horrocks-pass-to-broadview-to-woolshed-flat-4/
CATEGORIES:End-to-End 10
END:VEVENT
BEGIN:VEVENT
DTSTART;VALUE=DATE:20190801
DTEND;VALUE=DATE:20190802
DTSTAMP:20260423T144827
CREATED:20190711T022600Z
LAST-MODIFIED:20200219T232507Z
UID:10004812-1564617600-1564617600@heysentrail.asn.au
SUMMARY:The Friends Shed Maintenance Day - Cobbler Creek
DESCRIPTION:Maintenance Days at the Friends Shed at Cobbler Creek.\n\nVolunteers are welcome to join in. You don’t have to be an expert handy person.\n\nPlease register so we can anticipate numbers and plan jobs.
URL:https://heysentrail.asn.au/walking-the-heysen-trail/walk-the-trail-with-the-friends/walk-calendar/the-friends-shed-maintenance-day-cobbler-creek-24/
CATEGORIES:Friends Shed Maintenance Day
END:VEVENT
BEGIN:VEVENT
DTSTART;VALUE=DATE:20190728
DTEND;VALUE=DATE:20190729
DTSTAMP:20260423T144827
CREATED:20181019T055811Z
LAST-MODIFIED:20200219T232507Z
UID:10005410-1564272000-1564272000@heysentrail.asn.au
SUMMARY:Kyeema and Kuitpo
DESCRIPTION:21km loop around Kyeema Conservation Park and Kuitpo Forest.\n\nStart in the gorgeous eucalypt forest of Kyeema before entering the calm of the pines of Kuitpo.\n\nNo hills\, but some challenging undulations to get the breathing up.\n\nThe route is subject to late change without notice due to logging.
URL:https://heysentrail.asn.au/walking-the-heysen-trail/walk-the-trail-with-the-friends/walk-calendar/kyeema-and-kuitpo/
CATEGORIES:Trail Walker
END:VEVENT
BEGIN:VEVENT
DTSTART;VALUE=DATE:20190728
DTEND;VALUE=DATE:20190729
DTSTAMP:20260423T144827
CREATED:20181019T055708Z
LAST-MODIFIED:20200219T232507Z
UID:10004765-1564272000-1564272000@heysentrail.asn.au
SUMMARY:Dry Creek Trail
DESCRIPTION:A relatively flat walk with a few gentle undulations along a pretty portion of the Dry Creek Trail from Valley View to Bridge Rd and return. A few historical buildings to be looked at from the original Yatala jail. Sturdy trail shoes or hiking boots preferred due to some single track. Bring morning tea and water for along the trail. Raincoat if the weather requires. 10km\, approx 2-3 hours.
URL:https://heysentrail.asn.au/walking-the-heysen-trail/walk-the-trail-with-the-friends/walk-calendar/dry-creek-trail/
CATEGORIES:Trail Starter
END:VEVENT
BEGIN:VEVENT
DTSTART;VALUE=DATE:20190727
DTEND;VALUE=DATE:20190729
DTSTAMP:20260423T144827
CREATED:20181019T113623Z
LAST-MODIFIED:20200219T232507Z
UID:10005450-1564185600-1564272000@heysentrail.asn.au
SUMMARY:EE George Quarry to Spalding Rd to the Chlorinator
DESCRIPTION:NOTE – If you wish to walk on only one day\, please contact the FOHT office (once bookings have opened) to register for that day’s walk. The online registration system will only allow you to register for both days.\n\nBoth of this weekends walks pass along features of historical significance in the Mid North of the State.\n\nSATURDAY 27th JULY\n\nMost of this section is spent walking south\, initially along the crest of the Brown Hill Range\, following the remnants of an 1840 stone wall(the longest in SA).It is quite an undulating walk with little shelter from the elements\, however the views make up for any discomfort(please ensure you have suitable clothing). The final 5 or so klms follow rural back roads to the main Spalding to Burra road.\n\nSUNDAY 28th JULY\n\nThis is a very flat but unique walk that follows the freshwater intake channel for the Bundaleer Reservior\, only leaving it for a few klms to go through Spalding. Walkers will see some fascinating examples of engineering from the early 1900’s.\n\nDinner on Saturday evening will be at the Spalding Hotel from 6.30pm.\n\nThe theme for this evening dinner is all things “FRENCH” in recognition of the Tour de France and Bastille Day etc.
URL:https://heysentrail.asn.au/walking-the-heysen-trail/walk-the-trail-with-the-friends/walk-calendar/ee-george-quarry-to-spalding-rd-to-the-chlorinator/
CATEGORIES:End-to-End 11
END:VEVENT
BEGIN:VEVENT
DTSTART;VALUE=DATE:20190727
DTEND;VALUE=DATE:20190728
DTSTAMP:20260423T144827
CREATED:20181013T032305Z
LAST-MODIFIED:20211123T001946Z
UID:10005337-1564185600-1564185600@heysentrail.asn.au
SUMMARY:Willunga Basin Trail
DESCRIPTION:Stage 4 in our exploration along the new Willunga Basin Trail – yet to be marked – 120km loop around the basin south of Adelaide. \n\nCommencing in Willunga we take a long slow climb along Delabole Road and Range Road toward Mt Terrible for some wonderful views across the wine region and basin.  The descent will cover road reserve and country roads to finish at Sellicks Hill. \n\nDistance approx. 18 kms 6 hours\n\nUsual requirements to bring water\, snacks and lunch.
URL:https://heysentrail.asn.au/walking-the-heysen-trail/walk-the-trail-with-the-friends/walk-calendar/willunga-basin-trail-2019-4/
CATEGORIES:Willunga Basin Trail End-to-End
END:VEVENT
BEGIN:VEVENT
DTSTART;VALUE=DATE:20190725
DTEND;VALUE=DATE:20190726
DTSTAMP:20260423T144827
CREATED:20190711T022454Z
LAST-MODIFIED:20200219T232507Z
UID:10005536-1564012800-1564012800@heysentrail.asn.au
SUMMARY:The Friends Shed Maintenance Day - Cobbler Creek
DESCRIPTION:Maintenance Days at the Friends Shed at Cobbler Creek.\n\nVolunteers are welcome to join in. You don’t have to be an expert handy person.\n\nPlease register so we can anticipate numbers and plan jobs.
URL:https://heysentrail.asn.au/walking-the-heysen-trail/walk-the-trail-with-the-friends/walk-calendar/the-friends-shed-maintenance-day-cobbler-creek-23/
CATEGORIES:Friends Shed Maintenance Day
END:VEVENT
BEGIN:VEVENT
DTSTART;VALUE=DATE:20190721
DTEND;VALUE=DATE:20190722
DTSTAMP:20260423T144827
CREATED:20181019T055526Z
LAST-MODIFIED:20200604T082506Z
UID:10004762-1563667200-1563753599@heysentrail.asn.au
SUMMARY:Kaiser Stuhl Conservation Park
DESCRIPTION:Nestled amongst the Barossa Ranges\, Kaiserstuhl Conservation Park is visited by Heysen Trail walkers and includes several other trails.\n\nThe park rewards walkers with panoramic views\, fascinating rock formations and a range of native plants and animals.\n\nOur moderate grade walk will pass through a variety of landscapes including creeks\, rocky outcrops\, areas of low forest\, scrub and open grassland. It will include panoramic views across the ranges to the Barossa Valley.
URL:https://heysentrail.asn.au/walking-the-heysen-trail/walk-the-trail-with-the-friends/walk-calendar/kaiser-stuhl-conservation-park-2019/
CATEGORIES:Trail Starter
END:VEVENT
BEGIN:VEVENT
DTSTART;VALUE=DATE:20190721
DTEND;VALUE=DATE:20190722
DTSTAMP:20260423T144827
CREATED:20181022T112307Z
LAST-MODIFIED:20200219T232507Z
UID:10004777-1563667200-1563667200@heysentrail.asn.au
SUMMARY:Mylor to Cleland
DESCRIPTION:Although the most populous section of the trail\, it still retains a rural feel as walkers pass through the parks and bushland of Bridgewater\, Mt George Conservation Park\, Mt Lofty Botanic Gardens and Cleland Conservation Park.
URL:https://heysentrail.asn.au/walking-the-heysen-trail/walk-the-trail-with-the-friends/walk-calendar/mylor-to-cleland-6/
CATEGORIES:End-to-End 13
END:VEVENT
BEGIN:VEVENT
DTSTART;VALUE=DATE:20190721
DTEND;VALUE=DATE:20190722
DTSTAMP:20260423T144827
CREATED:20181019T055615Z
LAST-MODIFIED:20200219T232507Z
UID:10004764-1563667200-1563667200@heysentrail.asn.au
SUMMARY:Sea to Summit
DESCRIPTION:This iconic Adelaide walk winds its way from the coast through urban landscapes\, a series of recreation parks\, even passing a Buddhist stupa to the highest point in the Ranges overlooking the city.
URL:https://heysentrail.asn.au/walking-the-heysen-trail/walk-the-trail-with-the-friends/walk-calendar/sea-to-summit-3/
CATEGORIES:Trail Walker
END:VEVENT
BEGIN:VEVENT
DTSTART;VALUE=DATE:20190721
DTEND;VALUE=DATE:20190722
DTSTAMP:20260423T144827
CREATED:20180920T041417Z
LAST-MODIFIED:20200219T232507Z
UID:10004704-1563667200-1563667200@heysentrail.asn.au
SUMMARY:Pewsey Vale to Tanunda
DESCRIPTION:A long but easier section of the trail that runs through the Northern section of Mt Crawford forests and the native bushland of Kaiser Stuhl C/P with it’s unusual rock formations.Panoramic vistas over the Barossa Valley and Lower North are a highlight
URL:https://heysentrail.asn.au/walking-the-heysen-trail/walk-the-trail-with-the-friends/walk-calendar/pewsey-vale-to-tanunda-7/
CATEGORIES:End-to-End 12
END:VEVENT
BEGIN:VEVENT
DTSTART;VALUE=DATE:20190718
DTEND;VALUE=DATE:20190719
DTSTAMP:20260423T144827
CREATED:20190711T022119Z
LAST-MODIFIED:20200219T232507Z
UID:10005535-1563408000-1563408000@heysentrail.asn.au
SUMMARY:The Friends Shed Maintenance Day - Cobbler Creek
DESCRIPTION:Maintenance Days at the Friends Shed at Cobbler Creek.\n\nVolunteers are welcome to join in. You don’t have to be an expert handy person.\n\nPlease register so we can anticipate numbers and plan jobs.
URL:https://heysentrail.asn.au/walking-the-heysen-trail/walk-the-trail-with-the-friends/walk-calendar/the-friends-shed-maintenance-day-cobbler-creek-22/
CATEGORIES:Friends Shed Maintenance Day
END:VEVENT
BEGIN:VEVENT
DTSTART;VALUE=DATE:20190717
DTEND;VALUE=DATE:20190718
DTSTAMP:20260423T144827
CREATED:20181018T012634Z
LAST-MODIFIED:20200219T232507Z
UID:10005356-1563321600-1563321600@heysentrail.asn.au
SUMMARY:Brownhill / Belair
DESCRIPTION:A loop walk starting from near the caravan park on Brown Hill Creek Road then into Mitcham then through the cemetery\, crossing old Belair Rd prior to climbing through Randell Park and out into the streets of Belair for a short stint before moving into Belair National Park. From the railway station entrance to park the walk will pass by Old Government House  and onto the climb up Saddle Hill Track before wending its way onto the Yurrebilla Trail and exiting the Park for the zig zag descent to Brown Hill Creek Road.\n\nAfter a stretch along Brown Hill Creek Road there will be a steep climb to the top of Brown Hill prior to descending back through McElligotts Reserve and down to the cars.\n\nThe walk includes 3 testing climbs so please be prepared.\n\nPlease remember the only stop during the walk will be for morning tea as the walk will finish prior to lunch.
URL:https://heysentrail.asn.au/walking-the-heysen-trail/walk-the-trail-with-the-friends/walk-calendar/brownhill-belair/
CATEGORIES:Trail Walker
END:VEVENT
BEGIN:VEVENT
DTSTART;VALUE=DATE:20190714
DTEND;VALUE=DATE:20190715
DTSTAMP:20260423T144827
CREATED:20181019T055432Z
LAST-MODIFIED:20200219T232507Z
UID:10004760-1563062400-1563062400@heysentrail.asn.au
SUMMARY:Anstey's Hill
DESCRIPTION:This walk will explore the more remote eastern section of Anstey Hill RP before visiting the  Newman’s Nursery historic site; thence the old silver mine site with views over the Adelaide Plains.
URL:https://heysentrail.asn.au/walking-the-heysen-trail/walk-the-trail-with-the-friends/walk-calendar/ansteys-hill-4/
CATEGORIES:Trail Starter
END:VEVENT
BEGIN:VEVENT
DTSTART;VALUE=DATE:20190714
DTEND;VALUE=DATE:20190715
DTSTAMP:20260423T144827
CREATED:20181009T025544Z
LAST-MODIFIED:20200219T232507Z
UID:10005329-1563062400-1563062400@heysentrail.asn.au
SUMMARY:Tungkillo Loop
DESCRIPTION:A walk along quiet country backroads open farmland and a section of the Lavender Trail.Featuring rock formations from the beginning of time\, Majestic gum trees and panoramic views of The Adelaide hills backcountry.A pleasant little walk on a trail less travelled.
URL:https://heysentrail.asn.au/walking-the-heysen-trail/walk-the-trail-with-the-friends/walk-calendar/tungkillo-loop/
CATEGORIES:Trail Walker
END:VEVENT
BEGIN:VEVENT
DTSTART;VALUE=DATE:20190711
DTEND;VALUE=DATE:20190712
DTSTAMP:20260423T144827
CREATED:20190614T110524Z
LAST-MODIFIED:20200219T232507Z
UID:10005531-1562803200-1562803200@heysentrail.asn.au
SUMMARY:Cobbler Creek Shed
DESCRIPTION:Maintenance Days at the Friends Shed at Cobbler Creek.\n\nVolunteers are welcome to join in. You don’t have to be an expert handy person.\n\nPlease register so we can anticipate numbers and plan jobs.
URL:https://heysentrail.asn.au/walking-the-heysen-trail/walk-the-trail-with-the-friends/walk-calendar/cobbler-creek-shed-2/
CATEGORIES:Friends Shed Maintenance Day
END:VEVENT
BEGIN:VEVENT
DTSTART;VALUE=DATE:20190707
DTEND;VALUE=DATE:20190708
DTSTAMP:20260423T144827
CREATED:20181019T055335Z
LAST-MODIFIED:20200219T232507Z
UID:10004758-1562457600-1562457600@heysentrail.asn.au
SUMMARY:Montacute Conservation Park
DESCRIPTION:This circular walk through the rugged hills of Montacute Conservation Park is challenging\, but rewarding with excellent views.
URL:https://heysentrail.asn.au/walking-the-heysen-trail/walk-the-trail-with-the-friends/walk-calendar/montacute-conservation-park-2/
CATEGORIES:Trail Walker
END:VEVENT
BEGIN:VEVENT
DTSTART;VALUE=DATE:20190707
DTEND;VALUE=DATE:20190708
DTSTAMP:20260423T144827
CREATED:20181008T074140Z
LAST-MODIFIED:20200219T232507Z
UID:10005322-1562457600-1562457600@heysentrail.asn.au
SUMMARY:Tapanappa to Balquidder
DESCRIPTION:A picturesque section highlighting the diversity of the Heysen Trail. Photo opportunities abound\, and you might even spot a whale.\n\nThis walk starts with spectacular views to Tunkalilla Beach followed by a picturesque walk through dense bushland before a steep descent to Boat Harbor Beach. The very testing 4km walk along Tunkalilla Beach is followed by a very steep climb up to Balquidder which makes it a unique and very memorable section of the Heysen Trail.
URL:https://heysentrail.asn.au/walking-the-heysen-trail/walk-the-trail-with-the-friends/walk-calendar/tapanappa-to-balquidder/
CATEGORIES:End-to-End 14
END:VEVENT
BEGIN:VEVENT
DTSTART;VALUE=DATE:20190707
DTEND;VALUE=DATE:20190708
DTSTAMP:20260423T144827
CREATED:20181001T080906Z
LAST-MODIFIED:20200219T232507Z
UID:10004714-1562457600-1562457600@heysentrail.asn.au
SUMMARY:Kuitpo Forest
DESCRIPTION:The walk commences from the oldest timber plantation in the Mount Lofty Ranges\, planted in 1898\, and meanders through a very small section of Kuitpo Forest. Walking mainly on open tracks the landscape will be a mixture of forest\, native vegetation and farmland.
URL:https://heysentrail.asn.au/walking-the-heysen-trail/walk-the-trail-with-the-friends/walk-calendar/kuitpo-forest-2/
CATEGORIES:Trail Starter
END:VEVENT
BEGIN:VEVENT
DTSTART;VALUE=DATE:20190706
DTEND;VALUE=DATE:20190715
DTSTAMP:20260423T144827
CREATED:20180613T061349Z
LAST-MODIFIED:20200219T232507Z
UID:10005293-1562371200-1563062400@heysentrail.asn.au
SUMMARY:Warren Gorge to Moralana Drive
DESCRIPTION:Sat July 6 Travel to Quorn\n\nSun July 7 Warren Gorge to Buckaringa\n\nMon July 8 Buckaringa to Calabrinda Creek\n\nTues July 9 Rest day – travel to Hawker\n\nWed July 10 Calabrinda Creek to Jarvis Hill\n\nThur July 11 Jarvis Hill to Leigh Creek Rd\n\nFri  July 12 Leigh Creek Rd to Mt Little Station\n\nSat July 13 Mt Little Station to Red Range to Moralana Drive\n\nSun July 14 Return to Adelaide\n\nNOTE – If you wish to walk on some days\, please contact the FOHT office to register for that day’s walk. For day walkers\, there is a daily walk/bus fee of $60\n\nThe online registration system will only allow you to register for all days and pay the full fee – so please ring the office to get the lower rate and so the walk leader knows which day you need the bus.
URL:https://heysentrail.asn.au/walking-the-heysen-trail/walk-the-trail-with-the-friends/walk-calendar/warren-gorge-to-moralana-drive/
CATEGORIES:End-to-End 9
END:VEVENT
BEGIN:VEVENT
DTSTART;VALUE=DATE:20190706
DTEND;VALUE=DATE:20190708
DTSTAMP:20260423T144827
CREATED:20181016T105355Z
LAST-MODIFIED:20200219T232507Z
UID:10004731-1562371200-1562457600@heysentrail.asn.au
SUMMARY:Melrose to Alligator Gorge Rd to Horrocks Pass
DESCRIPTION:Day 1: Melrose to Alligator Gorge Road 26kms\n\nThis is a very long and difficult (but memorable) section of the Tail that starts with the ascent of Mt Remarkable\, and continues through Mt Remarkable National Park before emerging on Alligator Gorge Road.\n\nDay 2: Alligator Gorge Road to Horrocks Pass 15kms\n\nThe trail initially leads over Lavender Peak to picturesque Stony Creek campsite.  From there\, tracks\, back roads and a busy highway take walkers to the memorial to explorer John Horrocks.\n\n*If you would like to register to walk one day only\, please contact the FOTH office to register*
URL:https://heysentrail.asn.au/walking-the-heysen-trail/walk-the-trail-with-the-friends/walk-calendar/melrose-to-alligator-gorge-rd-to-horrocks-pass/
CATEGORIES:End-to-End 10
END:VEVENT
BEGIN:VEVENT
DTSTART;VALUE=DATE:20190704
DTEND;VALUE=DATE:20190705
DTSTAMP:20260423T144827
CREATED:20190614T110139Z
LAST-MODIFIED:20200219T232507Z
UID:10005527-1562198400-1562198400@heysentrail.asn.au
SUMMARY:Cobbler Creek Shed
DESCRIPTION:Maintenance Days at the Friends Shed at Cobbler Creek.\n\nVolunteers are welcome to join in. You don’t have to be an expert handy person.\n\nPlease register so we can anticipate numbers and plan jobs.
URL:https://heysentrail.asn.au/walking-the-heysen-trail/walk-the-trail-with-the-friends/walk-calendar/cobbler-creek-shed/
CATEGORIES:Friends Shed Maintenance Day
END:VEVENT
BEGIN:VEVENT
DTSTART;VALUE=DATE:20190630
DTEND;VALUE=DATE:20190701
DTSTAMP:20260423T144827
CREATED:20181022T112107Z
LAST-MODIFIED:20200219T232507Z
UID:10004775-1561852800-1561852800@heysentrail.asn.au
SUMMARY:Dashwood Gully to Mylor
DESCRIPTION:A picturesque walk through gently undulating farmland\, the northern blocks of Kuitpo Pine Forest and through the historic Jupiter Creek Goldfields.
URL:https://heysentrail.asn.au/walking-the-heysen-trail/walk-the-trail-with-the-friends/walk-calendar/dashwood-gully-to-mylor-5/
CATEGORIES:End-to-End 13
END:VEVENT
BEGIN:VEVENT
DTSTART;VALUE=DATE:20190630
DTEND;VALUE=DATE:20190701
DTSTAMP:20260423T144827
CREATED:20181019T055107Z
LAST-MODIFIED:20200219T232507Z
UID:10004756-1561852800-1561852800@heysentrail.asn.au
SUMMARY:Mount Misery
DESCRIPTION:This extremely hard walk incorporates sections of the Montacute Conservation Park and the valleys and ridges south of the Kangaroo Creek reservoir and the Thomas Hill forest region.\n\nWonderful views over the Adelaide plains.\n\nAfter the walk it may be possible to share coffee and cake or pizza at the Anderson Hill Winery.\n\nThis is a slightly less extreme version of the route described in ‘Push the Bush’
URL:https://heysentrail.asn.au/walking-the-heysen-trail/walk-the-trail-with-the-friends/walk-calendar/mount-misery/
CATEGORIES:Trail Walker
END:VEVENT
BEGIN:VEVENT
DTSTART;VALUE=DATE:20190630
DTEND;VALUE=DATE:20190701
DTSTAMP:20260423T144827
CREATED:20181019T055026Z
LAST-MODIFIED:20200219T232507Z
UID:10004754-1561852800-1561852800@heysentrail.asn.au
SUMMARY:Mack Creek
DESCRIPTION:Circular walk through a valley of magnificent Red River Gums. Following Mack Creek and a meandering bush track.\n\nCould have some challenges for new walkers… inclines and that it is a circular walk.
URL:https://heysentrail.asn.au/walking-the-heysen-trail/walk-the-trail-with-the-friends/walk-calendar/mack-creek-3/
CATEGORIES:Trail Starter
END:VEVENT
BEGIN:VEVENT
DTSTART;VALUE=DATE:20190630
DTEND;VALUE=DATE:20190701
DTSTAMP:20260423T144827
CREATED:20180920T041142Z
LAST-MODIFIED:20200219T232507Z
UID:10004702-1561852800-1561852800@heysentrail.asn.au
SUMMARY:Mt Crawford to Pewsey Vale
DESCRIPTION:A climb over Mt Crawford followed by more forest walking and another climb over Wirra Wirra peaks gets this walk off to a flyer.Due to recent re-routes the day is finished off with walking along back rds and a rd reserve.Still\,not a walk to be missed.
URL:https://heysentrail.asn.au/walking-the-heysen-trail/walk-the-trail-with-the-friends/walk-calendar/mt-crawford-to-pewsey-vale-6/
CATEGORIES:End-to-End 12
END:VEVENT
BEGIN:VEVENT
DTSTART;VALUE=DATE:20190627
DTEND;VALUE=DATE:20190628
DTSTAMP:20260423T144827
CREATED:20190603T135411Z
LAST-MODIFIED:20200219T232507Z
UID:10005525-1561593600-1561593600@heysentrail.asn.au
SUMMARY:The Friends Shed Maintenance Day - CANCELLED WORKING ON THE Trail
DESCRIPTION:The Shed will not be be open this Thursday. The Friends are installing a new cabin at Black Jack\, north of Burra.
URL:https://heysentrail.asn.au/walking-the-heysen-trail/walk-the-trail-with-the-friends/walk-calendar/the-friends-shed-maintenance-day-cancelled-working-on-the-trail/
CATEGORIES:Friends Shed Maintenance Day
END:VEVENT
BEGIN:VEVENT
DTSTART;VALUE=DATE:20190623
DTEND;VALUE=DATE:20190624
DTSTAMP:20260423T144827
CREATED:20181019T054934Z
LAST-MODIFIED:20200219T232507Z
UID:10004752-1561248000-1561248000@heysentrail.asn.au
SUMMARY:Three Parks Panorama\, Ashbourne
DESCRIPTION:We meander through the walking trails of Cox Scrub Conservation Park to the Finniss River. Then its a long\, steady trudge up Cole Crossing Road and on to Mount Magnificent Conservation Park. If the weather is good and the legs willing\, we will have lunch on the summit. Then we head back down and then through the Finniss Conservation Park and along some back roads to Cox Scrub C.P. for more walking trails back to the car park.
URL:https://heysentrail.asn.au/walking-the-heysen-trail/walk-the-trail-with-the-friends/walk-calendar/three-parks-panorama-ashbourne/
CATEGORIES:Trail Walker
END:VEVENT
BEGIN:VEVENT
DTSTART;VALUE=DATE:20190622
DTEND;VALUE=DATE:20190624
DTSTAMP:20260423T144827
CREATED:20181019T113345Z
LAST-MODIFIED:20200219T232507Z
UID:10005449-1561161600-1561248000@heysentrail.asn.au
SUMMARY:Newikie Creek to Dares Hill Summit Rd And Hallett to EE George Quarry
DESCRIPTION:NOTE – If you wish to walk on only one day\, please contact the FOHT office (once bookings have opened) to register for that day’s walk. The online registration system will only allow you to register for both days.\n\nSATURDAY 22nd June\n\nThis section passes through Caroona Creek Conservation Park and Tourilie Gorge\, which is one of the lesser known gems of the Trail. Part of the walk through the gorge will be along the ruins of an old bullock track. Look out for the old retaining walls and the hand dug rock cutting(an ideal location for a group photo).\n\nIt should be noted this is probably the most remote section of the trail south of the Flinders Ranges.\n\nSUNDAY 23rd June \n\nA gently undulating walk largely along rural back roads and road reserves through the surrounding farmlands.\n\nA pleasant and unique walk.\n\nDinner on Saturday evening will be at the Burra Hotel from 6.30pm.This will be a celebratory dinner for completing half the trail so lets all share the moment and toast the accomplishment.\n\nThe theme for the evening will be “Half & Half” so be imaginative.
URL:https://heysentrail.asn.au/walking-the-heysen-trail/walk-the-trail-with-the-friends/walk-calendar/newikie-creek-to-dares-hill-summit-rd-and-hallett-to-ee-george-quarry/
CATEGORIES:End-to-End 11
END:VEVENT
BEGIN:VEVENT
DTSTART;VALUE=DATE:20190622
DTEND;VALUE=DATE:20190623
DTSTAMP:20260423T144827
CREATED:20181013T032108Z
LAST-MODIFIED:20211123T001951Z
UID:10005335-1561161600-1561161600@heysentrail.asn.au
SUMMARY:Willunga Basin Trail
DESCRIPTION:We continue to stage 3 exploring the new Willunga Basin Trail – yet to be marked – 120km loop around the basin south of Adelaide. \n\nToday the walk leaves from Onkaparinga National Park\, winding its way through Hardy’s Scrub\, then travels some road reserves with a swoop across Gemtree Winery wetlands before a few quiet back roads take us into Willunga. Terrain is relatively flat with an occasional undulation.\n\nDistance approx. 21 km 6 hours.
URL:https://heysentrail.asn.au/walking-the-heysen-trail/walk-the-trail-with-the-friends/walk-calendar/willunga-basin-trail-2019-5/
CATEGORIES:Willunga Basin Trail End-to-End
END:VEVENT
END:VCALENDAR