BEGIN:VCALENDAR
VERSION:2.0
PRODID:-//Friends of the Heysen Trail - ECPv6.15.20//NONSGML v1.0//EN
CALSCALE:GREGORIAN
METHOD:PUBLISH
X-ORIGINAL-URL:https://heysentrail.asn.au
X-WR-CALDESC:Events for Friends of the Heysen Trail
REFRESH-INTERVAL;VALUE=DURATION:PT1H
X-Robots-Tag:noindex
X-PUBLISHED-TTL:PT1H
BEGIN:VTIMEZONE
TZID:Australia/Adelaide
BEGIN:STANDARD
TZOFFSETFROM:+1030
TZOFFSETTO:+0930
TZNAME:ACST
DTSTART:20190406T163000
END:STANDARD
BEGIN:DAYLIGHT
TZOFFSETFROM:+0930
TZOFFSETTO:+1030
TZNAME:ACDT
DTSTART:20191005T163000
END:DAYLIGHT
BEGIN:STANDARD
TZOFFSETFROM:+1030
TZOFFSETTO:+0930
TZNAME:ACST
DTSTART:20200404T163000
END:STANDARD
BEGIN:DAYLIGHT
TZOFFSETFROM:+0930
TZOFFSETTO:+1030
TZNAME:ACDT
DTSTART:20201003T163000
END:DAYLIGHT
BEGIN:STANDARD
TZOFFSETFROM:+1030
TZOFFSETTO:+0930
TZNAME:ACST
DTSTART:20210403T163000
END:STANDARD
BEGIN:DAYLIGHT
TZOFFSETFROM:+0930
TZOFFSETTO:+1030
TZNAME:ACDT
DTSTART:20211002T163000
END:DAYLIGHT
END:VTIMEZONE
BEGIN:VEVENT
DTSTART;TZID=Australia/Adelaide:20200627T091500
DTEND;TZID=Australia/Adelaide:20200627T123000
DTSTAMP:20260423T080207
CREATED:20191019T005721Z
LAST-MODIFIED:20200625T012855Z
UID:10004864-1593249300-1593261000@heysentrail.asn.au
SUMMARY:Kaiser Stuhl
DESCRIPTION:Nestled amongst the Barossa Ranges\, Kaiserstuhl Conservation Park is visited by Heysen Trail walkers and includes several other trails.\n\nIt rewards walkers with panoramic views\, fascinating rock formations and a range of native plants and animals.\n\nOur moderate grade walk will will follow the Stringybark & Wallowa tracks and a small section of the Heysen Trail. It passes through a variety of landscapes including creeks\, rocky outcrops\, areas of low forest\, scrub and open grassland. It will include panoramic views across the ranges to the Barossa Valley.
URL:https://heysentrail.asn.au/walking-the-heysen-trail/walk-the-trail-with-the-friends/walk-calendar/kaiser-stuhl-2020/
CATEGORIES:Trail Starter
END:VEVENT
BEGIN:VEVENT
DTSTART;VALUE=DATE:20200628
DTEND;VALUE=DATE:20200629
DTSTAMP:20260423T080207
CREATED:20200531T072714Z
LAST-MODIFIED:20200621T023357Z
UID:10005675-1593302400-1593388799@heysentrail.asn.au
SUMMARY:Kuitpo Forest
DESCRIPTION:The walk commences from the oldest timber plantation in the Mount Lofty Ranges\, planted in 1898\, and meanders through a very small section of Kuitpo Forest. Walking mainly on open tracks the landscape is a mixture of forest\, native vegetation and farmland. A gentle walk with no major hills.\n\n \n\nPLEASE NOTE  Due to the recent rainfall some sections may be slippery and you will most likely get wet boots walking through several water ways.
URL:https://heysentrail.asn.au/walking-the-heysen-trail/walk-the-trail-with-the-friends/walk-calendar/kuitpo-forest-2020/
CATEGORIES:Trail Starter
END:VEVENT
BEGIN:VEVENT
DTSTART;VALUE=DATE:20200702
DTEND;VALUE=DATE:20200703
DTSTAMP:20260423T080207
CREATED:20191018T235112Z
LAST-MODIFIED:20200625T061800Z
UID:10005574-1593648000-1593734399@heysentrail.asn.au
SUMMARY:Black Hill
DESCRIPTION:A short trail walker though with steep climbs and descents.  Commencing around the foothills to Ambers Gully\, up the Yurrebilla Trail to Black Hill summit then descending back to the cars.\n\nWe will stop for morning tea and be finished by midday.
URL:https://heysentrail.asn.au/walking-the-heysen-trail/walk-the-trail-with-the-friends/walk-calendar/black-hill-2020/
CATEGORIES:Trail Walker
END:VEVENT
BEGIN:VEVENT
DTSTART;TZID=Australia/Adelaide:20200702T090000
DTEND;TZID=Australia/Adelaide:20200702T130000
DTSTAMP:20260423T080207
CREATED:20200125T223743Z
LAST-MODIFIED:20200701T083723Z
UID:10005658-1593680400-1593694800@heysentrail.asn.au
SUMMARY:Friends Shed Maintenance Day - Cobbler Creek
DESCRIPTION:The Shed will be open this Thursday from 9.00 am to 1.00pm.\n\nVolunteers are welcome to join in. You don’t have to be an expert handy person.\n\nIf you can attend to help in one of our current projects\, please register on-line or contact Colin Edwards.\n\nIt helps him plan jobs when he knows how many people to expect.
URL:https://heysentrail.asn.au/walking-the-heysen-trail/walk-the-trail-with-the-friends/walk-calendar/friends-shed-maintenance-day-cobbler-creek-2020-10/
CATEGORIES:Friends Shed Maintenance Day
END:VEVENT
BEGIN:VEVENT
DTSTART;VALUE=DATE:20200704
DTEND;VALUE=DATE:20200705
DTSTAMP:20260423T080207
CREATED:20200531T073017Z
LAST-MODIFIED:20200701T051558Z
UID:10004940-1593820800-1593907199@heysentrail.asn.au
SUMMARY:Summertown/Cleland
DESCRIPTION:A circular walk using tracks\, lanes and country roads as we walk from Summertown\, passing through Uraidla then into the Piccadilly valley before climbing into the Cleland Conservation Park and returning to the start. There is many nice country views along the way.
URL:https://heysentrail.asn.au/walking-the-heysen-trail/walk-the-trail-with-the-friends/walk-calendar/summertown-cleland-2020/
CATEGORIES:Trail Walker
END:VEVENT
BEGIN:VEVENT
DTSTART;VALUE=DATE:20200705
DTEND;VALUE=DATE:20200706
DTSTAMP:20260423T080207
CREATED:20200528T074703Z
LAST-MODIFIED:20200611T051358Z
UID:10005673-1593907200-1593993599@heysentrail.asn.au
SUMMARY:City parklands Loop
DESCRIPTION:This is a flat walk\, no hills however there is a bit of distance 13-14klms.\n\nWe will walk Adelaide’s beautiful parklands\, visiting West Tce cemetery also Veal Gardens on South Tce\, a tranquil garden with lovely water features.\n\nThen the East Tce massive gum tree walkway\, then via the Botanical Gardens onto the River Torrens Trail.
URL:https://heysentrail.asn.au/walking-the-heysen-trail/walk-the-trail-with-the-friends/walk-calendar/city-loop-2020/
CATEGORIES:Trail Starter
END:VEVENT
BEGIN:VEVENT
DTSTART;VALUE=DATE:20200705
DTEND;VALUE=DATE:20200706
DTSTAMP:20260423T080207
CREATED:20200606T234115Z
LAST-MODIFIED:20200617T092122Z
UID:10004942-1593907200-1593993599@heysentrail.asn.au
SUMMARY:Mt Crawford
DESCRIPTION:A loop walk with steep climbs over Mt Crawford and Little Mt Crawford rewarding with excellent views. Then onto tracks through forest areas including a platform walk.
URL:https://heysentrail.asn.au/walking-the-heysen-trail/walk-the-trail-with-the-friends/walk-calendar/mt-crawford-2020/
CATEGORIES:Trail Walker
END:VEVENT
BEGIN:VEVENT
DTSTART;TZID=Australia/Adelaide:20200705T090000
DTEND;TZID=Australia/Adelaide:20200705T130000
DTSTAMP:20260423T080207
CREATED:20191019T005626Z
LAST-MODIFIED:20200703T071811Z
UID:10004863-1593939600-1593954000@heysentrail.asn.au
SUMMARY:Mack Creek
DESCRIPTION:A lovely walk taking in sections of Old Kersbrook Forest and the Blue Gum and Mack Creek tracks of Para Wirra Conservation Park.\n\nThe walk follows a range of trails – including well made fire tracks\, shared trails and a narrower\, more secluded track along Mack Creek.\n\nThe terrain is reasonably flat although there is a gentle descent into and ascent out of the creek. We will walk through blue gums and later box and pink gum forests.
URL:https://heysentrail.asn.au/walking-the-heysen-trail/walk-the-trail-with-the-friends/walk-calendar/mack-creek-2020/
CATEGORIES:Trail Starter
ATTACH;FMTTYPE=image/jpeg:https://heysentrail.asn.au/wp-content/uploads/2019/10/Blue-Gum-Track-Para-Wirra-scaled.jpg
END:VEVENT
BEGIN:VEVENT
DTSTART;TZID=Australia/Adelaide:20200708T083000
DTEND;TZID=Australia/Adelaide:20200708T113000
DTSTAMP:20260423T080207
CREATED:20200531T005257Z
LAST-MODIFIED:20240818T230142Z
UID:10005674-1594197000-1594207800@heysentrail.asn.au
SUMMARY:Chambers Gully
DESCRIPTION: \n\nA pleasant walk without too many climbs.\n\nDepending on the track conditions on the day we will do a Chambers Gully -Bartrill Spur & Long Ridge tracks loop.\n\nIf it isn’t too windy\, our morning tea break will be at the Long Ridge Lookout.\n\nKeep your eyes out to see koalas\, wallabies\, cockatoos.
URL:https://heysentrail.asn.au/walking-the-heysen-trail/walk-the-trail-with-the-friends/walk-calendar/chambers-gully-2020-2/
CATEGORIES:Trail Starter
END:VEVENT
BEGIN:VEVENT
DTSTART;TZID=Australia/Adelaide:20200709T090000
DTEND;TZID=Australia/Adelaide:20200709T140000
DTSTAMP:20260423T080207
CREATED:20200125T221718Z
LAST-MODIFIED:20200702T104335Z
UID:10005656-1594285200-1594303200@heysentrail.asn.au
SUMMARY:Friends Shed Maintenance Day - Cobbler Creek
DESCRIPTION: \n\nThe Shed will be open this Thursday from 9.00 am to 2.00pm.\n\nVolunteers are welcome to join in. You don’t have to be an expert handy person.\n\nIf you can attend to help in one of our current projects\, please register on-line or contact Colin Edwards.\n\nIt helps him plan jobs when he knows how many people to expect.
URL:https://heysentrail.asn.au/walking-the-heysen-trail/walk-the-trail-with-the-friends/walk-calendar/friends-shed-maintenance-day-cobbler-creek-2020-6/
CATEGORIES:Friends Shed Maintenance Day
END:VEVENT
BEGIN:VEVENT
DTSTART;VALUE=DATE:20200711
DTEND;VALUE=DATE:20200712
DTSTAMP:20260423T080207
CREATED:20200703T223759Z
LAST-MODIFIED:20200705T065209Z
UID:10005677-1594425600-1594511999@heysentrail.asn.au
SUMMARY:Rocky Creek Hut Loop Walk
DESCRIPTION:This walk starts and finishes in the northern part of the Kuitpo Forest Reserve near Rocky Creek Hut. The walk meanders through pine & eucalyptus forests along fire tracks and narrow scrub trails.\n\nNote: members must not attend if unwell and this means ANY little sniffle\, cough etc. See Risks – Hazards & Requirements below for details
URL:https://heysentrail.asn.au/walking-the-heysen-trail/walk-the-trail-with-the-friends/walk-calendar/rock-creek-hut-loop-walk-2020/
CATEGORIES:Trail Walker
END:VEVENT
BEGIN:VEVENT
DTSTART;VALUE=DATE:20200712
DTEND;VALUE=DATE:20200713
DTSTAMP:20260423T080207
CREATED:20200608T075848Z
LAST-MODIFIED:20200701T081147Z
UID:10004946-1594512000-1594598399@heysentrail.asn.au
SUMMARY:Onkaparinga NP
DESCRIPTION:A Trail Starter in length\, but with uneven\, rocky\, slippery and undulating tracks.\n\nA circular walk in a small area of the Onkaparinga National Park passing through areas of native bush\, including pink gum and grey box woodland. We may see orchids\, kangaroos\, birds and echidna diggings. {If really lucky an echidna}. As we make our way along some sections of the ridge top there is fabulous views of the gorge.
URL:https://heysentrail.asn.au/walking-the-heysen-trail/walk-the-trail-with-the-friends/walk-calendar/onkaparinga-np-2020/
CATEGORIES:Trail Starter
END:VEVENT
BEGIN:VEVENT
DTSTART;VALUE=DATE:20200715
DTEND;VALUE=DATE:20200716
DTSTAMP:20260423T080207
CREATED:20191019T011655Z
LAST-MODIFIED:20200707T175251Z
UID:10004884-1594771200-1594857599@heysentrail.asn.au
SUMMARY:Chambers Gully - Mt Lofty
DESCRIPTION:A gorgeous walk away from the main Waterfall Gully to Lofty track.\n\nImmerse yourself in wildlife and eucalypts.\n\nThe intention is to have lunch at the Mt Lofty summit\, before returning back down the hill.
URL:https://heysentrail.asn.au/walking-the-heysen-trail/walk-the-trail-with-the-friends/walk-calendar/chambers-gully-mt-lofty-2020/
CATEGORIES:Trail Walker
END:VEVENT
BEGIN:VEVENT
DTSTART;VALUE=DATE:20200715
DTEND;VALUE=DATE:20200716
DTSTAMP:20260423T080207
CREATED:20200630T083515Z
LAST-MODIFIED:20200708T084950Z
UID:10004956-1594771200-1594857599@heysentrail.asn.au
SUMMARY:Gilbertson Gully
DESCRIPTION:We will wander up pretty Gilbertson Gully to O’Halloran Hill Recreation park then  explore several trails in the park. Note: O’Halloran Hill is a hill so the walk up will be rewarded with views.\n\nMeet 920am for 930am start (later start to avoid morning traffic) walk approx 2.5hr.\n\nBring snack\, water\, hand sanitiser and rain jacket.
URL:https://heysentrail.asn.au/walking-the-heysen-trail/walk-the-trail-with-the-friends/walk-calendar/gilbertson-gully-2020/
CATEGORIES:Trail Starter
END:VEVENT
BEGIN:VEVENT
DTSTART;TZID=Australia/Adelaide:20200716T090000
DTEND;TZID=Australia/Adelaide:20200716T140000
DTSTAMP:20260423T080207
CREATED:20200125T232217Z
LAST-MODIFIED:20200702T233554Z
UID:10005664-1594890000-1594908000@heysentrail.asn.au
SUMMARY:Friends Shed Maintenance Day - Cobbler Creek
DESCRIPTION:The Shed will be open this Thursday from 9.00 am to 2.00pm.\n\nVolunteers are welcome to join in. You don’t have to be an expert handy person.\n\nIf you can attend to help in one of our current projects\, please register on-line or contact Colin Edwards.\n\nIt helps him plan jobs when he knows how many people to expect.
URL:https://heysentrail.asn.au/walking-the-heysen-trail/walk-the-trail-with-the-friends/walk-calendar/friends-shed-maintenance-day-cobbler-creek-2020-17/
CATEGORIES:Friends Shed Maintenance Day
END:VEVENT
BEGIN:VEVENT
DTSTART;VALUE=DATE:20200719
DTEND;VALUE=DATE:20200720
DTSTAMP:20260423T080207
CREATED:20191019T010913Z
LAST-MODIFIED:20200717T112034Z
UID:10004866-1595116800-1595203199@heysentrail.asn.au
SUMMARY:Microcarpa/ Waterfall Belair National Park
DESCRIPTION:The walk starts by walking around Playford Lake and we can do some turtle and duck spotting along the way. Then we walk through one of the most diverse and best-preserved woodland areas remaining in the Mount Lofty Ranges. Grey box woodland (Eucalyptus microcarpa) is an endangered ecosystem. Once common across Adelaide\, clearing has reduced it to remnants in the Adelaide Hills. We continue on the waterfall loop through Echo Tunnel to the picturesque rock escarpments of the Upper and Lower Waterfalls which is the most challenging trail in the park.Hopefully the falls will be running.\n\nBring plenty of water\, morning tea\, a torch/ head lamp (or at least a fully charged mobile phone to use as a torch) for the tunnel.\n\nNote: members must not attend if unwell and this means ANY little sniffle\, cough etc. See Risks – Hazards & Requirements below for details
URL:https://heysentrail.asn.au/walking-the-heysen-trail/walk-the-trail-with-the-friends/walk-calendar/microcarpa-waterfall-belair-national-park-2020/
CATEGORIES:Trail Starter
END:VEVENT
BEGIN:VEVENT
DTSTART;TZID=Australia/Adelaide:20200719T080000
DTEND;TZID=Australia/Adelaide:20200719T160000
DTSTAMP:20260423T080207
CREATED:20191019T011021Z
LAST-MODIFIED:20200718T012432Z
UID:10004868-1595145600-1595174400@heysentrail.asn.au
SUMMARY:Beaumont and Cleland via Botanic Gardens
DESCRIPTION:This walk is ideal for walkers who need to get a few kms into their legs. It is about 26kms and includes a few hills and rough tracks to improve your stamina and walking techniques. Walking poles and boots with good ankle support are recommended. It takes in part of the Pioneers Womens Trail\, Mt. Lofty Botanic Gardens and Cleland Recreation Park. The up hills are out of the way by lunchtime leaving a gentle stroll back to the cars after that.\nWe will probably make Cleland Wildlife Reserve in time for lunch and a coffee (if you feel inclined).
URL:https://heysentrail.asn.au/walking-the-heysen-trail/walk-the-trail-with-the-friends/walk-calendar/beaumont-and-cleland-via-botanic-gardens-2020/
CATEGORIES:Trail Walker
END:VEVENT
BEGIN:VEVENT
DTSTART;VALUE=DATE:20200722
DTEND;VALUE=DATE:20200723
DTSTAMP:20260423T080207
CREATED:20191019T011131Z
LAST-MODIFIED:20200702T115255Z
UID:10004872-1595376000-1595462399@heysentrail.asn.au
SUMMARY:Marion Coastal Walk
DESCRIPTION:This is a mid week morning walk to help maintain some fitness.\n\nThe Marion Coastal Walkway is located in the Marion Coast Park which extends 7.2 km from Marino in the north\, to the Hallett Headland Reserve at Hallett Cove in the south.\n\nIts environment is unique in the metropolitan area\, with its rugged cliffs\, small coves and a rocky coast.\n\nIt also features world famous geological formations at Hallett Cove\, important sites of remnant coastal vegetation\, and the significant cultural presence of the Tjilbruke Dreaming. Discover more in the Coastal Walkway brochure.\n\nhttps://cdn.marion.sa.gov.au/sp/Coastal-Walks-Brochure.pdf?mtime=20180226123542\n\nAbout 2km of this walk is still currently closed but a bypass is in place.\n\nWalk will be about 12-14 km in length
URL:https://heysentrail.asn.au/walking-the-heysen-trail/walk-the-trail-with-the-friends/walk-calendar/marion-coastal-walk-2020-4/
CATEGORIES:Trail Walker
END:VEVENT
BEGIN:VEVENT
DTSTART;TZID=Australia/Adelaide:20200723T090000
DTEND;TZID=Australia/Adelaide:20200723T140000
DTSTAMP:20260423T080207
CREATED:20200125T225826Z
LAST-MODIFIED:20200702T233436Z
UID:10005663-1595494800-1595512800@heysentrail.asn.au
SUMMARY:Friends Shed Maintenance Day - Cobbler Creek
DESCRIPTION:The Shed will be open this Thursday from 9.00 am to 2.00pm.\n\nVolunteers are welcome to join in. You don’t have to be an expert handy person.\n\nIf you can attend to help in one of our current projects\, please register on-line or contact Colin Edwards.\n\nIt helps him plan jobs when he knows how many people to expect.
URL:https://heysentrail.asn.au/walking-the-heysen-trail/walk-the-trail-with-the-friends/walk-calendar/friends-shed-maintenance-day-cobbler-creek-2020-16/
CATEGORIES:Friends Shed Maintenance Day
END:VEVENT
BEGIN:VEVENT
DTSTART;VALUE=DATE:20200726
DTEND;VALUE=DATE:20200727
DTSTAMP:20260423T080207
CREATED:20191019T011341Z
LAST-MODIFIED:20200708T085607Z
UID:10004878-1595721600-1595807999@heysentrail.asn.au
SUMMARY:Aldinga Scrub
DESCRIPTION:A flat loop walk around  Aldinga Scrub then along the beach for a stunning view of the southern coastal range and into The Washpool. The full walk is approx 12 km and  but if the weather is not suited to walking along the beach it will be a few kilometres shorter.\n\nMeet 820am for 830am start. Walk approx 3hours.\n\nBring snack\, water\, hand sanitiser and rain jacket.
URL:https://heysentrail.asn.au/walking-the-heysen-trail/walk-the-trail-with-the-friends/walk-calendar/aldinga-scrub-2020/
CATEGORIES:Trail Starter
END:VEVENT
BEGIN:VEVENT
DTSTART;TZID=Australia/Adelaide:20200726T100000
DTEND;TZID=Australia/Adelaide:20200726T130000
DTSTAMP:20260423T080207
CREATED:20200610T220934Z
LAST-MODIFIED:20200722T014637Z
UID:10004950-1595757600-1595768400@heysentrail.asn.au
SUMMARY:Mt Lofty Heysen Trail loop
DESCRIPTION:A loop walk on the Heysen Trail taking in the Mt Lofty Botanic Gardens\, the winding fire tracks of Cleland Conservation Park\, and the summit of Mt Lofty.\n\nFrom our meeting point we walk north west on the main Heysen Trail route towards Mt Lofty. This section of the walk is a bit challenging as we climb St. Michael Hill. But the reward is an morning tea at the Mount Lofty Summit cafe as we admire panoramic views over Piccadilly Valley and Adelaide City.\n\nBYO morning tea or pick up a coffee at the cafe.\n\nWe then take the Heysen Trail alternative route to the Mount Lofty Botanic Garden upper car park.  After meandering through the garden\, enjoy its tranquillity\, and return to the cars.
URL:https://heysentrail.asn.au/walking-the-heysen-trail/walk-the-trail-with-the-friends/walk-calendar/mt-lofty-heysen-loop-2020/
CATEGORIES:Trail Starter
END:VEVENT
BEGIN:VEVENT
DTSTART;TZID=Australia/Adelaide:20200730T090000
DTEND;TZID=Australia/Adelaide:20200730T140000
DTSTAMP:20260423T080207
CREATED:20200125T224507Z
LAST-MODIFIED:20200702T233900Z
UID:10005662-1596099600-1596117600@heysentrail.asn.au
SUMMARY:Friends Shed Maintenance Day - Cobbler Creek
DESCRIPTION:The Shed will be open this Thursday from 9.00 am to 2.00pm.\n\nVolunteers are welcome to join in. You don’t have to be an expert handy person.\n\nIf you can attend to help in one of our current projects\, please register on-line or contact Colin Edwards.\n\nIt helps him plan jobs when he knows how many people to expect.
URL:https://heysentrail.asn.au/walking-the-heysen-trail/walk-the-trail-with-the-friends/walk-calendar/friends-shed-maintenance-day-cobbler-creek-2020-18/
CATEGORIES:Friends Shed Maintenance Day
END:VEVENT
BEGIN:VEVENT
DTSTART;VALUE=DATE:20200802
DTEND;VALUE=DATE:20200803
DTSTAMP:20260423T080207
CREATED:20200630T083748Z
LAST-MODIFIED:20200729T144055Z
UID:10004958-1596326400-1596412799@heysentrail.asn.au
SUMMARY:Sturt Gorge
DESCRIPTION:A walk on the trails at the western end of the Sturt Gorge Recreation Park. We will walk through a lovely grove of almond blossom to get into the steep sided gorge. We may make several river crossings on stepping stones depending on the conditions.\n\nThe trail is slippery underfoot and good-grip boots and poles are strongly recommended. There is a few metres of slightly tricky rock scramble at one point but the rest is easy enough.\n\nStart time 9am sharp. The meeting point is tricky to get to now with the South Road upgrade so I suggest you aim to be there at 830am to allow for mistakes. Walk approx 3hr.\n\nBring water\, snacks and rain jacket.
URL:https://heysentrail.asn.au/walking-the-heysen-trail/walk-the-trail-with-the-friends/walk-calendar/sturt-gorge-2020-2/
CATEGORIES:Trail Starter
END:VEVENT
BEGIN:VEVENT
DTSTART;VALUE=DATE:20200806
DTEND;VALUE=DATE:20200807
DTSTAMP:20260423T080207
CREATED:20191018T235351Z
LAST-MODIFIED:20200801T123833Z
UID:10005575-1596672000-1596758399@heysentrail.asn.au
SUMMARY:Morialta
DESCRIPTION:A challenging walk with some ups and downs in the Morialta – Black Hill Conservation Park. We will stop for a morning tea break.
URL:https://heysentrail.asn.au/walking-the-heysen-trail/walk-the-trail-with-the-friends/walk-calendar/morialta-2020-2/
CATEGORIES:Trail Walker
END:VEVENT
BEGIN:VEVENT
DTSTART;TZID=Australia/Adelaide:20200806T090000
DTEND;TZID=Australia/Adelaide:20200806T140000
DTSTAMP:20260423T080207
CREATED:20200125T224348Z
LAST-MODIFIED:20200702T234150Z
UID:10005661-1596704400-1596722400@heysentrail.asn.au
SUMMARY:Friends Shed Maintenance Day - Cobbler Creek
DESCRIPTION:The Shed will be open this Thursday from 9.00 am to 2.00pm.\n\nVolunteers are welcome to join in. You don’t have to be an expert handy person.\n\nIf you can attend to help in one of our current projects\, please register on-line or contact Colin Edwards.\n\nIt helps him plan jobs when he knows how many people to expect.
URL:https://heysentrail.asn.au/walking-the-heysen-trail/walk-the-trail-with-the-friends/walk-calendar/friends-shed-maintenance-day-cobbler-creek-2020-15/
CATEGORIES:Friends Shed Maintenance Day
END:VEVENT
BEGIN:VEVENT
DTSTART;VALUE=DATE:20200809
DTEND;VALUE=DATE:20200810
DTSTAMP:20260423T080207
CREATED:20200630T011430Z
LAST-MODIFIED:20200808T053133Z
UID:10004954-1596931200-1597017599@heysentrail.asn.au
SUMMARY:Belair boundary hike
DESCRIPTION:This is a hike for the serious hiker.\n\nWe will walk the boundary of Bel-Air national Park. A distance of approximately 20 klms.\n\nOur hike will take us by the upper Sturt general store\, a great stop for morning tea.\n\nAlso we will visit both the upper and lower waterfalls.
URL:https://heysentrail.asn.au/walking-the-heysen-trail/walk-the-trail-with-the-friends/walk-calendar/belair-boundary-hike-2020/
CATEGORIES:Trail Walker
END:VEVENT
BEGIN:VEVENT
DTSTART;VALUE=DATE:20200809
DTEND;VALUE=DATE:20200810
DTSTAMP:20260423T080207
CREATED:20200630T084043Z
LAST-MODIFIED:20200804T042125Z
UID:10005676-1596931200-1597017599@heysentrail.asn.au
SUMMARY:Mark Oliphant C P
DESCRIPTION:Walk through the lovely bush of this beautiful conservation park. There are a few steep hills and perhaps even a waterfall …. um…. perhaps water droplet-fall.\n\nWalk start 9am. Expect to finish 1130ish\n\nBring snacks\, water\, and raincoat (20% chance predicted) and your own first aid gear.
URL:https://heysentrail.asn.au/walking-the-heysen-trail/walk-the-trail-with-the-friends/walk-calendar/mark-oliphant-c-p-2020/
CATEGORIES:Trail Starter
END:VEVENT
BEGIN:VEVENT
DTSTART;VALUE=DATE:20200809
DTEND;VALUE=DATE:20200810
DTSTAMP:20260423T080207
CREATED:20200730T081426Z
LAST-MODIFIED:20200801T074738Z
UID:10005685-1596931200-1597017599@heysentrail.asn.au
SUMMARY:Newland Head CP
DESCRIPTION:A slow walk to enjoy the rugged cliffs and bushland of Newland Head C.P.\n\nStarting the walk on a section of The Heysen Trail we reach the rugged headlands of the park\, where with weather permitting there will be spectacular views along the coast line. This is the time for whale watching\, will we be lucky to spot one? The rocky undulating tracks has us in and out of valleys\, surrounded by coastal vegetation to climb again to view the sea. This section of the walk requires the ability to be able to climb up and down steep and rocky hills.\n\nLeaving the coast behind we walk inland\, with wide open views of farming land on the right and bushland to the left. A sharp turn takes us into the bush\, with wattle trees and many other flowering wildflowers. In this area we will be looking for orchids which are often spotted here. Continuing through the park we return to the Heysen Trail and return to the cars.\n\nIf the weather is bad on the day\, the walk will not go to the coast\, it will stay inland and will only be around 7km.
URL:https://heysentrail.asn.au/walking-the-heysen-trail/walk-the-trail-with-the-friends/walk-calendar/newland-head-cp-2020/
CATEGORIES:Trail Rambler
END:VEVENT
BEGIN:VEVENT
DTSTART;VALUE=DATE:20200812
DTEND;VALUE=DATE:20200813
DTSTAMP:20260423T080207
CREATED:20191019T025522Z
LAST-MODIFIED:20200702T125412Z
UID:10005608-1597190400-1597276799@heysentrail.asn.au
SUMMARY:Blackwood Reserve / Belair
DESCRIPTION:This is a mid week morning walk  to help maintain some fitness.\n\nWe will take a short stroll through back roads to Blackwood Forest reserve. The reserve is the site of the old Blackwood Experimental Orchard and details can be found at friendsofblackwoodforest.com.au/history\n\nFrom the reserve we will make our way up Turners Ave to a fire trail.\n\nFrom here we climb up Olave Hill to join Olave Hill Road which will lead us into Belair National Park.\n\nWe will do a couple of loop walks exiting the park to follow Minno Creek back to our starting point.\n\nWalk will be about 12-14 km in length.
URL:https://heysentrail.asn.au/walking-the-heysen-trail/walk-the-trail-with-the-friends/walk-calendar/blackwood-reserve-belair-2020-2/
CATEGORIES:Trail Walker
END:VEVENT
BEGIN:VEVENT
DTSTART;TZID=Australia/Adelaide:20200813T090000
DTEND;TZID=Australia/Adelaide:20200813T140000
DTSTAMP:20260423T080207
CREATED:20200804T102232Z
LAST-MODIFIED:20200804T102233Z
UID:10005686-1597309200-1597327200@heysentrail.asn.au
SUMMARY:Friends Shed Maintenance Day – Cobbler Creek
DESCRIPTION:Maintenance Days at the Friends Shed at Cobbler Creek.\n\nVolunteers are welcome to join in. You don’t have to be an expert handy person.\n\nPlease register so we can anticipate numbers and plan jobs.
URL:https://heysentrail.asn.au/walking-the-heysen-trail/walk-the-trail-with-the-friends/walk-calendar/friends-shed-maintenance-day-cobbler-creek-2020-19/
CATEGORIES:Friends Shed Maintenance Day
END:VEVENT
END:VCALENDAR