BEGIN:VCALENDAR
VERSION:2.0
PRODID:-//Friends of the Heysen Trail - ECPv6.15.20//NONSGML v1.0//EN
CALSCALE:GREGORIAN
METHOD:PUBLISH
X-WR-CALNAME:Friends of the Heysen Trail
X-ORIGINAL-URL:https://heysentrail.asn.au
X-WR-CALDESC:Events for Friends of the Heysen Trail
REFRESH-INTERVAL;VALUE=DURATION:PT1H
X-Robots-Tag:noindex
X-PUBLISHED-TTL:PT1H
BEGIN:VTIMEZONE
TZID:Australia/Adelaide
BEGIN:STANDARD
TZOFFSETFROM:+1030
TZOFFSETTO:+0930
TZNAME:ACST
DTSTART:20130406T163000
END:STANDARD
BEGIN:DAYLIGHT
TZOFFSETFROM:+0930
TZOFFSETTO:+1030
TZNAME:ACDT
DTSTART:20131005T163000
END:DAYLIGHT
BEGIN:STANDARD
TZOFFSETFROM:+1030
TZOFFSETTO:+0930
TZNAME:ACST
DTSTART:20140405T163000
END:STANDARD
BEGIN:DAYLIGHT
TZOFFSETFROM:+0930
TZOFFSETTO:+1030
TZNAME:ACDT
DTSTART:20141004T163000
END:DAYLIGHT
BEGIN:STANDARD
TZOFFSETFROM:+1030
TZOFFSETTO:+0930
TZNAME:ACST
DTSTART:20150404T163000
END:STANDARD
BEGIN:DAYLIGHT
TZOFFSETFROM:+0930
TZOFFSETTO:+1030
TZNAME:ACDT
DTSTART:20151003T163000
END:DAYLIGHT
END:VTIMEZONE
BEGIN:VEVENT
DTSTART;VALUE=DATE:20141130
DTEND;VALUE=DATE:20141201
DTSTAMP:20260425T201727
CREATED:20140523T053915Z
LAST-MODIFIED:20200219T232403Z
UID:10004575-1417305600-1417305600@heysentrail.asn.au
SUMMARY:End of Year Bash\, BBQ + Band
DESCRIPTION:Come and see your President boogie to the tune of the foot-tapping Bogaduck Band at the beautiful Paxton Winery in McLaren Vale.\n\nSunday 30 November\, 12-5pm\n\n$20 per person\n\nBefores\, bbq and artisan bread provided. Wine for purchase by the bottle or glass\, cash only\, no BYO. Bring beer or soft drink\, bring Salad or Dessert to share\, chair or rug\, plates & cutlery.\n\nPaxton Winery\n\nLot 100 Wheaton Road\, McLaren Vale
URL:https://heysentrail.asn.au/walking-the-heysen-trail/walk-the-trail-with-the-friends/walk-calendar/end-of-year-bash-bbq-band-2/
CATEGORIES:Social
END:VEVENT
BEGIN:VEVENT
DTSTART;VALUE=DATE:20141126
DTEND;VALUE=DATE:20141127
DTSTAMP:20260425T201727
CREATED:20141017T080004Z
LAST-MODIFIED:20200219T232403Z
UID:10004583-1416960000-1416960000@heysentrail.asn.au
SUMMARY:Sturt Gorge
DESCRIPTION:Meandering along a bush track following the creek\, a few creek crossings. Uphill to see the views of the surrounding country and tea optional at Cafe Rimini\, Blackwood.
URL:https://heysentrail.asn.au/walking-the-heysen-trail/walk-the-trail-with-the-friends/walk-calendar/sturt-gorge-3/
CATEGORIES:Summer Walks
END:VEVENT
BEGIN:VEVENT
DTSTART;VALUE=DATE:20141119
DTEND;VALUE=DATE:20141120
DTSTAMP:20260425T201727
CREATED:20141017T075843Z
LAST-MODIFIED:20200219T232403Z
UID:10004581-1416355200-1416355200@heysentrail.asn.au
SUMMARY:North Adelaide
DESCRIPTION:A loop walk past some of the historic homes of North Adelaide\, through the park lands and a short section of the Torrens river. An optional dinner at the Old Lion at completion of walk.
URL:https://heysentrail.asn.au/walking-the-heysen-trail/walk-the-trail-with-the-friends/walk-calendar/north-adelaide/
CATEGORIES:Summer Walks
END:VEVENT
BEGIN:VEVENT
DTSTART;VALUE=DATE:20141116
DTEND;VALUE=DATE:20141117
DTSTAMP:20260425T201727
CREATED:20140128T181147Z
LAST-MODIFIED:20200219T232403Z
UID:10004337-1416096000-1416096000@heysentrail.asn.au
SUMMARY:Inman Valley to Myponga
DESCRIPTION:Majestic gums line roadsides leading to the climb up Sugarloaf Hill where walkers are rewarded with spectacular rural views. The trail then leads into Myponga Conservation Park for more views and some testing undulations. Pretty farmland and quiet country roads complete this section.
URL:https://heysentrail.asn.au/walking-the-heysen-trail/walk-the-trail-with-the-friends/walk-calendar/inman-valley-to-myponga/
CATEGORIES:End-to-End 9
END:VEVENT
BEGIN:VEVENT
DTSTART;VALUE=DATE:20141112
DTEND;VALUE=DATE:20141113
DTSTAMP:20260425T201727
CREATED:20141017T075729Z
LAST-MODIFIED:20200219T232403Z
UID:10004579-1415750400-1415750400@heysentrail.asn.au
SUMMARY:Torrens Linear Park - Western End
DESCRIPTION:This walk takes us along the River Torrens linear path.
URL:https://heysentrail.asn.au/walking-the-heysen-trail/walk-the-trail-with-the-friends/walk-calendar/torrens-linear-park-western-end-2/
CATEGORIES:Summer Walks
END:VEVENT
BEGIN:VEVENT
DTSTART;VALUE=DATE:20141109
DTEND;VALUE=DATE:20141110
DTSTAMP:20260425T201727
CREATED:20140128T180929Z
LAST-MODIFIED:20200219T232403Z
UID:10004335-1415491200-1415491200@heysentrail.asn.au
SUMMARY:Montacute Heights To Cudlee Creek
DESCRIPTION:After an initial road walk\, the trail makes a very long and steep descent to Sixth Creek before climbing again through Montacute Conservation Park and Mt Crawford Forest Reserve. A pleasant walk past the pretty private gardens along Holland Creek Road completes the section\n\nTheme for this walk is Melbourne Cup.
URL:https://heysentrail.asn.au/walking-the-heysen-trail/walk-the-trail-with-the-friends/walk-calendar/montacute-heights-to-cudlee-creek/
CATEGORIES:End-to-End 8
END:VEVENT
BEGIN:VEVENT
DTSTART;VALUE=DATE:20141105
DTEND;VALUE=DATE:20141106
DTSTAMP:20260425T201727
CREATED:20141017T075430Z
LAST-MODIFIED:20200219T232403Z
UID:10004577-1415145600-1415145600@heysentrail.asn.au
SUMMARY:Wild Dog Glen
DESCRIPTION:A walk into the hills above Mitcham.\n\nSteep and challenging in parts
URL:https://heysentrail.asn.au/walking-the-heysen-trail/walk-the-trail-with-the-friends/walk-calendar/wild-dog-glen-2/
CATEGORIES:Summer Walks
END:VEVENT
BEGIN:VEVENT
DTSTART;VALUE=DATE:20141026
DTEND;VALUE=DATE:20141027
DTSTAMP:20260425T201727
CREATED:20140128T060940Z
LAST-MODIFIED:20200219T232403Z
UID:10004521-1414281600-1414281600@heysentrail.asn.au
SUMMARY:Kuitpo Forest
DESCRIPTION:An easy walk but quite long… mostly on tracks through the pine forest but with some sections through the bush.
URL:https://heysentrail.asn.au/walking-the-heysen-trail/walk-the-trail-with-the-friends/walk-calendar/kuitpo-forest/
CATEGORIES:Trail Walker
END:VEVENT
BEGIN:VEVENT
DTSTART;VALUE=DATE:20141026
DTEND;VALUE=DATE:20141027
DTSTAMP:20260425T201727
CREATED:20140128T060733Z
LAST-MODIFIED:20200219T232403Z
UID:10004519-1414281600-1414281600@heysentrail.asn.au
SUMMARY:Sturt Gorge for Wimps
DESCRIPTION:A walk many wimps may enjoy due mainly to its mixture of wild and tame scenery.  We will walk along some of the trails along Sturt River and return to our starting point by way of a number of scenic reserves.  As usual\, walkers need to check the weather forecast and bring enough water\, (about 2 Litres)\, and wear comfortable footwear with good thread.  This walk is about 3 hours long and about 8 kms long.\n\nSo be a wimp and come along!
URL:https://heysentrail.asn.au/walking-the-heysen-trail/walk-the-trail-with-the-friends/walk-calendar/sturt-gorge-for-wimps/
CATEGORIES:Trail Starter
END:VEVENT
BEGIN:VEVENT
DTSTART;VALUE=DATE:20141025
DTEND;VALUE=DATE:20141027
DTSTAMP:20260425T201727
CREATED:20140128T180453Z
LAST-MODIFIED:20200219T232403Z
UID:10004573-1414195200-1414281600@heysentrail.asn.au
SUMMARY:To Pewsey Vale\,  Mt Crawford
DESCRIPTION:Theme for the Weekend: We will have a German theme this weekend as we walk in areas influenced by the first German Settlers\, we pass by Bethany which was the first German settlement in the Barossa\, and we also walk through the Kaiserstuhl Conservation Park.  \n\nSat.25th: After meandering the streets of Tanunda we have a long steady climb up to the lovely Kaiser Stuhl Conservation Park and some expansive views over the Barossa Valley. We enter Mount Crawford forest where logging operations will dictate which route we take to end up at Brownes Road.\n\nSun.24th: Our last walk of the year begins with undulating back roads and tracks through farming areas. Then its once again getting amongst the pines of Mount Crawford forest where the terrain gets steeper\, finishing with some road walking back to the cars.
URL:https://heysentrail.asn.au/walking-the-heysen-trail/walk-the-trail-with-the-friends/walk-calendar/to-pewsey-vale-mt-crawford/
CATEGORIES:End-to-End Minus 1
END:VEVENT
BEGIN:VEVENT
DTSTART;VALUE=DATE:20141025
DTEND;VALUE=DATE:20141027
DTSTAMP:20260425T201727
CREATED:20140128T180123Z
LAST-MODIFIED:20200219T232403Z
UID:10004572-1414195200-1414281600@heysentrail.asn.au
SUMMARY:To Hamilton\, Peters Hill\, Based in Kapunda
DESCRIPTION:Saturday 25th Oct 2014 Kapunda to Hamilton\n\nA pleasant walk following backroads\, tracks and fence lines through the undulating farmland of the Lower North.\n\nSunday 26th Oct 2014 Hamilton to Peters Hill\n\nThis section of the Trail follows backroads and road reserves of open scrubland\, before a short walk up Peters Hill\, where walkers are rewarded with pretty vistas over the farmlands of the lower Mid North
URL:https://heysentrail.asn.au/walking-the-heysen-trail/walk-the-trail-with-the-friends/walk-calendar/to-hamilton-peters-hill-based-in-kapunda/
CATEGORIES:End-to-End 7
END:VEVENT
BEGIN:VEVENT
DTSTART;VALUE=DATE:20141019
DTEND;VALUE=DATE:20141020
DTSTAMP:20260425T201727
CREATED:20140128T175846Z
LAST-MODIFIED:20200219T232403Z
UID:10004570-1413676800-1413676800@heysentrail.asn.au
SUMMARY:Tugwell Road to Inman Valley
DESCRIPTION:This section follows country roads\, farm fencelines and attractive road reserves. Native orchids\, grass trees\, abundant birdlife and classic Fleurieu farmland views make this a walk to remember. Take time out to explore the church ruin and graveyard on Hancock Rd above Inman Valley.\n\nIn recognition of the green countryside that we are seeing during these walks the theme for this month will be ‘Green’.
URL:https://heysentrail.asn.au/walking-the-heysen-trail/walk-the-trail-with-the-friends/walk-calendar/tugwell-road-to-inman-valley-2/
CATEGORIES:End-to-End 9
END:VEVENT
BEGIN:VEVENT
DTSTART;VALUE=DATE:20141019
DTEND;VALUE=DATE:20141020
DTSTAMP:20260425T201727
CREATED:20140128T060557Z
LAST-MODIFIED:20200219T232403Z
UID:10004517-1413676800-1413676800@heysentrail.asn.au
SUMMARY:Chapel Hill
DESCRIPTION:Chapel Hill sits roughly in the middle section of the Onkaparinga River National Park. The river  flows from the Mt Bold Reservoir situated to the east outside the Park\, in a westerly direction towards the sea. Extensive wine grapes are grown on the upper slopes outside the park. This walk will be done in a counter clockwise direction and will have a couple of river crossings as well a number of steep hills.  It should be a satisfying sort of walk.
URL:https://heysentrail.asn.au/walking-the-heysen-trail/walk-the-trail-with-the-friends/walk-calendar/chapel-hill/
CATEGORIES:Trail Walker
END:VEVENT
BEGIN:VEVENT
DTSTART;VALUE=DATE:20141018
DTEND;VALUE=DATE:20141020
DTSTAMP:20260425T201727
CREATED:20140128T175514Z
LAST-MODIFIED:20200219T232403Z
UID:10004568-1413590400-1413676800@heysentrail.asn.au
SUMMARY:Chlorinator to Bundaleer Forest to Raeville. Based in Gladstone
DESCRIPTION:SATURDAY 18 OCTOBER\n\nPassing Bundaleer Reservoir and the permanently flowing Bundaleer Creek\, the Trail joins the Bundaleer northern intake channel at the aqueduct. After leaving the channels at the weir it follows Never Never Creek past remnant Yacca forests and grazing land towards Bundaleer Forest.\n\nSUNDAY 19 OCTOBER\n\nThis is diverse walk through native scrub\, Bundaleer pine forest and farmland. The ridgetops and testing climbs reward walkers with spectacular panoramic views. \n\nThe Heysen Trail has been rerouted to avoid fire damage in Bundaleer Forest. \n\nTHEME – Convicts\n\nACCOMMODATION AT GLADSTONE GAOL – The Gaol has been booked for our group so there is no need to book directly with the Gaol.  When registering for the walk please advise whether you will be staying at the Gaol.  The cells in the gaol have 2 single beds and there are ample cells to have sole use of a cell if you wish.  Cost per person is $20 p.n. byo bedding or $25 p.n. with bedding provided.  Payment can be made on arrival.  \n\nNOTE – If you wish to walk on only one day\, please contact the FOHT office to register for that day. The online registering system will only allow you to register for both walking days.
URL:https://heysentrail.asn.au/walking-the-heysen-trail/walk-the-trail-with-the-friends/walk-calendar/chlorinator-to-bundaleer-forest-to-raeville-based-in-gladstone/
CATEGORIES:End-to-End 6
END:VEVENT
BEGIN:VEVENT
DTSTART;VALUE=DATE:20141012
DTEND;VALUE=DATE:20141013
DTSTAMP:20260425T201727
CREATED:20140128T175241Z
LAST-MODIFIED:20200219T232403Z
UID:10004566-1413072000-1413072000@heysentrail.asn.au
SUMMARY:Cleland Conservation Park To Montacute Heights
DESCRIPTION:This is a very testing walk with many ups and downs that pass through the dense bushland of Cleland\, Horsnell Gully and Morialta Conservation Parks and along roadsides\, rewarding walkers with spectacular views over Adelaide and the Hills. Lunch with a famous South Australian.
URL:https://heysentrail.asn.au/walking-the-heysen-trail/walk-the-trail-with-the-friends/walk-calendar/cleland-conservation-park-to-montacute-heights/
CATEGORIES:End-to-End 8
END:VEVENT
BEGIN:VEVENT
DTSTART;VALUE=DATE:20141012
DTEND;VALUE=DATE:20141013
DTSTAMP:20260425T201727
CREATED:20140128T060411Z
LAST-MODIFIED:20200219T232403Z
UID:10004515-1413072000-1413072000@heysentrail.asn.au
SUMMARY:Mylor to Mt George Conservation Park
DESCRIPTION:This is a pleasant loop walk incorporating parts of the Heysen Trail\, Mt George Conservation Park and the Aldgate Valley Nature Walk.\n\nLunch will be on top of Mt George\, hence the extended walk time.
URL:https://heysentrail.asn.au/walking-the-heysen-trail/walk-the-trail-with-the-friends/walk-calendar/mylor-to-mt-george-conservation-park/
CATEGORIES:Trail Walker
END:VEVENT
BEGIN:VEVENT
DTSTART;VALUE=DATE:20141012
DTEND;VALUE=DATE:20141013
DTSTAMP:20260425T201727
CREATED:20140128T060236Z
LAST-MODIFIED:20200219T232402Z
UID:10004513-1413072000-1413072000@heysentrail.asn.au
SUMMARY:Scott Creek
DESCRIPTION:Scott Creek is a lovely spot to walk any time of the year. However\, it is at its best in Spring when plenty of native wildflowers are in bloom\, including a number of orchids. On this walk\, we will enjoy the serenity of this lovely park\, take in some great views of the Adelaide Hills\, and see how many different species of orchids we can find. There’s a nice spot for a picnic afterwards\, for those interested\, and an opportunity to explore the historic Almanda mine (bring a torch).
URL:https://heysentrail.asn.au/walking-the-heysen-trail/walk-the-trail-with-the-friends/walk-calendar/scott-creek-3/
CATEGORIES:Trail Starter
END:VEVENT
BEGIN:VEVENT
DTSTART;VALUE=DATE:20141005
DTEND;VALUE=DATE:20141006
DTSTAMP:20260425T201727
CREATED:20140128T060057Z
LAST-MODIFIED:20200219T232402Z
UID:10004511-1412467200-1412467200@heysentrail.asn.au
SUMMARY:Cobbler Creek
DESCRIPTION:We will start on the Mai Tappa Hike\, walking slowly uphill towards Golden Grove\, crossing to the Babbler Hike\, with views over the northern plains\, then descending to pass under the Grove Way to the northern section of the Park. We will then join the Porosa Hike walking uphill for more great views\, then return to the car park via Cobbler Creek.
URL:https://heysentrail.asn.au/walking-the-heysen-trail/walk-the-trail-with-the-friends/walk-calendar/cobbler-creek/
CATEGORIES:Trail Starter
END:VEVENT
BEGIN:VEVENT
DTSTART;VALUE=DATE:20141004
DTEND;VALUE=DATE:20141007
DTSTAMP:20260425T201727
CREATED:20140129T010303Z
LAST-MODIFIED:20200219T232402Z
UID:10004340-1412380800-1412553600@heysentrail.asn.au
SUMMARY:Dutchmans Stern to Eyre Depot to Warren Gorge to Buckaringa Gorge
DESCRIPTION:PLEASE NOTE: THIS EVENT HAS BEEN CANCELLED DUE TO FORECAST HIGH TEMPERATURES IN THE PT AUGUSTA/HAWKER AREA\n\nIMPORTANT NOTE\n\nThis is a multi-day walk over the October long weekend. Registration requires payment of the usual walk fee (3 x $8\, Golden Boots/Multiwalk card accepted) and the bus fee ($185). Registrants are invited to travel on the bus from Adelaide to Pt. Augusta and return. If you choose to drive your own vehicle to the base location (Pt. Augusta) the bus fee remains the same.\n\nSATURDAY\n\nThis is a deceptively tough walk with a bit of everything – undulating fire tracks with spectacular views\, a rocky gorge and a gibber strewn floodplain.\n\nSUNDAY\n\nAfter climbing back into the range\, walkers enter Mount Arden Creek which winds its way northwards. The gradual climb up the winding creek bed with its waterfalls and rocky sections can make progress very slow.\n\nMONDAY\n\nAfter Mt Arden South campsite the trail leaves the creek to climb Mt Arden summit for spectacular 360 degree views. The trail then follows the ridgeline and a pretty creekline to exit at Buckaringa Gorge.\n\nBASE LOCATION\n\nPort Augusta (Big 4 Holiday Park)\n\nTHEME\n\nOn Monday we climb Mt Arden\, named after Matthew Flinders’ great-grandmother. See The Life of Capt Matthew Flinders R.N. at http://gutenberg.net.au/ebooks/e00065.html\n\nThe theme is\, therefore\, the letter A.
URL:https://heysentrail.asn.au/walking-the-heysen-trail/walk-the-trail-with-the-friends/walk-calendar/dutchmans-stern-to-eyre-depot-to-warren-gorge-to-buckaringa-gorge/
CATEGORIES:End-to-End 5
END:VEVENT
BEGIN:VEVENT
DTSTART;VALUE=DATE:20140928
DTEND;VALUE=DATE:20140929
DTSTAMP:20260425T201727
CREATED:20140128T174013Z
LAST-MODIFIED:20200219T232402Z
UID:10004562-1411862400-1411862400@heysentrail.asn.au
SUMMARY:Tanunda to Kapunda
DESCRIPTION:This section takes walkers along back roads and road reserves past vineyards and wineries of the Barossa Valley\, through the small town of Greenock and into the cropping and grazing land of the Lower North. It is a long but mainly flat walk with only a few undulations. Pleasant vistas and changing seasonal colours make this a pretty walk
URL:https://heysentrail.asn.au/walking-the-heysen-trail/walk-the-trail-with-the-friends/walk-calendar/tanunda-to-kapunda-2/
CATEGORIES:End-to-End 7
END:VEVENT
BEGIN:VEVENT
DTSTART;VALUE=DATE:20140928
DTEND;VALUE=DATE:20140929
DTSTAMP:20260425T201727
CREATED:20140128T055924Z
LAST-MODIFIED:20200219T232402Z
UID:10004509-1411862400-1411862400@heysentrail.asn.au
SUMMARY:Mt George
DESCRIPTION:A beautiful introductory walk for beginners of bush walking. The walk will commence along the Heysen Trail past the Bridgewater historic water-wheel mill. The trail will then take us off the Heysen Trail into Mt George conservation Park to the summit of Mt George. This can be a popular destination for bushwalkers and birdwatchers. Mount George Conservation Park landscape ranges from wetlands to open forests with rocky outcrops. The park features a great variety of vegetation and spring flowers. In the park you will find pea flowers\, ground-hugging correas and a variety of delightful native orchids. Wedge-tailed eagles may be seen circling the skies above the park\, while superb blue wrens\, red-browed finches\, white-throated treecreepers and scarlet robins are often observed around the trees and shrubs. You may often see koala’s fast asleep in the Gums and you often hear Kookaburra’s having a laugh as we walk past.\n\nAt the summit we will take a morning Tea break whilst we enjoy the scenery. Then we will desend down to the Heysen Trail back upon our return to Bridgewater. For those interested a quick refreshment or lunch is at the Bridgewater Inn.
URL:https://heysentrail.asn.au/walking-the-heysen-trail/walk-the-trail-with-the-friends/walk-calendar/mt-george-2/
CATEGORIES:Trail Starter
END:VEVENT
BEGIN:VEVENT
DTSTART;VALUE=DATE:20140927
DTEND;VALUE=DATE:20140929
DTSTAMP:20260425T201727
CREATED:20140128T174307Z
LAST-MODIFIED:20200219T232402Z
UID:10004564-1411776000-1411862400@heysentrail.asn.au
SUMMARY:Hamilton to Kapunda to Tanunda. Based in Kapunda
DESCRIPTION:Theme for the weekend: We will have a Scottish theme this weekend\, as we will be walking through Greenock\, which some call the Little Scotland of the Barossa.\n\nA couple of long walks this weekend.\n\nSat.27 Sep: Lots of undulating farmland walking today\, some through tall\, ripening crops but intermingled with more backroads and some bitumen.\n\nSun.28 Sep: Starting in Kapunda\, we travel the Mary McKillop Walk and other backroads before crossing more cropping and grazing land on the way to Greenock. A quite noticeable change in landuse to vineyards occurs as we enter the Barossa Valley. Pleasant vistas and changing seasonal colours make this a pretty walk.\n\nAnother value-added experience today: We will meet E2E7 on the trail today for a joint celebration (over lunch?).
URL:https://heysentrail.asn.au/walking-the-heysen-trail/walk-the-trail-with-the-friends/walk-calendar/hamilton-to-kapunda-to-tanunda-based-in-kapunda/
CATEGORIES:End-to-End Minus 1
END:VEVENT
BEGIN:VEVENT
DTSTART;VALUE=DATE:20140921
DTEND;VALUE=DATE:20140922
DTSTAMP:20260425T201727
CREATED:20140128T173751Z
LAST-MODIFIED:20200219T232402Z
UID:10004560-1411257600-1411257600@heysentrail.asn.au
SUMMARY:Waitpinga to Tugwell Rd
DESCRIPTION:One of the most spectacular sections of the Trail\, walkers follow sandy tracks through the coastal scrub of Newland Head Conservation Park\, and dramatic clifftops towards Victor Harbor. Here whales have been sighted\, as well as seals\, dolphins and the endangered white bellied sea eagle. At Kings Beach the Trail leaves the coast following roads and an uncleared road reserve to begin the long journey north.
URL:https://heysentrail.asn.au/walking-the-heysen-trail/walk-the-trail-with-the-friends/walk-calendar/waitpinga-to-tugwell-rd/
CATEGORIES:End-to-End 9
END:VEVENT
BEGIN:VEVENT
DTSTART;VALUE=DATE:20140921
DTEND;VALUE=DATE:20140922
DTSTAMP:20260425T201727
CREATED:20140128T055728Z
LAST-MODIFIED:20200219T232402Z
UID:10004508-1411257600-1411257600@heysentrail.asn.au
SUMMARY:Sea to Summit (Second half)
DESCRIPTION:This trail walker will commence at the main entrance to Belair National Park passing through the park and exiting at the upper end of the park boundary on Sheoak Rd.  We will then walk through to the Crafers Bus Interchange before making our way into Cleland Conservation Park where we join up with the Heysen Trail and follow it to Mt Lofty Summit.\n\nThis is a linear walk with a moderate degree of hiking fitness required.\n\nFor those interested\, we may have a drink or meal at the Crafers Hotel afterwards.
URL:https://heysentrail.asn.au/walking-the-heysen-trail/walk-the-trail-with-the-friends/walk-calendar/sea-to-summit-second-half/
CATEGORIES:Trail Walker
END:VEVENT
BEGIN:VEVENT
DTSTART;VALUE=DATE:20140921
DTEND;VALUE=DATE:20140922
DTSTAMP:20260425T201727
CREATED:20140128T055531Z
LAST-MODIFIED:20200219T232402Z
UID:10004507-1411257600-1411257600@heysentrail.asn.au
SUMMARY:Mt Lofty circle
DESCRIPTION:Following a contour line along the western face of Mount Lofty this track then crosses the saddle north of Mount Bonython and runs down into the Piccadilly Valley. Return leg involves a climb to the top of the Botanic Gardens. At different stages there will be excellent opportunities to see city vistas\, native flora including an ancient fern habitat\, and finally an array of cultivated plants culminating with Rhododendron which should be in full bloom.
URL:https://heysentrail.asn.au/walking-the-heysen-trail/walk-the-trail-with-the-friends/walk-calendar/mt-lofty-circle/
CATEGORIES:Trail Starter
END:VEVENT
BEGIN:VEVENT
DTSTART;VALUE=DATE:20140920
DTEND;VALUE=DATE:20140922
DTSTAMP:20260425T201727
CREATED:20140128T173335Z
LAST-MODIFIED:20200219T232402Z
UID:10004558-1411171200-1411257600@heysentrail.asn.au
SUMMARY:Newikie Creek to Dares Hill Summit Road and Spalding Road to Chlorinator. Based in Jamestown
DESCRIPTION:SATURDAY 20 SEPTEMBER\n\nDue to the bad road conditions this walk had to be abandoned on 17 August. This walk has been rescheduled to this weekend.\n\nThis section passes through Caroona Conservation Park and Tourilie Gorge\, which is one of the lesser known gems of the Trail. Look out for the remnants of an old bullock track cut through the gorge. \n\nSUNDAY 21 SEPTEMBER\n\nFrom the junction with Burra-Spalding road the trail follows the contouring intake channel which eventually drains into Bundaleer Reservoir. We pass through Spalding\, before rejoining the intake channel for most of the remaining route to the Chlorination Station.\n\nTHEME – Spring\n\nNOTE – If you wish to walk on only one day\, please contact the FOHT office to register for that day. The online registering system will only allow you to register for both walking days.
URL:https://heysentrail.asn.au/walking-the-heysen-trail/walk-the-trail-with-the-friends/walk-calendar/newikie-creek-to-dares-hill-summit-road-and-spalding-road-to-chlorinator-based-in-jamestown/
CATEGORIES:End-to-End 6
END:VEVENT
BEGIN:VEVENT
DTSTART;VALUE=DATE:20140914
DTEND;VALUE=DATE:20140915
DTSTAMP:20260425T201727
CREATED:20140409T000647Z
LAST-MODIFIED:20200219T232402Z
UID:10004574-1410652800-1410652800@heysentrail.asn.au
SUMMARY:Parra Wirra
DESCRIPTION:A lovely loop walk skirting Humbug scrub Conservation Park and then going into Para Wirra National Park. Using mainly fire tracks we also walk along some creek beds that can be slippery when wet. The final section is moderately up back to the cars.
URL:https://heysentrail.asn.au/walking-the-heysen-trail/walk-the-trail-with-the-friends/walk-calendar/parra-wirra-2/
CATEGORIES:Trail Starter
END:VEVENT
BEGIN:VEVENT
DTSTART;VALUE=DATE:20140914
DTEND;VALUE=DATE:20140915
DTSTAMP:20260425T201727
CREATED:20140128T173132Z
LAST-MODIFIED:20200219T232402Z
UID:10004556-1410652800-1410652800@heysentrail.asn.au
SUMMARY:Mylor To Cleland Conservation Park
DESCRIPTION:This is a very pretty walk through the most populous section of the trail however it still feels like a rural walk as we pass through reserves and bushland. Walkers are rewarded with picturesque vistas and many photo opportunities as we walk through Bridgewater\, Mt George CP\, Mt Lofty Botanic Gardens and Cleland CP. There are plenty of climbs on this walk.  21km
URL:https://heysentrail.asn.au/walking-the-heysen-trail/walk-the-trail-with-the-friends/walk-calendar/mylor-to-cleland-conservation-park/
CATEGORIES:End-to-End 8
END:VEVENT
BEGIN:VEVENT
DTSTART;VALUE=DATE:20140914
DTEND;VALUE=DATE:20140915
DTSTAMP:20260425T201727
CREATED:20140128T055335Z
LAST-MODIFIED:20200219T232402Z
UID:10004505-1410652800-1410652800@heysentrail.asn.au
SUMMARY:Mylor to Mt Lofty
DESCRIPTION:This is a walk of about 21 kms which follows the Heysen Trail via Cox Creek\, Old Bridgewater Mill\, Mount George Conservation Park\, Woodhouse (Scouts Australia)\, Piccadilly Valley\, up to Mt Lofty and down to Crafers. This is a pleasant walk of long duration\, suitable for experienced walkers.
URL:https://heysentrail.asn.au/walking-the-heysen-trail/walk-the-trail-with-the-friends/walk-calendar/mylor-to-mt-lofty/
CATEGORIES:Trail Walker
END:VEVENT
BEGIN:VEVENT
DTSTART;VALUE=DATE:20140907
DTEND;VALUE=DATE:20140908
DTSTAMP:20260425T201727
CREATED:20140128T055152Z
LAST-MODIFIED:20200219T232402Z
UID:10004503-1410048000-1410048000@heysentrail.asn.au
SUMMARY:Newland Head
DESCRIPTION:September is the month to see rare coastal flora at its best.\n\nSome areas were bunt in the last few years and the regrowth should hold a few surprizes.\n\nThis walk offers magnificant views so dont forget camera &/or binoculars. Bring rain and wind protection as well as lunch\, snacks and water.
URL:https://heysentrail.asn.au/walking-the-heysen-trail/walk-the-trail-with-the-friends/walk-calendar/newland-head-2/
CATEGORIES:Trail Starter
END:VEVENT
END:VCALENDAR