BEGIN:VCALENDAR
VERSION:2.0
PRODID:-//Friends of the Heysen Trail - ECPv6.15.20//NONSGML v1.0//EN
CALSCALE:GREGORIAN
METHOD:PUBLISH
X-WR-CALNAME:Friends of the Heysen Trail
X-ORIGINAL-URL:https://heysentrail.asn.au
X-WR-CALDESC:Events for Friends of the Heysen Trail
REFRESH-INTERVAL;VALUE=DURATION:PT1H
X-Robots-Tag:noindex
X-PUBLISHED-TTL:PT1H
BEGIN:VTIMEZONE
TZID:Australia/Adelaide
BEGIN:STANDARD
TZOFFSETFROM:+1030
TZOFFSETTO:+0930
TZNAME:ACST
DTSTART:20130406T163000
END:STANDARD
BEGIN:DAYLIGHT
TZOFFSETFROM:+0930
TZOFFSETTO:+1030
TZNAME:ACDT
DTSTART:20131005T163000
END:DAYLIGHT
BEGIN:STANDARD
TZOFFSETFROM:+1030
TZOFFSETTO:+0930
TZNAME:ACST
DTSTART:20140405T163000
END:STANDARD
BEGIN:DAYLIGHT
TZOFFSETFROM:+0930
TZOFFSETTO:+1030
TZNAME:ACDT
DTSTART:20141004T163000
END:DAYLIGHT
BEGIN:STANDARD
TZOFFSETFROM:+1030
TZOFFSETTO:+0930
TZNAME:ACST
DTSTART:20150404T163000
END:STANDARD
BEGIN:DAYLIGHT
TZOFFSETFROM:+0930
TZOFFSETTO:+1030
TZNAME:ACDT
DTSTART:20151003T163000
END:DAYLIGHT
END:VTIMEZONE
BEGIN:VEVENT
DTSTART;VALUE=DATE:20140607
DTEND;VALUE=DATE:20140616
DTSTAMP:20260425T211338
CREATED:20140128T161413Z
LAST-MODIFIED:20200219T232353Z
UID:10004314-1402099200-1402790400@heysentrail.asn.au
SUMMARY:Eyre Depot to Mayo Gorge
DESCRIPTION:Six days walking from Eyre Depot to Mayo Gorge.\n\nSee Heysen Trail Book Northern Guide Maps 4.3 to 5.3. Start/finish points and distances are given for each day below.
URL:https://heysentrail.asn.au/walking-the-heysen-trail/walk-the-trail-with-the-friends/walk-calendar/eyre-depot-to-mayo-gorge/
CATEGORIES:End-to-End 4
END:VEVENT
BEGIN:VEVENT
DTSTART;VALUE=DATE:20140606
DTEND;VALUE=DATE:20140609
DTSTAMP:20260425T211338
CREATED:20140128T034232Z
LAST-MODIFIED:20200219T232353Z
UID:10004475-1402012800-1402185600@heysentrail.asn.au
SUMMARY:Hawker - Worumba Station
DESCRIPTION:Climbing  Mt Plantagenet and Mt Craig.\n\nRugged ridge lines and mostly off track walking.
URL:https://heysentrail.asn.au/walking-the-heysen-trail/walk-the-trail-with-the-friends/walk-calendar/hawker-worumba-station/
CATEGORIES:Extended Walk
END:VEVENT
BEGIN:VEVENT
DTSTART;VALUE=DATE:20140601
DTEND;VALUE=DATE:20140602
DTSTAMP:20260425T211338
CREATED:20140128T034909Z
LAST-MODIFIED:20200219T232353Z
UID:10004479-1401580800-1401580800@heysentrail.asn.au
SUMMARY:Montacute
DESCRIPTION:This pleasant but challenging walk incorporates parts of the Mawson Trail\,Heysen Trail and Montecute Conservation Park. It follows valleys and ridges south of Kangaroo Creek reservoir and the Thomas Hill forest region and quiet tracks around Kangaroo Creek\,
URL:https://heysentrail.asn.au/walking-the-heysen-trail/walk-the-trail-with-the-friends/walk-calendar/montacute-2/
CATEGORIES:Trail Walker
END:VEVENT
BEGIN:VEVENT
DTSTART;VALUE=DATE:20140601
DTEND;VALUE=DATE:20140602
DTSTAMP:20260425T211338
CREATED:20140128T034557Z
LAST-MODIFIED:20200219T232353Z
UID:10004477-1401580800-1401580800@heysentrail.asn.au
SUMMARY:Onkeeta Trail\, Kuitpo Forest
DESCRIPTION:A lovely loop walk through mixtures of pine forest and native growth. The walk will take in parts of the Onkeeta and Heysen trails\, but also include a detour into the Mt Panorama reserve. Relatively easy walk – on mostly flat terrain\, but with a couple of hill climbs to get the heart beating.
URL:https://heysentrail.asn.au/walking-the-heysen-trail/walk-the-trail-with-the-friends/walk-calendar/onkeeta-trail-kuitpo-forest/
CATEGORIES:Trail Starter
END:VEVENT
BEGIN:VEVENT
DTSTART;VALUE=DATE:20140531
DTEND;VALUE=DATE:20140602
DTSTAMP:20260425T211338
CREATED:20140128T160838Z
LAST-MODIFIED:20200219T232353Z
UID:10004313-1401494400-1401580800@heysentrail.asn.au
SUMMARY:Wirrabara to Murraytown to Melrose
DESCRIPTION:SATURDAY\n\nThis re-routed walk continues to avoid the vast area burned during the Bangor fire. On the eastern side of the Wirrabara Forest we head north through farming country to Murray Town rejoining the Heysen Trail approximately 8 kms south of the township. Note: The maps and GPS files available for Heysen Trail walks are NOT applicable to part of this walk. \n\nSUNDAY\n\nA leisurely walk\, predominantly along lightly undulating back roads\, this section provides pleasant vistas over the surrounding farmland and finishes in the shadow of Mt Remarkable.\n\nWEEKEND BASE LOCATION\n\nMelrose\n\nTHEME\n\nOn the occasion of this weekend walk we celebrate the first day of June using the letter ‘J’ as the subject of the theme. Your interpretation using this letter is welcomed.\n\nFRIDAY NIGHT DINNER\n\nFor those wishing to eat with other group members\, 7.00 pm at Mt Remarkable Hotel\, Melrose. Please let Chris O’Brien know if you intend to come.
URL:https://heysentrail.asn.au/walking-the-heysen-trail/walk-the-trail-with-the-friends/walk-calendar/wirrabara-to-murraytown-to-melrose/
CATEGORIES:End-to-End 5
END:VEVENT
BEGIN:VEVENT
DTSTART;VALUE=DATE:20140525
DTEND;VALUE=DATE:20140526
DTSTAMP:20260425T211338
CREATED:20140128T122058Z
LAST-MODIFIED:20200219T232353Z
UID:10004530-1400976000-1400976000@heysentrail.asn.au
SUMMARY:Cuddlee Creek to Mewett Rd
DESCRIPTION:The trail leads walkers through the rolling hills of the South Mt Lofty Ranges and sections of Mt Crawford Forest. The climb towards Mt Gould provides outstanding views.
URL:https://heysentrail.asn.au/walking-the-heysen-trail/walk-the-trail-with-the-friends/walk-calendar/cuddlee-creek-to-mewett-rd/
CATEGORIES:End-to-End 7
END:VEVENT
BEGIN:VEVENT
DTSTART;VALUE=DATE:20140525
DTEND;VALUE=DATE:20140526
DTSTAMP:20260425T211338
CREATED:20140128T034007Z
LAST-MODIFIED:20200219T232352Z
UID:10004473-1400976000-1400976000@heysentrail.asn.au
SUMMARY:Black Hill
DESCRIPTION:This walk has two memorable hills guaranteed to clear the sinuses. The first one is Main Ridge Track in Black Hill Conservation Park.  The second one is Chapmans Track across the Road in Morialta Conservation Park.  Those training for the Kokoda Track will find this walk challenging.  We will return back to our starting point using other trails within Black Hill CP.  Estimated distance: about 21 Kms.
URL:https://heysentrail.asn.au/walking-the-heysen-trail/walk-the-trail-with-the-friends/walk-calendar/black-hill/
CATEGORIES:Trail Walker
END:VEVENT
BEGIN:VEVENT
DTSTART;VALUE=DATE:20140525
DTEND;VALUE=DATE:20140526
DTSTAMP:20260425T211338
CREATED:20140128T033818Z
LAST-MODIFIED:20200219T232352Z
UID:10004471-1400976000-1400976000@heysentrail.asn.au
SUMMARY:Bridgewater - Mt George
DESCRIPTION:Commencing near The Waterwheel Mill we follow a flat section of The Heysen Trial\, next to the stone-lined millrace alongside Cox’s Creek\, and go on through to The Old Deanery Reserve. From there will be a climb to a rocky outcrop at the summit of Mount George for a tea-break\, whilst taking in the distant views over autumn coloured canopies. This enclosure protects a few of the Adelaide Hills Candle Barks which feature in some of Hans Heysen’s paintings. We will then descend through open woodlands to an undulating track leading around the picturesque Stirling Golf Club. At the end of our walk there are opportunities to stop for coffee\, drinks\, or lunch.
URL:https://heysentrail.asn.au/walking-the-heysen-trail/walk-the-trail-with-the-friends/walk-calendar/bridgewater-mt-george/
CATEGORIES:Trail Starter
END:VEVENT
BEGIN:VEVENT
DTSTART;VALUE=DATE:20140524
DTEND;VALUE=DATE:20140526
DTSTAMP:20260425T211338
CREATED:20140128T122440Z
LAST-MODIFIED:20200219T232352Z
UID:10004531-1400889600-1400976000@heysentrail.asn.au
SUMMARY:Marble Hill Road to EE George Road to Hallett. Based in Clare/ Burra
DESCRIPTION:The theme for the weekend is “Stone”\n\nSat.24th: Today we do something different – we head North! After the now customary warmup of road walking\, we climb up to the Brown Hill Range and a long walk along the stone wall which formed the western boundary of the historic Bungaree Station. Finally\, its a quick trundle down to the cars we had left at the quarry.\n\nSun.25th: An easy day of mostly rural backroads walking with just a bit of cross country. Perhaps this time the winds that typically blow in this section are at our backs.
URL:https://heysentrail.asn.au/walking-the-heysen-trail/walk-the-trail-with-the-friends/walk-calendar/marble-hill-road-to-ee-george-road-to-hallett-based-in-clare-burra/
CATEGORIES:End-to-End Minus 1
END:VEVENT
BEGIN:VEVENT
DTSTART;VALUE=DATE:20140518
DTEND;VALUE=DATE:20140519
DTSTAMP:20260425T211338
CREATED:20140128T120844Z
LAST-MODIFIED:20200219T232352Z
UID:10004527-1400371200-1400371200@heysentrail.asn.au
SUMMARY:Cape Jervis to Cobbler Hill
DESCRIPTION:A new End-to-End group commencing the entire Heysen Trail at Cape Jervis. Walking one Sunday a month during the walk season\, we will progress up the 1\,200km Heysen Trail to Parachilna Gorge over a number of years. End-to-End 9 is the ninth group to make this undertaking.\n\nRead more about the End-to-End walk programme.\n\nFrom the Cape Jervis trailhead\, this section follows sandy coastal tracks and exposed coastal hillsides\, providing spectacular views over Backstairs Passage to Kangaroo Island. Walkers are often rewarded with sightings of seals and dolphins. At Blowhole Beach the trail enters Deep Creek Conservation Park to begin the long climb through native bushland to Cobbler Hill.
URL:https://heysentrail.asn.au/walking-the-heysen-trail/walk-the-trail-with-the-friends/walk-calendar/cape-jervis-to-cobbler-hill/
CATEGORIES:End-to-End 9
END:VEVENT
BEGIN:VEVENT
DTSTART;VALUE=DATE:20140518
DTEND;VALUE=DATE:20140519
DTSTAMP:20260425T211338
CREATED:20140128T033634Z
LAST-MODIFIED:20200219T232352Z
UID:10004469-1400371200-1400371200@heysentrail.asn.au
SUMMARY:Mt Crawford - Cudlee Creek
DESCRIPTION:A beautiful walk around the Mt Crawford Forest\, commence walking along the Mawson Trail and onto the Heysen Trail.  Morning Tea at Grandads Campground\, then continue up a hill and long various tracks back to the vehicles.  Watch out for Echidas and Kangaroos.\n\nFor those up to it. Complete the day with a glass of wine or Pizza at the beautiful yangoora Estate (Anderson Hill Winery)
URL:https://heysentrail.asn.au/walking-the-heysen-trail/walk-the-trail-with-the-friends/walk-calendar/mt-crawford-cudlee-creek/
CATEGORIES:Trail Walker
END:VEVENT
BEGIN:VEVENT
DTSTART;VALUE=DATE:20140518
DTEND;VALUE=DATE:20140519
DTSTAMP:20260425T211338
CREATED:20140128T033441Z
LAST-MODIFIED:20200219T232352Z
UID:10004467-1400371200-1400371200@heysentrail.asn.au
SUMMARY:Ashbourne
DESCRIPTION:Just over 12 months on and we revisit Cox’s Scrub Conservation Park. The morning starts with a stroll through the area burnt out by an overly successful prescribed burn and view the natural regeneration of the native flora. We then move in to unburnt scrub to compare before having morning tea by the Finniss River. Then its back through the park via a different route to the carpark. A Sunday pub lunch at The Greenman Inn at Ashbourne awaits those that wish.
URL:https://heysentrail.asn.au/walking-the-heysen-trail/walk-the-trail-with-the-friends/walk-calendar/ashbourne/
CATEGORIES:Trail Starter
END:VEVENT
BEGIN:VEVENT
DTSTART;VALUE=DATE:20140517
DTEND;VALUE=DATE:20140519
DTSTAMP:20260425T211338
CREATED:20140128T121414Z
LAST-MODIFIED:20200219T232352Z
UID:10004529-1400284800-1400371200@heysentrail.asn.au
SUMMARY:Peters Hill to Gerkie Gap to Webb Gap.  Based in Riverton
DESCRIPTION:SATURDAY 17 May: A pleasant walk along back roads through undulating farmland and past the town of Marrabel (and it’s memorial to the famous buckjumper “Curio”) to the southern end of Tothill Range.\n\nSUNDAY 18 May: After a climb through Gerkie Gap to the eastern side\, this walk hugs the Tothill Ranges\, before climbing back over the range\,just north of Smith Hill\, where we continue the journey northward through open scrubland along the western flank of the range. The Tothills provide the largest remaining section of remnant scrub in the area and are one of the delights of the Mid North providing pleasant vistas over the surrounding farmland\, with constant reminders of 19th century optimism and 21st century technology.\n\nNOTE – If you wish to walk on only one day\, please contact the FOHT office to register for that day.  The online registering system will only allow you to register for both walking days.
URL:https://heysentrail.asn.au/walking-the-heysen-trail/walk-the-trail-with-the-friends/walk-calendar/peters-hill-to-gerkie-gap-to-webb-gap-based-in-riverton/
CATEGORIES:End-to-End 6
END:VEVENT
BEGIN:VEVENT
DTSTART;VALUE=DATE:20140511
DTEND;VALUE=DATE:20140512
DTSTAMP:20260425T211338
CREATED:20140129T003834Z
LAST-MODIFIED:20200219T232352Z
UID:10004339-1399766400-1399766400@heysentrail.asn.au
SUMMARY:Myponga to Mount Compass
DESCRIPTION:Starting up Yulte Road the trail enters Yulte CP which is a small but picturesque bushland park with testing undulations.  After leaving the park the trail crosses farmland towards Hindmarsh Tiers Road and onto Lawless Road past the Myponga Pistol Club firing range.  Continue on past Mt Cone (with views of Victor Harbor) to Woodcone Road for a downhill road walk to the old dairy factory.
URL:https://heysentrail.asn.au/walking-the-heysen-trail/walk-the-trail-with-the-friends/walk-calendar/myponga-to-mount-compass/
CATEGORIES:End-to-End 8
END:VEVENT
BEGIN:VEVENT
DTSTART;VALUE=DATE:20140511
DTEND;VALUE=DATE:20140512
DTSTAMP:20260425T211338
CREATED:20140128T033216Z
LAST-MODIFIED:20200219T232352Z
UID:10004465-1399766400-1399766400@heysentrail.asn.au
SUMMARY:Aaron Creek Circuit Hike
DESCRIPTION:The trail meets with Aaron Creek\, incorporating\n\ntall gums and scented wattles. You will pass a\n\ncascading waterfall that flows in winter. Many\n\nWestern Grey Kangaroos may be seen resting\n\nunder the gums at the beginning of the hike.\n\nThis area was once farming land. Eagle Waterhole\n\nCampground is on this trail.
URL:https://heysentrail.asn.au/walking-the-heysen-trail/walk-the-trail-with-the-friends/walk-calendar/aaron-creek-circuit-hike/
CATEGORIES:Trail Walker
END:VEVENT
BEGIN:VEVENT
DTSTART;VALUE=DATE:20140511
DTEND;VALUE=DATE:20140512
DTSTAMP:20260425T211338
CREATED:20140128T033000Z
LAST-MODIFIED:20200219T232352Z
UID:10004463-1399766400-1399766400@heysentrail.asn.au
SUMMARY:Chamber's Gully
DESCRIPTION:Commencing in Chambers Gully Reserve\, we will walk up towards Mt Lofty (without going to the summit) for approx. 6km. Great uninterrupted views of the city & coastline can be seen on the way\, with morning tea at Cleland Wildlife Park (bring the Thermos). The return journey will be via Bartril Spur Track\, where sightings of Koalas are guaranteed (just look up!) we will stop for lunch on the return journey.
URL:https://heysentrail.asn.au/walking-the-heysen-trail/walk-the-trail-with-the-friends/walk-calendar/chambers-gully-2/
CATEGORIES:Trail Starter
END:VEVENT
BEGIN:VEVENT
DTSTART;VALUE=DATE:20140504
DTEND;VALUE=DATE:20140505
DTSTAMP:20260425T211338
CREATED:20140128T032719Z
LAST-MODIFIED:20200219T232352Z
UID:10004462-1399161600-1399161600@heysentrail.asn.au
SUMMARY:Para Wirra National Park
DESCRIPTION:This is a bush-walk through very picturesque country linking the major features in the park. The scenery rivals some areas of the Flinders Ranges with its beauty\, and the proximity to Adelaide is a bonus.  Birds of prey and coloured birds in addition to native animals can be seen in the quieter northern parts of the park. \n\nThe terrain provides a good training ground for E2E walks etc.\,as the route will be undulating\, incorporating some significant climbs and gentle descents. Hopefully we can christen a new track not advertised as yet. \n\nIn the Flinders the quality and quantity of water in waterholes is usually noted. But in lieu of this proceedure an optional test on the ale temperature can be performed at the Blacksmiths Inn after the walk.  \n\nPlease note the walk has been planned so that walkers will NOT be required to pay a park entry fee in addition to the FOHT fee.
URL:https://heysentrail.asn.au/walking-the-heysen-trail/walk-the-trail-with-the-friends/walk-calendar/para-wirra-national-park/
CATEGORIES:Trail Walker
END:VEVENT
BEGIN:VEVENT
DTSTART;VALUE=DATE:20140503
DTEND;VALUE=DATE:20140505
DTSTAMP:20260425T211338
CREATED:20140128T065410Z
LAST-MODIFIED:20200219T232352Z
UID:10004525-1399075200-1399161600@heysentrail.asn.au
SUMMARY:Curnow's Hut to Chlorinator to Marble Hill Road. Based in Spalding
DESCRIPTION:The theme for the weekend is “Never Never” \n\nSat.3rd: We begin where we left off last year with some road walking to the Yandowie homestead and then through paddocks to the valley of the Never Never Creek. Here we experience one of the unique sights on the Heysen Trail with yackas to the left of us and yackas to the right of us. Into the valley charge the brave 20-odd of us…. until we reach the new Bundaleer Tank Camp Site. Depending on when the season breaks\, the crossing of Bundaleer Creek might be tricky but following the Bundaleer channel from there on is a breeze with a grand approach to the aqueduct before arriving at the Chlorinator Station.\n\nSun.4th: Note that today we transition from the Northern Guide to the Southern Guide! Once again we start with road walking\, this time a grind up the bitumen before we reach the Bundaleer Channel. Then its flat\, flat\, flat walking alongside the channel except for a deviation through Spalding. If you are lucky and the weather is warm-ish you may see some of our reptilean friends which were very prevalent but timid and fast when E2E4 walked through here in October 2012.
URL:https://heysentrail.asn.au/walking-the-heysen-trail/walk-the-trail-with-the-friends/walk-calendar/curnows-hut-to-chlorinator-to-marble-hill-road-based-in-spalding/
CATEGORIES:End-to-End Minus 1
END:VEVENT
BEGIN:VEVENT
DTSTART;VALUE=DATE:20140503
DTEND;VALUE=DATE:20140505
DTSTAMP:20260425T211338
CREATED:20140128T064917Z
LAST-MODIFIED:20200219T232352Z
UID:10004523-1399075200-1399161600@heysentrail.asn.au
SUMMARY:Mt. Zion to Wirrabara (reroute Bangor fire area)
DESCRIPTION:SATURDAY\n\nTo avoid the extensive area burned by the Bangor fire\, we make our way from last year’s finishing point to join the End to End 5 reroute. The track takes us across Beetaloo Valley\, White Cliff Range and through the township of Laura.\n\nSUNDAY\n\nWe walk the Rail Trail north from Laura and turn NE to follow typically Mid North roads to an area just west of the township of Wirrabara. The fire scarred range to the west dominates the view.\n\nNote: The maps and GPS files available for Heysen Trail walks are NOT applicable to the above walks. \n\nTHEME\n\nLaura’s connection to the poet C. J. Dennis will be exploited as the subject for our May Theme. Come as one of Dennis’ characters (e.g.\, The Sentimental Bloke\, Ginger Mick\, Doreen\, Rose\, etc.) and bring one of his poems to read to Saturday night’s gathering.
URL:https://heysentrail.asn.au/walking-the-heysen-trail/walk-the-trail-with-the-friends/walk-calendar/mt-zion-to-wirrabara-reroute-bangor-fire-area/
CATEGORIES:End-to-End 5
END:VEVENT
BEGIN:VEVENT
DTSTART;VALUE=DATE:20140427
DTEND;VALUE=DATE:20140428
DTSTAMP:20260425T211338
CREATED:20140128T032038Z
LAST-MODIFIED:20200219T232352Z
UID:10004460-1398556800-1398556800@heysentrail.asn.au
SUMMARY:Montacute
DESCRIPTION:Plenty of humour and stamina is required for this walk of about 22.7 kms which will take us over and along the Big Range\, Thomas Hill and Mt Misery returning to our starting point towards 3.30 – 4.00 pm.  Walkers would need to carry two and half litres of water.  There are a number of steep hills throughout the journey\, made even more challenging if it is raining.  Comfortable walking boots with good grip is recommended.
URL:https://heysentrail.asn.au/walking-the-heysen-trail/walk-the-trail-with-the-friends/walk-calendar/montacute/
CATEGORIES:Trail Walker
END:VEVENT
BEGIN:VEVENT
DTSTART;VALUE=DATE:20140427
DTEND;VALUE=DATE:20140428
DTSTAMP:20260425T211338
CREATED:20140128T031822Z
LAST-MODIFIED:20200219T232352Z
UID:10004459-1398556800-1398556800@heysentrail.asn.au
SUMMARY:Sturt Gorge\, western end
DESCRIPTION:The western end of Sturt Gorge is like a bit of the outback tucked down below the suburbs and it is great fun to  explore the various-pads and perhaps get lost for a while.\n\nThere are ups and downs on slippery dirt paths requiring  shoes with good grip. \n\nStart time 8.30am. Plan to finish around12.30pm. Distance approx 11km.\n\nBring morning tea to have on the trail. \n\nThere is a lovely park at the start/ end where you can enjoy a picnic lunch.
URL:https://heysentrail.asn.au/walking-the-heysen-trail/walk-the-trail-with-the-friends/walk-calendar/sturt-gorge-western-end-2/
CATEGORIES:Trail Starter
END:VEVENT
BEGIN:VEVENT
DTSTART;VALUE=DATE:20140420
DTEND;VALUE=DATE:20140421
DTSTAMP:20260425T211338
CREATED:20140128T031401Z
LAST-MODIFIED:20200219T232352Z
UID:10004457-1397952000-1397952000@heysentrail.asn.au
SUMMARY:Carrick Hill
DESCRIPTION:From the former quarry within McElligotts Reserve\, a number of walking possibilities exist.  On a previous Trail Starter walk\, we visited the gardens of the Carrick Hill Estate\, followed by a walk through the Waite Institute campus\, and returning to our starting point via Springfield.  Footwear with good grip is recommended. The walk starts promptly at 9.00 am and finish by about 1.30 pm.
URL:https://heysentrail.asn.au/walking-the-heysen-trail/walk-the-trail-with-the-friends/walk-calendar/carrick-hill/
CATEGORIES:Trail Starter
END:VEVENT
BEGIN:VEVENT
DTSTART;VALUE=DATE:20140413
DTEND;VALUE=DATE:20140414
DTSTAMP:20260425T211338
CREATED:20140330T044558Z
LAST-MODIFIED:20200219T232352Z
UID:10004343-1397347200-1397347200@heysentrail.asn.au
SUMMARY:Black Hill
DESCRIPTION:A loop walk that starts with a steady climb and a short steep section before the summit. It then follows trails down through some lovely bushland before returning to the cars. Although the climb is steep in parts there will be ample opportunities to checkout the view.
URL:https://heysentrail.asn.au/walking-the-heysen-trail/walk-the-trail-with-the-friends/walk-calendar/black-hill-2/
CATEGORIES:Trail Starter
END:VEVENT
BEGIN:VEVENT
DTSTART;VALUE=DATE:20140413
DTEND;VALUE=DATE:20140414
DTSTAMP:20260425T211338
CREATED:20140128T031036Z
LAST-MODIFIED:20200219T232352Z
UID:10004455-1397347200-1397347200@heysentrail.asn.au
SUMMARY:Bootcamp Run
DESCRIPTION:There are literally dozens of tracks in the Cleland area that see little use any more and are now overgrown or closed. This walk will link up a number of these with a strong emphasis on a number of steep climbs and descents. It will involve a little bushbashing and off track walking and we’ll head to a mystery destination with a prize for anyone who can solve the riddle of why it is there.
URL:https://heysentrail.asn.au/walking-the-heysen-trail/walk-the-trail-with-the-friends/walk-calendar/bootcamp-run/
CATEGORIES:Trail Walker
END:VEVENT
BEGIN:VEVENT
DTSTART;VALUE=DATE:20140406
DTEND;VALUE=DATE:20140407
DTSTAMP:20260425T211338
CREATED:20140304T063450Z
LAST-MODIFIED:20200219T232352Z
UID:10004342-1396742400-1396742400@heysentrail.asn.au
SUMMARY:Inner Adelaide Street Art
DESCRIPTION:Start time: 10:30 am – A 2-hour walk around Adelaide’s east and west end public art from spray to long stay.\n\nPart of the Walking EXPO event in Rymill Park.\n\nNo need to register\, just turn up on the day.
URL:https://heysentrail.asn.au/walking-the-heysen-trail/walk-the-trail-with-the-friends/walk-calendar/inner-adelaide-street-art/
CATEGORIES:Trail Starter
END:VEVENT
BEGIN:VEVENT
DTSTART;VALUE=DATE:20140406
DTEND;VALUE=DATE:20140407
DTSTAMP:20260425T211338
CREATED:20140304T063449Z
LAST-MODIFIED:20200219T232352Z
UID:10004341-1396742400-1396742400@heysentrail.asn.au
SUMMARY:Outer Adelaide Statues
DESCRIPTION:A 2-hour walk by Simon Cameron visiting Adelaide’s Masterpiece War Memorial.\n\nPart of the Walking EXPO event in Rymill Park.\n\nNo need to register\, just turn up on the day.
URL:https://heysentrail.asn.au/walking-the-heysen-trail/walk-the-trail-with-the-friends/walk-calendar/outer-adelaide-statues/
CATEGORIES:Trail Starter
END:VEVENT
BEGIN:VEVENT
DTSTART;VALUE=DATE:20140406
DTEND;VALUE=DATE:20140407
DTSTAMP:20260425T211338
CREATED:20140123T223432Z
LAST-MODIFIED:20200219T232352Z
UID:10004453-1396742400-1396742400@heysentrail.asn.au
SUMMARY:Walking EXPO. Walk. Explore. Discover
DESCRIPTION:10am-3pm Sunday 6 April 2014\n\nRymill Park\, Adelaide cnr East Tce and Bartels Ave\n\nWalking can give you access to amazing places. Whether it’s exploring your own neighborhood\, uncovering hidden street art in the CBD or discovering stunning views from a mountain top\, two feet can take you there.\n\nCome and join Walking SA for a celebration all forms of walking in Rymill Park on Sunday 6th April.\n\nWe’ll be leading two Discovery Walks:\n\n1. Outer Adelaide Statues 2 hours – a visit to Adelaide’s Masterpiece War Memorial\n\n2. Inner Adelaide Street Art 2 hours – public art from spray to long stay\n\nHighlights of the day will be free Discovery Walks throughout Adelaide City including the picturesque Adelaide Parklands\, Botanic Gardens and the CBD. Local outdoor stores will be showcasing the latest walking gear and walking clubs and tour operators will be there to provide advice. Grab a bargain from the pre-loved walking gear sale by the Friends of the Heysen Trail.\n\nWalking is an activity everyone can do at their own pace but if you’re looking to extend your walking opportunities Walking SA can provide information on different walking clubs. Many clubs will have representatives there on the day ready to answer all your questions.\n\nWalking is a great way to be active and experience the outdoors so whether you’re a seasoned walker or an absolute beginner come and join the celebration.\n\nFor more information contact kate.corner@walkingsa.org.au or visit the Walking SA website www.walkingsa.org.au\n\nYou’re just two feet away from some of the best places in South Australia.
URL:https://heysentrail.asn.au/walking-the-heysen-trail/walk-the-trail-with-the-friends/walk-calendar/walking-expo-walk-explore-discover/
CATEGORIES:Other
END:VEVENT
BEGIN:VEVENT
DTSTART;VALUE=DATE:20140321
DTEND;VALUE=DATE:20140322
DTSTAMP:20260425T211338
CREATED:20140123T222528Z
LAST-MODIFIED:20200219T232352Z
UID:10004451-1395360000-1395360000@heysentrail.asn.au
SUMMARY:Annual General Meeting
DESCRIPTION:The 27th Annual General Meeting of the Friends of the Heysen Trail and Other Walking Trails Inc will be held at 7.30pm on Friday\, 21st March 2014 at Woodville Lawn Bowling Club\, Oval Avenue\, Woodville South. Free car parking will be available in the car park; enter from Koolunda Avenue.\n\nNominations are sought from you\, our members\, for election to the Friends Council at the Annual General Meeting\, for all positions excluding the President\, viz. Vice President\, Secretary\, Treasurer and half of the remaining members (our Constitution calls for not less than four and not more than ten non office bearing members).\n\nView the agenda and nomination form.
URL:https://heysentrail.asn.au/walking-the-heysen-trail/walk-the-trail-with-the-friends/walk-calendar/annual-general-meeting/
CATEGORIES:Other
END:VEVENT
BEGIN:VEVENT
DTSTART;VALUE=DATE:20140312
DTEND;VALUE=DATE:20140313
DTSTAMP:20260425T211338
CREATED:20131107T214410Z
LAST-MODIFIED:20200219T232352Z
UID:10004275-1394582400-1394582400@heysentrail.asn.au
SUMMARY:Modbury - Golden Grove along Dry Creek
DESCRIPTION:Dry Creek is not so dry!!!! \n\n See pools\, ponds and a lake on a walk to Golden Grove. Loop thru the parks\, the gums and hear the chattering birds. Optional Dinner after. \n\n6.15pm start to allow some walkers time to get to the start.\n\nQuestions: contact Robert on 0419 819 345
URL:https://heysentrail.asn.au/walking-the-heysen-trail/walk-the-trail-with-the-friends/walk-calendar/modbury-golden-grove-along-dry-creek/
CATEGORIES:Summer Walks
END:VEVENT
BEGIN:VEVENT
DTSTART;VALUE=DATE:20140305
DTEND;VALUE=DATE:20140306
DTSTAMP:20260425T211338
CREATED:20131109T000908Z
LAST-MODIFIED:20200219T232352Z
UID:10004277-1393977600-1393977600@heysentrail.asn.au
SUMMARY:Brownhill Creek
DESCRIPTION:A pleasant walk following Brownhill Creek and return.  Walk approximately 1.5 hours and is mainly shaded and flat walking.  We will have a meal at the Edinburgh Hotel following the walk which is a short walk from the parked cars.  Meal is optional.
URL:https://heysentrail.asn.au/walking-the-heysen-trail/walk-the-trail-with-the-friends/walk-calendar/brownhill-creek/
CATEGORIES:Summer Walks
END:VEVENT
END:VCALENDAR