BEGIN:VCALENDAR
VERSION:2.0
PRODID:-//Friends of the Heysen Trail - ECPv6.15.20//NONSGML v1.0//EN
CALSCALE:GREGORIAN
METHOD:PUBLISH
X-WR-CALNAME:Friends of the Heysen Trail
X-ORIGINAL-URL:https://heysentrail.asn.au
X-WR-CALDESC:Events for Friends of the Heysen Trail
REFRESH-INTERVAL;VALUE=DURATION:PT1H
X-Robots-Tag:noindex
X-PUBLISHED-TTL:PT1H
BEGIN:VTIMEZONE
TZID:Australia/Adelaide
BEGIN:STANDARD
TZOFFSETFROM:+1030
TZOFFSETTO:+0930
TZNAME:ACST
DTSTART:20130406T163000
END:STANDARD
BEGIN:DAYLIGHT
TZOFFSETFROM:+0930
TZOFFSETTO:+1030
TZNAME:ACDT
DTSTART:20131005T163000
END:DAYLIGHT
BEGIN:STANDARD
TZOFFSETFROM:+1030
TZOFFSETTO:+0930
TZNAME:ACST
DTSTART:20140405T163000
END:STANDARD
BEGIN:DAYLIGHT
TZOFFSETFROM:+0930
TZOFFSETTO:+1030
TZNAME:ACDT
DTSTART:20141004T163000
END:DAYLIGHT
BEGIN:STANDARD
TZOFFSETFROM:+1030
TZOFFSETTO:+0930
TZNAME:ACST
DTSTART:20150404T163000
END:STANDARD
BEGIN:DAYLIGHT
TZOFFSETFROM:+0930
TZOFFSETTO:+1030
TZNAME:ACDT
DTSTART:20151003T163000
END:DAYLIGHT
END:VTIMEZONE
BEGIN:VEVENT
DTSTART;VALUE=DATE:20140824
DTEND;VALUE=DATE:20140825
DTSTAMP:20260426T005602
CREATED:20140128T054529Z
LAST-MODIFIED:20200219T232402Z
UID:10004495-1408838400-1408838400@heysentrail.asn.au
SUMMARY:Cox's Scrub
DESCRIPTION:Interesting walk looking at a variety of native trees\, Tall sugar Gums\, Young Red Gums\, Pink Gums\, Wattle. Walk approx. 11ks.\n\nTheir will be the opportunity to visit a display of Side Saddles and Antique clothing in the Southern Hemisphere and a Devonshire Tea afterwards if interested
URL:https://heysentrail.asn.au/walking-the-heysen-trail/walk-the-trail-with-the-friends/walk-calendar/coxs-scrub/
CATEGORIES:Trail Starter
END:VEVENT
BEGIN:VEVENT
DTSTART;VALUE=DATE:20140823
DTEND;VALUE=DATE:20140825
DTSTAMP:20260426T005602
CREATED:20140128T172042Z
LAST-MODIFIED:20200219T232402Z
UID:10004550-1408752000-1408838400@heysentrail.asn.au
SUMMARY:Gerkie Gap - Peters Hill - Hamilton. Based in Riverton
DESCRIPTION:Theme for the weekend is Marrabel\, (take this however you like- its’ history\, what happens there\, your choice\, surprise us\,)\n\nEasy walking this weekend!\n\nSat.23 Aug: We farewell the Tothill Range and head for Peters Hill … but don’t quite reach it today. Sorry\, a lot of road walking today but we do get to see the life-size statue of the famous buck-jumping mare Curio in Marrabel.\n\nSun.24 Aug: Heading up towards Peters Hill we will take a short detour to Marshall’s Hut\, one of the largest on the trail\, before reaching the hill. Then we continue south along the wooded foothills to Cornvale Rd. where we pass by the neat-as-a-pin property of the same name.
URL:https://heysentrail.asn.au/walking-the-heysen-trail/walk-the-trail-with-the-friends/walk-calendar/gerkie-gap-peters-hill-hamilton-based-in-riverton/
CATEGORIES:End-to-End Minus 1
END:VEVENT
BEGIN:VEVENT
DTSTART;VALUE=DATE:20140817
DTEND;VALUE=DATE:20140818
DTSTAMP:20260426T005602
CREATED:20140408T235704Z
LAST-MODIFIED:20200219T232402Z
UID:10004346-1408233600-1408233600@heysentrail.asn.au
SUMMARY:Hale / Warren
DESCRIPTION:To quote from the bible for serious walkers\, “Push the Bush”: “this walk takes you along delightful trails in two rugged areas of natural bush – the Warren and Hale Conservation Parks” which are separated by the South Para River. Considering the amount of rain we have received so far\, crossing the river will or could present us with a challenge.
URL:https://heysentrail.asn.au/walking-the-heysen-trail/walk-the-trail-with-the-friends/walk-calendar/hale-warren/
CATEGORIES:Trail Walker
END:VEVENT
BEGIN:VEVENT
DTSTART;VALUE=DATE:20140817
DTEND;VALUE=DATE:20140818
DTSTAMP:20260426T005602
CREATED:20140128T171511Z
LAST-MODIFIED:20200219T232402Z
UID:10004546-1408233600-1408233600@heysentrail.asn.au
SUMMARY:Balquhidder to Waitpinga
DESCRIPTION:Picturesque farmland\, unspoilt sandy beaches\, rocky headlands and the chance to spot whales characterise this section of the Trail.
URL:https://heysentrail.asn.au/walking-the-heysen-trail/walk-the-trail-with-the-friends/walk-calendar/balquhidder-to-waitpinga-2/
CATEGORIES:End-to-End 9
END:VEVENT
BEGIN:VEVENT
DTSTART;VALUE=DATE:20140817
DTEND;VALUE=DATE:20140818
DTSTAMP:20260426T005602
CREATED:20140128T054314Z
LAST-MODIFIED:20200219T232402Z
UID:10004493-1408233600-1408233600@heysentrail.asn.au
SUMMARY:Second Creek
DESCRIPTION:following the trail of second creek to its source.  Linear walk. A bus will take us to the confluence of the creek with the Torrens river and we will explore the historical landscape to the source.
URL:https://heysentrail.asn.au/walking-the-heysen-trail/walk-the-trail-with-the-friends/walk-calendar/second-creek/
CATEGORIES:Trail Walker
END:VEVENT
BEGIN:VEVENT
DTSTART;VALUE=DATE:20140817
DTEND;VALUE=DATE:20140818
DTSTAMP:20260426T005602
CREATED:20140128T052712Z
LAST-MODIFIED:20200219T232402Z
UID:10004491-1408233600-1408233600@heysentrail.asn.au
SUMMARY:Belair National Park
DESCRIPTION:A pleasant walk through parts of South Australia’s oldest park passing through Echo Tunnel\, taking in the views at the Lower Waterfall and returning via Old Government House. This walk has a few short hills but will present no problems to walkers of moderate fitness.
URL:https://heysentrail.asn.au/walking-the-heysen-trail/walk-the-trail-with-the-friends/walk-calendar/belair-national-park-2/
CATEGORIES:Trail Starter
END:VEVENT
BEGIN:VEVENT
DTSTART;VALUE=DATE:20140816
DTEND;VALUE=DATE:20140818
DTSTAMP:20260426T005602
CREATED:20140128T171116Z
LAST-MODIFIED:20200219T232402Z
UID:10004545-1408147200-1408233600@heysentrail.asn.au
SUMMARY:Wandallah to Newikie Creek to Dares Hill Summit Road. Based in Burra
DESCRIPTION:SATURDAY 16 AUGUST\n\nThis remote section of the Heysen Trail gives walkers their first introduction to the grazing lands beyond Goyders Line. After Wandallah Shelter walking is undulating until turning east toward Sugar Loaf Range. The track then turns to the north where Newikie Creek is reached via White Hill Road and Black Jack Shelter. This is an exposed and undulating walk with some very nice views.\n\nSUNDAY 17 AUGUST\n\nThis section passes through Caroona Conservation Park and Tourilie Gorge\, which is one of the lesser known gems of the Trail. Look out for the remnants of an old bullock track cut through the gorge. \n\nSATURDAY EVENING MEAL – The Farrell Flat Community Management Committee will cater for the meal.  They raise funds for the town assets\, social activities and future planning.  The committee has representatives from all the groups in the Farrell Flat community.  Several residents in Farrell Flat are members of the Burra branch of the FoHT and are involved in the maintenance of the Trail in the areas we have walked over the 4 weekends we are based in Burra.\n\nTHEME FOR THE WEEKEND – Miners\n\nNOTE – If you wish to walk on only one day\, please contact the FOHT office to register for that day. The online registering system will only allow you to register for both walking days.
URL:https://heysentrail.asn.au/walking-the-heysen-trail/walk-the-trail-with-the-friends/walk-calendar/wandallah-to-newikie-creek-to-dares-hill-summit-road-based-in-burra/
CATEGORIES:End-to-End 6
END:VEVENT
BEGIN:VEVENT
DTSTART;VALUE=DATE:20140810
DTEND;VALUE=DATE:20140811
DTSTAMP:20260426T005602
CREATED:20140128T170835Z
LAST-MODIFIED:20200219T232402Z
UID:10004543-1407628800-1407628800@heysentrail.asn.au
SUMMARY:Dashwood Gully Road To Mylor
DESCRIPTION:Picturesque walk through gently undulating farmlands and the northern blocks of Kuitpo Forest.  The trail passes through the historic Jupiter Creek Goldfields near Echunga.
URL:https://heysentrail.asn.au/walking-the-heysen-trail/walk-the-trail-with-the-friends/walk-calendar/dashwood-gully-road-to-mylor/
CATEGORIES:End-to-End 8
END:VEVENT
BEGIN:VEVENT
DTSTART;VALUE=DATE:20140810
DTEND;VALUE=DATE:20140811
DTSTAMP:20260426T005602
CREATED:20140128T052520Z
LAST-MODIFIED:20200219T232401Z
UID:10004489-1407628800-1407628800@heysentrail.asn.au
SUMMARY:Shiraz Trail\, Willunga
DESCRIPTION:Easy 2-hour walk on the Shiraz Trail past picturesque vineyards in McLaren Vale\, followed by a good coffee at the finish.
URL:https://heysentrail.asn.au/walking-the-heysen-trail/walk-the-trail-with-the-friends/walk-calendar/shiraz-trail-willunga/
CATEGORIES:Trail Starter
END:VEVENT
BEGIN:VEVENT
DTSTART;VALUE=DATE:20140809
DTEND;VALUE=DATE:20140818
DTSTAMP:20260426T005602
CREATED:20140128T170214Z
LAST-MODIFIED:20200219T232401Z
UID:10004541-1407542400-1408233600@heysentrail.asn.au
SUMMARY:Mayo Gorge to Parachilna
DESCRIPTION:Six days walking from Mayo Gorge to Parachilna. See Heysen Trail Northern Guide Maps 5.3 to 6.8.
URL:https://heysentrail.asn.au/walking-the-heysen-trail/walk-the-trail-with-the-friends/walk-calendar/mayo-gorge-to-parachilna/
CATEGORIES:End-to-End 4
END:VEVENT
BEGIN:VEVENT
DTSTART;VALUE=DATE:20140803
DTEND;VALUE=DATE:20140804
DTSTAMP:20260426T005602
CREATED:20140128T052349Z
LAST-MODIFIED:20200219T232401Z
UID:10004305-1407024000-1407024000@heysentrail.asn.au
SUMMARY:Cleland
DESCRIPTION:This walk incorporates the quieter outlying tracks of Cleland Conservation Park with some very special not well known trails. The relatively high altitude and some exposed tracks make this walk susceptible to inclement weather.
URL:https://heysentrail.asn.au/walking-the-heysen-trail/walk-the-trail-with-the-friends/walk-calendar/cleland/
CATEGORIES:Trail Walker
END:VEVENT
BEGIN:VEVENT
DTSTART;VALUE=DATE:20140803
DTEND;VALUE=DATE:20140804
DTSTAMP:20260426T005602
CREATED:20140128T052207Z
LAST-MODIFIED:20200219T232401Z
UID:10004303-1407024000-1407024000@heysentrail.asn.au
SUMMARY:Ansteys Hill
DESCRIPTION:Starting from the car park we will ramble along bush tracks in a more remote area of the Park\, before descending to the Newmans Nursery ruins; thence visit an old silver mine and take in the view at The Lookout\, before returning to the car park.
URL:https://heysentrail.asn.au/walking-the-heysen-trail/walk-the-trail-with-the-friends/walk-calendar/ansteys-hill/
CATEGORIES:Trail Starter
END:VEVENT
BEGIN:VEVENT
DTSTART;VALUE=DATE:20140802
DTEND;VALUE=DATE:20140804
DTSTAMP:20260426T005602
CREATED:20140128T165845Z
LAST-MODIFIED:20200219T232401Z
UID:10004539-1406937600-1407024000@heysentrail.asn.au
SUMMARY:Horrocks Pass to Broadview to Woolshed Flat
DESCRIPTION:SATURDAY\n\nStarting with a tough climb out of Horrocks Pass to the ridge\, the Trail traverses exposed\, gibber littered hills and farmland. Walkers are rewarded with views over the Willochra Plain.\n\nSUNDAY\n\nThis section of the trail climbs through grazing land and natural scrub to Mount Brown\, where walkers are provided with spectacular views of the northern Spencer Gulf from the viewing tower. A pretty single file descent leads to Waukarie Creek and a classic Flinders Ranges creek walk.\n\nWEEKEND BASE LOCATION\n\nQuorn\n\nTHEME\n\nTrains. We cross the Pichi Richi rail near Woolshed Flat.\n\nFRIDAY NIGHT DINNER\n\nFor those wishing to eat with other group members.\n\n7.00 pm at Emily’s Bistro\, Quorn.\n\nPlease let Chris O’Brien know if you intend to come (cobrien@internode.on.net).
URL:https://heysentrail.asn.au/walking-the-heysen-trail/walk-the-trail-with-the-friends/walk-calendar/horrocks-pass-to-broadview-to-woolshed-flat/
CATEGORIES:End-to-End 5
END:VEVENT
BEGIN:VEVENT
DTSTART;VALUE=DATE:20140727
DTEND;VALUE=DATE:20140728
DTSTAMP:20260426T005602
CREATED:20140128T165025Z
LAST-MODIFIED:20200219T232354Z
UID:10004534-1406419200-1406419200@heysentrail.asn.au
SUMMARY:Mount Crawford to Pewsey Vale
DESCRIPTION:Initially following forest edges and roadsides\, the trail then make its way up and over the pretty Wirra Wirra Peaks\, before descending to creek lines again. After a short detour to visit Freemans Hut\, walkers follow farm tracks and road reserves through open big gum grazing land.
URL:https://heysentrail.asn.au/walking-the-heysen-trail/walk-the-trail-with-the-friends/walk-calendar/mount-crawford-to-pewsey-vale/
CATEGORIES:End-to-End 7
END:VEVENT
BEGIN:VEVENT
DTSTART;VALUE=DATE:20140727
DTEND;VALUE=DATE:20140728
DTSTAMP:20260426T005602
CREATED:20140128T051957Z
LAST-MODIFIED:20200219T232354Z
UID:10004301-1406419200-1406419200@heysentrail.asn.au
SUMMARY:Sandergrove to Milang
DESCRIPTION:Lovely walk\, initially along the Strathalbyn to Victor Harbor railway line and then along the old Sandergrove to Milang railway Corridor that has been turned into a walking trail. Flat walk with native bush\, abundant bird life\, Kangaroos and even the occasional Echidna.
URL:https://heysentrail.asn.au/walking-the-heysen-trail/walk-the-trail-with-the-friends/walk-calendar/sandergrove-to-milang/
CATEGORIES:Trail Walker
END:VEVENT
BEGIN:VEVENT
DTSTART;VALUE=DATE:20140727
DTEND;VALUE=DATE:20140728
DTSTAMP:20260426T005602
CREATED:20140128T051832Z
LAST-MODIFIED:20200219T232354Z
UID:10004299-1406419200-1406419200@heysentrail.asn.au
SUMMARY:Morialta
DESCRIPTION:A pleasant Sunday morning walk following the Yurrebilla Track from Norton Summit into Morialta Conservation Park. After dropping down to Centre Track we will climb up to Deep View Lookout then out via Rocky Hill returning to Norton Summit initally along Moores Road and Colonial Drive.
URL:https://heysentrail.asn.au/walking-the-heysen-trail/walk-the-trail-with-the-friends/walk-calendar/morialta/
CATEGORIES:Trail Starter
END:VEVENT
BEGIN:VEVENT
DTSTART;VALUE=DATE:20140726
DTEND;VALUE=DATE:20140728
DTSTAMP:20260426T005602
CREATED:20140128T165454Z
LAST-MODIFIED:20200219T232354Z
UID:10004536-1406332800-1406419200@heysentrail.asn.au
SUMMARY:Old Burra Road - Webb Gap - Gerkie Gap. Based in Riverton
DESCRIPTION:Theme: Christmas in July with a Secret Santa on Saturday night (max. value $10).\n\nSat.26th: Today we start the zig-zag down along the Tothill Range which feature great views\, woodlands\, rocky summits and farm tracks. We begin with a steep climb for great far-reaching views\, then descend to Huppatz Hut. Next we hug the western foothills between the range and Apoinga Lagoon. Niblet Gap offers a crossing to the eastern side before reaching Webb Gap.\n\nSun.27th: We continue the zig-zag down along the Tothill Range passing through the largest remaining section of remnant scrub in the area. The views are still with us as are the wind turbines that are now a constant feature of the mid-north horizon. We finish the day near the bottom of the Tothill Range at Gerkie Gap.
URL:https://heysentrail.asn.au/walking-the-heysen-trail/walk-the-trail-with-the-friends/walk-calendar/old-burra-road-webb-gap-gerkie-gap-based-in-riverton/
CATEGORIES:End-to-End Minus 1
END:VEVENT
BEGIN:VEVENT
DTSTART;VALUE=DATE:20140720
DTEND;VALUE=DATE:20140721
DTSTAMP:20260426T005602
CREATED:20140128T164739Z
LAST-MODIFIED:20200219T232354Z
UID:10004533-1405814400-1405814400@heysentrail.asn.au
SUMMARY:Tappanappa to Balquhidder
DESCRIPTION:A picturesque section highlighting the diversity of the Heysen Trail\, walkers traverse native bushland\, a long sandy beach\, lush farmland and some very memorable hills. Photo opportunities abound\, and you might even spot a whale.
URL:https://heysentrail.asn.au/walking-the-heysen-trail/walk-the-trail-with-the-friends/walk-calendar/tappanappa-to-balquhidder/
CATEGORIES:End-to-End 9
END:VEVENT
BEGIN:VEVENT
DTSTART;VALUE=DATE:20140720
DTEND;VALUE=DATE:20140721
DTSTAMP:20260426T005602
CREATED:20140128T051633Z
LAST-MODIFIED:20200219T232354Z
UID:10004297-1405814400-1405814400@heysentrail.asn.au
SUMMARY:Mt Misery
DESCRIPTION:The tracks leading up to Mt Misery are littered with the blanched remains of many walkers.  Why don’t you join me and contribute to the pile?  Located to the north east of Montacute CP\, Mt Misery offers memorable views when not fogged in by mist.  Let us hope for reasonable good weather\, says he\, with all fingers crossed.  A number of options to reach Mt Misery and the return journey (for those who make it) are available so bring enough water\, two and half litres\, and plenty of humour which should lighten the load and lessen the pain.
URL:https://heysentrail.asn.au/walking-the-heysen-trail/walk-the-trail-with-the-friends/walk-calendar/mt-misery/
CATEGORIES:Trail Walker
END:VEVENT
BEGIN:VEVENT
DTSTART;VALUE=DATE:20140720
DTEND;VALUE=DATE:20140721
DTSTAMP:20260426T005602
CREATED:20140128T051424Z
LAST-MODIFIED:20200219T232354Z
UID:10004295-1405814400-1405814400@heysentrail.asn.au
SUMMARY:Sturt Gorge
DESCRIPTION:10km circuit walk from Blackwood to the flood control dam in Sturt Gorge. Includes a number of creek crossings (that rise after rain) and some hill climbing. \n\nHiking poles would be very useful to have.\n\nGeneral ‘what to bring’ reminders: lunch\, nibbles\, water\, first aid kit\, camera\, hat\, gloves and protective wet weather gear.\n\nDUE TO THE NUMBER OF CREEK CROSSINGS\, EXTREME WET WEATHER PRIOR TO THE WALK MAY RESULT IN IT BEING POSTPONED. PARTICIPANTS WILL BE NOTIFIED AHEAD OF TIME IF THIS DECISION IS MADE. (All crossings were easy on 14/07. Will check again during the week).
URL:https://heysentrail.asn.au/walking-the-heysen-trail/walk-the-trail-with-the-friends/walk-calendar/sturt-gorge-2/
CATEGORIES:Trail Starter
END:VEVENT
BEGIN:VEVENT
DTSTART;VALUE=DATE:20140719
DTEND;VALUE=DATE:20140721
DTSTAMP:20260426T005602
CREATED:20140128T164410Z
LAST-MODIFIED:20200219T232354Z
UID:10004327-1405728000-1405814400@heysentrail.asn.au
SUMMARY:Worlds End to Burra to Wandallah. Based in Burra
DESCRIPTION:SATURDAY 19 JULY\n\nAlthough primarily a long\, flat\, treeless walk\, along dirt roads and road reserves\, this section provides walkers with a perspective on the diversity of landscapes of the Trail. The final few kilometres provide pleasant views over the historic Burra township.\n\nSUNDAY 20 JULY\n\nThis section of the Trail goes through historic Burra\, passing the old Redruth Gaol and other reminders of a bygone era. The trail then takes walkers over the exposed hills of the North Mount Lofty Ranges.\n\nSATURDAY EVENING MEAL – The Burra Community School will cater for the meal.  They are fundraising to send their Year 7 students to Canberra later in the year.\n\nTHEME FOR JULY – STRIPES\n\nNOTE – If you wish to walk on only one day\, please contact the FOHT office to register for that day. The online registering system will only allow you to register for both walking days.
URL:https://heysentrail.asn.au/walking-the-heysen-trail/walk-the-trail-with-the-friends/walk-calendar/worlds-end-to-burra-to-wandallah-based-in-burra/
CATEGORIES:End-to-End 6
END:VEVENT
BEGIN:VEVENT
DTSTART;VALUE=DATE:20140713
DTEND;VALUE=DATE:20140714
DTSTAMP:20260426T005602
CREATED:20140128T164144Z
LAST-MODIFIED:20200219T232354Z
UID:10004325-1405209600-1405209600@heysentrail.asn.au
SUMMARY:Kyeema CP To Dashwood Gully Road
DESCRIPTION:The dense native bushland of Kyeema Conservation Park\, the plantations of Kuitpo Forest and pretty back roads make this a pleasant winter walk.
URL:https://heysentrail.asn.au/walking-the-heysen-trail/walk-the-trail-with-the-friends/walk-calendar/kyeema-cp-to-dashwood-gully-road/
CATEGORIES:End-to-End 8
END:VEVENT
BEGIN:VEVENT
DTSTART;VALUE=DATE:20140713
DTEND;VALUE=DATE:20140714
DTSTAMP:20260426T005602
CREATED:20140128T051224Z
LAST-MODIFIED:20200219T232354Z
UID:10004293-1405209600-1405209600@heysentrail.asn.au
SUMMARY:Thomas Hill
DESCRIPTION:See one of the prettiest areas of the Adelaide Hills\, so close to Adelaide.  This is a loop walk around the Montacute Conservation Park and will be predominately along fire tracks\, but provide magnificent views of the Kangaroo Creek and Millbrook Reservoirs\, plus the summit of Mt Misery.\n\nIn total we will walk 16.8km however allow between 6 ½ – 7 hours.  There are two extensive uphill sections\, so above average fitness will be necessary to comfortably complete the walk.\n\nHazards: 	Moss on tracks in the pine forest and wet clay on Mt Misery may be very slippery. \n\n		Bikes\n\nKookaburras and kangaroos almost guaranteed\, plus the odd echidna.\n\nExpect 80% undulations. \n\nCoffee\, scones and medicinal alcohol at The Cudlee Cafe after the walk\, a great way to catch up on the latest gossip.
URL:https://heysentrail.asn.au/walking-the-heysen-trail/walk-the-trail-with-the-friends/walk-calendar/thomas-hill/
CATEGORIES:Trail Walker
END:VEVENT
BEGIN:VEVENT
DTSTART;VALUE=DATE:20140713
DTEND;VALUE=DATE:20140714
DTSTAMP:20260426T005602
CREATED:20140128T050859Z
LAST-MODIFIED:20200219T232354Z
UID:10004291-1405209600-1405209600@heysentrail.asn.au
SUMMARY:Sleep's Hill
DESCRIPTION:Interesting mix of mining history\, and a showcase of geology\, bird life and native vegetation. interpretive signs show how the rock was quarried and treated.\n\nA good introduction to bushwalking\, a few  steep sections\, and rocky under foot which will be taken slowly.
URL:https://heysentrail.asn.au/walking-the-heysen-trail/walk-the-trail-with-the-friends/walk-calendar/sleeps-hill/
CATEGORIES:Trail Starter
END:VEVENT
BEGIN:VEVENT
DTSTART;VALUE=DATE:20140706
DTEND;VALUE=DATE:20140707
DTSTAMP:20260426T005602
CREATED:20140128T050652Z
LAST-MODIFIED:20200219T232354Z
UID:10004290-1404604800-1404604800@heysentrail.asn.au
SUMMARY:Gandy's Gully same but different
DESCRIPTION:This walk is a hard walk and you will need to be up to it. Start with a steady climb with numerous ups & downs. Lunch will be  at a small waterfall. Duration approx. 5 hours. walking poles would be helpful.
URL:https://heysentrail.asn.au/walking-the-heysen-trail/walk-the-trail-with-the-friends/walk-calendar/gandys-gully-same-but-different/
CATEGORIES:Trail Walker
END:VEVENT
BEGIN:VEVENT
DTSTART;VALUE=DATE:20140706
DTEND;VALUE=DATE:20140707
DTSTAMP:20260426T005602
CREATED:20140128T050453Z
LAST-MODIFIED:20200219T232353Z
UID:10004289-1404604800-1404604800@heysentrail.asn.au
SUMMARY:Amber's Gully
DESCRIPTION:A great walk to test the skills\, with several sharp undulations.  See the best of the Black Hill Conservation Park in a morning walk\, being rewarded very quickly with magnificent views of Adelaide. Previous walks in this area have yielded kangaroo’s\, koalas and an echidna.\n\nSome recent uphill walking prior to participating would be an advantage. \n\nWalk through the Sugar Loaves\, then a steep track down to Ghost Tree Gully and up the Summit Link trail.  Downhill from here\, meandering along the Ambers Gully track\, to the car park. \n\nShould be comfortable 3 ½ hours\, but have allowed plenty of time for the ups.\n\nMeal after at Cafe Va Bene Campbelltown optional.  Please let me know if you would like a meal in the notes\, as being Sunday lunch\, we may need to book a table.
URL:https://heysentrail.asn.au/walking-the-heysen-trail/walk-the-trail-with-the-friends/walk-calendar/ambers-gully-3/
CATEGORIES:Trail Starter
END:VEVENT
BEGIN:VEVENT
DTSTART;VALUE=DATE:20140705
DTEND;VALUE=DATE:20140707
DTSTAMP:20260426T005602
CREATED:20140128T163742Z
LAST-MODIFIED:20200219T232353Z
UID:10004323-1404518400-1404604800@heysentrail.asn.au
SUMMARY:Melrose to Alligator Gorge to Horrocks Pass
DESCRIPTION:SATURDAY\n\nThis is a very long and difficult (but memorable) section of the Trail that starts with the ascent of Mt Remarkable\, and continues through Mt Remarkable Conservation Park before emerging on Alligator Gorge Road.\n\nSUNDAY\n\nThe trail initially leads over Lavender Peak to picturesque Stony Creek campsite. From there\, tracks\, back roads and a busy highway take walkers to the memorial to explorer John Horrocks.\n\nWEEKEND BASE LOCATION\n\nMelrose\n\nTHEME\n\nTour de France\n\nLe Tour de France 2014 runs from Saturday July 5th to Sunday July 27th. The 101th Tour de France will be made up of 21 stages and will cover a total distance of 3\,656 kilometres.\n\n9 flat stages\n\n5 hill stages\n\n6 mountain stages with 5 altitude finishes\n\n1 individual time trial stage\n\n2 rest days\n\nFRIDAY NIGHT DINNER\n\nFor those wishing to eat with other group members.\n\n7.00 pm at North Star Hotel\, Melrose.\n\nPlease let Chris O’Brien know if you intend to come.
URL:https://heysentrail.asn.au/walking-the-heysen-trail/walk-the-trail-with-the-friends/walk-calendar/melrose-to-alligator-gorge-to-horrocks-pass/
CATEGORIES:End-to-End 5
END:VEVENT
BEGIN:VEVENT
DTSTART;VALUE=DATE:20140629
DTEND;VALUE=DATE:20140630
DTSTAMP:20260426T005602
CREATED:20140128T050319Z
LAST-MODIFIED:20200219T232353Z
UID:10004487-1404000000-1404000000@heysentrail.asn.au
SUMMARY:Boat Harbour Tapanappa Circuit
DESCRIPTION:This walk in the eastern end of the Deep Creek Conservation Park is a good introduction to one of our more spectacular Parks. Coastal views and the rugged terrain make this a unique area to walk in.
URL:https://heysentrail.asn.au/walking-the-heysen-trail/walk-the-trail-with-the-friends/walk-calendar/boat-harbour-tapanappa-circuit/
CATEGORIES:Trail Walker
END:VEVENT
BEGIN:VEVENT
DTSTART;VALUE=DATE:20140629
DTEND;VALUE=DATE:20140630
DTSTAMP:20260426T005602
CREATED:20140128T050141Z
LAST-MODIFIED:20200219T232353Z
UID:10004486-1404000000-1404000000@heysentrail.asn.au
SUMMARY:Crafers hills
DESCRIPTION:This trail commences from one of the 19th century sandstone quarries around Mount Lofty. They provided the building blocks for construction of many of the nearby stately homes. Crossing over the ridge-line to the western-face we will then descend into a damp valley which holds a tributary of First Creek. There is then a gradual rise through strata’s of varying kinds of vegetation until we make Measdays Lookout for a tea-break. Return leg takes us past some of the old public buildings of Crafers village.
URL:https://heysentrail.asn.au/walking-the-heysen-trail/walk-the-trail-with-the-friends/walk-calendar/crafers-hills-2/
CATEGORIES:Trail Starter
END:VEVENT
BEGIN:VEVENT
DTSTART;VALUE=DATE:20140628
DTEND;VALUE=DATE:20140705
DTSTAMP:20260426T005602
CREATED:20140128T163223Z
LAST-MODIFIED:20200219T232353Z
UID:10004321-1403913600-1404432000@heysentrail.asn.au
SUMMARY:Hallett to Old Burra Rd\, based in Burra
DESCRIPTION:Theme: “Le Tour de Burra”\n\nAccess to Day 2 and 3 is difficult and wet-weather affected – be prepared for late-notice program changes.\n\nSat 28th June: On our first day we have a period of flat walking\, followed by a hill\, and then more flat walking. Oh\, did I forget to mention that the hill is the towering Mt Bryan!?! At least we will be ascending from the less steep side. Today we reach the Halfway point of the Trail!!!\n\nSun 29th June: A remote but delightful section is covered today with a climb up to Caroona Creek Conservation Park where we descend through the picturesque Tourilie Gorge. We then skirt the saltbush plains to reach the easternmost point of the Heysen Trail before continuing on to cross the spectacular Newikie Creek.\n\nMon 30th June: An interesting walk past Black Jack shelter and into mallee before breaking out onto the barren Mongalata hills – a roller coaster ride to Wandallah.\n\nTues 1st July: Our Rest Day. For those with energy left\, the Heysen Trail Greening Committee have a tree-planting day on the roadsides north of Burra Gorge.\n\nWed 2nd July: We tackle the humps out from Wandallah then easing down to Burra. See if you can find any trees on this part of the trail.\n\nThurs 3rd July: At last a day without mountains. Just in case you forgot what road-walking was like we finish this section with an 8km gun barrel walk down to Burra Gorge. At least our new plantings and a new campsite will be a welcome distraction.\n\nFri 4th July: A lovely little unassuming section to finish our walking week. A lot of variety yet nothing spectacular and reasonably short so that we will reach our cars hopefully to be home before dark.
URL:https://heysentrail.asn.au/walking-the-heysen-trail/walk-the-trail-with-the-friends/walk-calendar/hallett-to-old-burra-rd-based-in-burra/
CATEGORIES:End-to-End Minus 1
END:VEVENT
END:VCALENDAR