BEGIN:VCALENDAR
VERSION:2.0
PRODID:-//Friends of the Heysen Trail - ECPv6.15.20//NONSGML v1.0//EN
CALSCALE:GREGORIAN
METHOD:PUBLISH
X-ORIGINAL-URL:https://heysentrail.asn.au
X-WR-CALDESC:Events for Friends of the Heysen Trail
REFRESH-INTERVAL;VALUE=DURATION:PT1H
X-Robots-Tag:noindex
X-PUBLISHED-TTL:PT1H
BEGIN:VTIMEZONE
TZID:Australia/Adelaide
BEGIN:STANDARD
TZOFFSETFROM:+1030
TZOFFSETTO:+0930
TZNAME:ACST
DTSTART:20120331T163000
END:STANDARD
BEGIN:DAYLIGHT
TZOFFSETFROM:+0930
TZOFFSETTO:+1030
TZNAME:ACDT
DTSTART:20121006T163000
END:DAYLIGHT
BEGIN:STANDARD
TZOFFSETFROM:+1030
TZOFFSETTO:+0930
TZNAME:ACST
DTSTART:20130406T163000
END:STANDARD
BEGIN:DAYLIGHT
TZOFFSETFROM:+0930
TZOFFSETTO:+1030
TZNAME:ACDT
DTSTART:20131005T163000
END:DAYLIGHT
BEGIN:STANDARD
TZOFFSETFROM:+1030
TZOFFSETTO:+0930
TZNAME:ACST
DTSTART:20140405T163000
END:STANDARD
BEGIN:DAYLIGHT
TZOFFSETFROM:+0930
TZOFFSETTO:+1030
TZNAME:ACDT
DTSTART:20141004T163000
END:DAYLIGHT
END:VTIMEZONE
BEGIN:VEVENT
DTSTART;VALUE=DATE:20131006
DTEND;VALUE=DATE:20131007
DTSTAMP:20260425T233150
CREATED:20130325T100200Z
LAST-MODIFIED:20200219T232349Z
UID:10004404-1381017600-1381017600@heysentrail.asn.au
SUMMARY:Section 36: Curnows Hut to Raeville
DESCRIPTION:This is diverse walk through native scrub\, Bundaleer pine forest and farmland. The ridgetops and testing climbs reward walkers with spectacular panoramic views.
URL:https://heysentrail.asn.au/walking-the-heysen-trail/walk-the-trail-with-the-friends/walk-calendar/section-36-curnows-hut-to-raeville/
CATEGORIES:Warren Bonython Memorial Walk
END:VEVENT
BEGIN:VEVENT
DTSTART;VALUE=DATE:20131006
DTEND;VALUE=DATE:20131007
DTSTAMP:20260425T233150
CREATED:20130325T100200Z
LAST-MODIFIED:20200219T232350Z
UID:10004412-1381017600-1381017600@heysentrail.asn.au
SUMMARY:Section 51: Mt Arden South to Buckaringa
DESCRIPTION:From the Mt Arden South campsite the trail leaves the creek to climb Mt Arden summit for spectacular 360 degree views. The trail then follows the ridgeline and a pretty creekline to exit at Buckaringa.
URL:https://heysentrail.asn.au/walking-the-heysen-trail/walk-the-trail-with-the-friends/walk-calendar/section-51-mt-arden-south-to-buckaringa/
CATEGORIES:Warren Bonython Memorial Walk
END:VEVENT
BEGIN:VEVENT
DTSTART;VALUE=DATE:20131006
DTEND;VALUE=DATE:20131007
DTSTAMP:20260425T233150
CREATED:20130325T100200Z
LAST-MODIFIED:20200219T232348Z
UID:10004219-1381017600-1381017600@heysentrail.asn.au
SUMMARY:Section 6: Tugwell Rd to Inman Valley
DESCRIPTION:This section follows country roads\, farm fencelines and attractive road reserves. Native orchids\, grass trees\, abundant birdlife and classic Fleurieu farmland views make this a walk to remember. Take time out to explore the church ruin and graveyard on Hancock Rd above Inman Valley.
URL:https://heysentrail.asn.au/walking-the-heysen-trail/walk-the-trail-with-the-friends/walk-calendar/section-6-tugwell-rd-to-inman-valley/
CATEGORIES:Warren Bonython Memorial Walk
END:VEVENT
BEGIN:VEVENT
DTSTART;VALUE=DATE:20131006
DTEND;VALUE=DATE:20131007
DTSTAMP:20260425T233150
CREATED:20130325T100200Z
LAST-MODIFIED:20200219T232348Z
UID:10004235-1381017600-1381017600@heysentrail.asn.au
SUMMARY:Section 14: Norton Summit to Montacute Heights
DESCRIPTION:This spectacular section of the trail passes through the ruins of Morialta Barns before descending into the native bushland of Morialta Conservation Park\, providing frequent vistas over Adelaide and the Hills.
URL:https://heysentrail.asn.au/walking-the-heysen-trail/walk-the-trail-with-the-friends/walk-calendar/section-14-norton-summit-to-montacute-heights/
CATEGORIES:Warren Bonython Memorial Walk
END:VEVENT
BEGIN:VEVENT
DTSTART;VALUE=DATE:20131006
DTEND;VALUE=DATE:20131007
DTSTAMP:20260425T233150
CREATED:20130325T100200Z
LAST-MODIFIED:20200219T232349Z
UID:10004252-1381017600-1381017600@heysentrail.asn.au
SUMMARY:Section 44: Melrose to Alligator Gorge Rd
DESCRIPTION:This is a very long and difficult (but memorable) section of the Trail that starts with the ascent of Mt Remarkable\, and continues through Mt Remarkable Conservation Park before emerging on Alligator Gorge Road.
URL:https://heysentrail.asn.au/walking-the-heysen-trail/walk-the-trail-with-the-friends/walk-calendar/section-44-melrose-to-alligator-gorge-rd/
CATEGORIES:Warren Bonython Memorial Walk
END:VEVENT
BEGIN:VEVENT
DTSTART;VALUE=DATE:20131006
DTEND;VALUE=DATE:20131007
DTSTAMP:20260425T233150
CREATED:20130325T100200Z
LAST-MODIFIED:20200219T232348Z
UID:10004372-1381017600-1381017600@heysentrail.asn.au
SUMMARY:Section 18: Mt Crawford to Pewsey Vale
DESCRIPTION:Initially following forest edges and roadsides\, the trail then make its way up and over the pretty Wirra Wirra Peaks\, before descending to creek lines again. After a short detour to visit Freemans Hut\, walkers follow farm tracks and road reserves through open big gum grazing land.
URL:https://heysentrail.asn.au/walking-the-heysen-trail/walk-the-trail-with-the-friends/walk-calendar/section-18-mt-crawford-to-pewsey-vale/
CATEGORIES:Warren Bonython Memorial Walk
END:VEVENT
BEGIN:VEVENT
DTSTART;VALUE=DATE:20131006
DTEND;VALUE=DATE:20131007
DTSTAMP:20260425T233150
CREATED:20130325T100200Z
LAST-MODIFIED:20200219T232350Z
UID:10004421-1381017600-1381017600@heysentrail.asn.au
SUMMARY:Section 58: Wilpena to Bunyeroo
DESCRIPTION:This pretty walk is entirely within the Flinders Ranges National Park\, with much of the day spent following the Wilcolo Track between the ABC range and the towering peaks of Wilpena Pound.
URL:https://heysentrail.asn.au/walking-the-heysen-trail/walk-the-trail-with-the-friends/walk-calendar/section-58-wilpena-to-bunyeroo/
CATEGORIES:Warren Bonython Memorial Walk
END:VEVENT
BEGIN:VEVENT
DTSTART;VALUE=DATE:20131006
DTEND;VALUE=DATE:20131007
DTSTAMP:20260425T233150
CREATED:20130325T100200Z
LAST-MODIFIED:20200219T232348Z
UID:10004221-1381017600-1381017600@heysentrail.asn.au
SUMMARY:Section 7: Inman Valley to Myponga
DESCRIPTION:Majestic gums line roadsides leading to the climb up Sugarloaf Hill where walkers are rewarded with spectacular rural views. The trail then leads into Myponga Conservation Park for more views and some testing undulations. Pretty farmland and quiet country roads complete this section.
URL:https://heysentrail.asn.au/walking-the-heysen-trail/walk-the-trail-with-the-friends/walk-calendar/section-7-inman-valley-to-myponga/
CATEGORIES:Warren Bonython Memorial Walk
END:VEVENT
BEGIN:VEVENT
DTSTART;VALUE=DATE:20131006
DTEND;VALUE=DATE:20131007
DTSTAMP:20260425T233150
CREATED:20130325T100200Z
LAST-MODIFIED:20200219T232348Z
UID:10004237-1381017600-1381017600@heysentrail.asn.au
SUMMARY:Section 15: Montacute Heights to Cudlee Creek
DESCRIPTION:After an initial road walk\, the trail makes a very long and steep descent to Sixth Creek before climbing again through Montacute Conservation Park and Mt Crawford Forest Reserve. A pleasant walk past the pretty private gardens along Holland Creek Road completes the section.
URL:https://heysentrail.asn.au/walking-the-heysen-trail/walk-the-trail-with-the-friends/walk-calendar/section-15-montacute-heights-to-cudlee-creek/
CATEGORIES:Warren Bonython Memorial Walk
END:VEVENT
BEGIN:VEVENT
DTSTART;VALUE=DATE:20131006
DTEND;VALUE=DATE:20131007
DTSTAMP:20260425T233150
CREATED:20130325T100200Z
LAST-MODIFIED:20200219T232350Z
UID:10004254-1381017600-1381017600@heysentrail.asn.au
SUMMARY:Section 45: Alligator Gorge Rd to Horrocks Pass
DESCRIPTION:The trail initially leads over Lavender Peak to picturesque Stony Creek campsite. From there\, tracks\, back roads and a busy highway take walkers to the memorial to explorer John Horrocks.
URL:https://heysentrail.asn.au/walking-the-heysen-trail/walk-the-trail-with-the-friends/walk-calendar/section-45-alligator-gorge-rd-to-horrocks-pass/
CATEGORIES:Warren Bonython Memorial Walk
END:VEVENT
BEGIN:VEVENT
DTSTART;VALUE=DATE:20131006
DTEND;VALUE=DATE:20131007
DTSTAMP:20260425T233150
CREATED:20130325T100200Z
LAST-MODIFIED:20200219T232348Z
UID:10004365-1381017600-1381017600@heysentrail.asn.au
SUMMARY:Section 3: Tappanappa to Balquhidder
DESCRIPTION:A picturesque section highlighting the diversity of the Heysen Trail\, walkers traverse native bushland\, a long sandy beach\, lush farmland and some very memorable hills. Photo opportunities abound\, and you might even spot a whale.
URL:https://heysentrail.asn.au/walking-the-heysen-trail/walk-the-trail-with-the-friends/walk-calendar/section-3-tappanappa-to-balquhidder/
CATEGORIES:Warren Bonython Memorial Walk
END:VEVENT
BEGIN:VEVENT
DTSTART;VALUE=DATE:20131006
DTEND;VALUE=DATE:20131007
DTSTAMP:20260425T233150
CREATED:20130325T100200Z
LAST-MODIFIED:20200219T232348Z
UID:10004374-1381017600-1381017600@heysentrail.asn.au
SUMMARY:Section 19: Pewsey Vale to Tanunda
DESCRIPTION:This is an easy section of trail that runs through the northern section of Mt Crawford forests and through the native bushland of Kaiser Stuhl Conservation Park with its unusual weathered rock features. Panoramic vistas over the Barossa Valley and Lower North are a highlight.
URL:https://heysentrail.asn.au/walking-the-heysen-trail/walk-the-trail-with-the-friends/walk-calendar/section-19-pewsey-vale-to-tanunda/
CATEGORIES:Warren Bonython Memorial Walk
END:VEVENT
BEGIN:VEVENT
DTSTART;VALUE=DATE:20131006
DTEND;VALUE=DATE:20131007
DTSTAMP:20260425T233150
CREATED:20130325T100200Z
LAST-MODIFIED:20200219T232349Z
UID:10004382-1381017600-1381017600@heysentrail.asn.au
SUMMARY:Section 23: Peters Hill to Gerkie Gap
DESCRIPTION:A pleasant walk along back roads through undulating farmland to the southern end of Tothill Range\, taking in the town of Marrabel and its memorial to the famous buckjumper ‘Curio’.\n\nSUNDAY NIGHT – Post-walk celebration of the Warren Bonython Walk at Farrell Flat hall.  Commencing at 6 pm.  BYO BBQ meat and drinks plua a salad or dessert to share.  A gold coin donation to cover the hall hire.
URL:https://heysentrail.asn.au/walking-the-heysen-trail/walk-the-trail-with-the-friends/walk-calendar/section-23-peters-hill-to-gerkie-gap/
CATEGORIES:Warren Bonython Memorial Walk
END:VEVENT
BEGIN:VEVENT
DTSTART;VALUE=DATE:20131006
DTEND;VALUE=DATE:20131007
DTSTAMP:20260425T233150
CREATED:20130325T100200Z
LAST-MODIFIED:20200219T232349Z
UID:10004390-1381017600-1381017600@heysentrail.asn.au
SUMMARY:Section 27: Worlds End to Burra
DESCRIPTION:Although primarily a long\, flat\, treeless walk\, along dirt roads and road reserves\, this section provides walkers with a perspective on the diversity of landscapes of the Trail. The final few kilometres provide pleasant views over the historic Burra township.
URL:https://heysentrail.asn.au/walking-the-heysen-trail/walk-the-trail-with-the-friends/walk-calendar/section-27-worlds-end-to-burra/
CATEGORIES:Warren Bonython Memorial Walk
END:VEVENT
BEGIN:VEVENT
DTSTART;VALUE=DATE:20131006
DTEND;VALUE=DATE:20131007
DTSTAMP:20260425T233150
CREATED:20130325T100200Z
LAST-MODIFIED:20200219T232349Z
UID:10004398-1381017600-1381017600@heysentrail.asn.au
SUMMARY:Section 33: EE George Quarry to Spalding Rd
DESCRIPTION:Most of this section is spent walking south\, initially along  the crest of Brown Hill Range\, following the remnants of an old 1840s stone wall (the longest in SA). It is quite an undulating walk\, with little shelter from the elements\, however the views make up for any discomfort. The last 5-6 km follow rural back roads to the main Spalding to Burra road.
URL:https://heysentrail.asn.au/walking-the-heysen-trail/walk-the-trail-with-the-friends/walk-calendar/section-33-ee-george-quarry-to-spalding-rd/
CATEGORIES:Warren Bonython Memorial Walk
END:VEVENT
BEGIN:VEVENT
DTSTART;VALUE=DATE:20131006
DTEND;VALUE=DATE:20131007
DTSTAMP:20260425T233150
CREATED:20130325T100200Z
LAST-MODIFIED:20200219T232349Z
UID:10004406-1381017600-1381017600@heysentrail.asn.au
SUMMARY:Section 37: Raeville to Locks Ruin
DESCRIPTION:This walk follows dirt roads into the small town of Georgetown and beyond past Hiskeys Hut. The trail then follows undulating fencelines through Sams Hills.
URL:https://heysentrail.asn.au/walking-the-heysen-trail/walk-the-trail-with-the-friends/walk-calendar/section-37-raeville-to-locks-ruin/
CATEGORIES:Warren Bonython Memorial Walk
END:VEVENT
BEGIN:VEVENT
DTSTART;VALUE=DATE:20131006
DTEND;VALUE=DATE:20131007
DTSTAMP:20260425T233150
CREATED:20130325T100200Z
LAST-MODIFIED:20200219T232350Z
UID:10004414-1381017600-1381017600@heysentrail.asn.au
SUMMARY:Section 52: Buckaringa to Calabrinda Creek
DESCRIPTION:Although a predominantly flat walk along the Heysen Trail\, this section passes below rocky outcrops\, and crosses the Willochra Creek providing views across the Willochra Plain.
URL:https://heysentrail.asn.au/walking-the-heysen-trail/walk-the-trail-with-the-friends/walk-calendar/section-52-buckaringa-to-calabrinda-creek/
CATEGORIES:Warren Bonython Memorial Walk
END:VEVENT
BEGIN:VEVENT
DTSTART;VALUE=DATE:20131006
DTEND;VALUE=DATE:20131007
DTSTAMP:20260425T233150
CREATED:20130325T100200Z
LAST-MODIFIED:20200219T232348Z
UID:10004223-1381017600-1381017600@heysentrail.asn.au
SUMMARY:Section 8: Myponga to Mt Compass
DESCRIPTION:After a short road walk\, the trail enters the small but picturesque Yulte Conservation Park. After emerging from the bushland\, the trail crosses open farmland continuing along Lawless Rd (and the Myponga Pistol Club firing range)\, and gradually climbing to Mt Cone\, which offers distant views over Victor Harbor to the South.
URL:https://heysentrail.asn.au/walking-the-heysen-trail/walk-the-trail-with-the-friends/walk-calendar/section-8-myponga-to-mt-compass/
CATEGORIES:Warren Bonython Memorial Walk
END:VEVENT
BEGIN:VEVENT
DTSTART;VALUE=DATE:20131006
DTEND;VALUE=DATE:20131007
DTSTAMP:20260425T233150
CREATED:20130325T100200Z
LAST-MODIFIED:20200219T232349Z
UID:10004241-1381017600-1381017600@heysentrail.asn.au
SUMMARY:Section 38: Locks Ruin to Bowman Park
DESCRIPTION:An easy walk\, predominantly along roads and road reserves\, this section takes us through the town of Crystal Brook\, then follows the Crystal Brook itself to historic Bowman Park.
URL:https://heysentrail.asn.au/walking-the-heysen-trail/walk-the-trail-with-the-friends/walk-calendar/section-38-locks-ruin-to-bowman-park/
CATEGORIES:Warren Bonython Memorial Walk
END:VEVENT
BEGIN:VEVENT
DTSTART;VALUE=DATE:20131006
DTEND;VALUE=DATE:20131007
DTSTAMP:20260425T233150
CREATED:20130325T100200Z
LAST-MODIFIED:20200219T232350Z
UID:10004256-1381017600-1381017600@heysentrail.asn.au
SUMMARY:Section 46: Horrocks Pass to Broadview
DESCRIPTION:Starting with a tough climb out of Horrocks Pass to the ridge\, the Trail traverses exposed\, gibber littered hills and farmland. Walkers are rewarded with views over the Willochra Plain.
URL:https://heysentrail.asn.au/walking-the-heysen-trail/walk-the-trail-with-the-friends/walk-calendar/section-46-horrocks-pass-to-broadview/
CATEGORIES:Warren Bonython Memorial Walk
END:VEVENT
BEGIN:VEVENT
DTSTART;VALUE=DATE:20131006
DTEND;VALUE=DATE:20131007
DTSTAMP:20260425T233150
CREATED:20130325T100200Z
LAST-MODIFIED:20200219T232349Z
UID:10004391-1381017600-1381017600@heysentrail.asn.au
SUMMARY:Section 28: Burra to Wandallah
DESCRIPTION:This section of the Trail goes through historic Burra\, passing the old Redruth Gaol and other reminders of a bygone era. The trail then takes walkers over the exposed hills of the North Mount Lofty Ranges.\n\nSUNDAY NIGHT – Post-walk celebration of the Warren Bonython Walk at Farrell Flat hall.  Commencing at 6 pm.  BYO BBQ meat and drinks plua a salad or dessert to share.  A gold coin donation to cover the hall hire.
URL:https://heysentrail.asn.au/walking-the-heysen-trail/walk-the-trail-with-the-friends/walk-calendar/section-28-burra-to-wandallah/
CATEGORIES:Warren Bonython Memorial Walk
END:VEVENT
BEGIN:VEVENT
DTSTART;VALUE=DATE:20131006
DTEND;VALUE=DATE:20131007
DTSTAMP:20260425T233150
CREATED:20130325T100200Z
LAST-MODIFIED:20200219T232350Z
UID:10004415-1381017600-1381017600@heysentrail.asn.au
SUMMARY:Section 53: Calabrinda Creek to Jarvis Hill
DESCRIPTION:This is a long but fairly fast walk\, initially along vehicle tracks\, then over open grazing land along the face of Yappala Range and past the historic Mt Elm school site to Jarvis Hill carpark.
URL:https://heysentrail.asn.au/walking-the-heysen-trail/walk-the-trail-with-the-friends/walk-calendar/section-53-calabrinda-creek-to-jarvis-hill/
CATEGORIES:Warren Bonython Memorial Walk
END:VEVENT
BEGIN:VEVENT
DTSTART;VALUE=DATE:20131006
DTEND;VALUE=DATE:20131007
DTSTAMP:20260425T233150
CREATED:20130325T100200Z
LAST-MODIFIED:20200219T232350Z
UID:10004423-1381017600-1381017600@heysentrail.asn.au
SUMMARY:Section 60: Aroona Hut to Parachilna Trailhead
DESCRIPTION:This final section of the trail follows Aroona Valley to the watershed dividing it from the Parachilna Creek catchment to the north. It then follows the valley between ABC Range and Heysen Range\, past abandoned mines to the final stile at the Parachilna Trailhead. This walk is a pleasant amble\, perfect for reflecting on the years and kilometres taken to get here\, and the friendships made along the way.
URL:https://heysentrail.asn.au/walking-the-heysen-trail/walk-the-trail-with-the-friends/walk-calendar/section-60-aroona-hut-to-parachilna-trailhead/
CATEGORIES:Warren Bonython Memorial Walk
END:VEVENT
BEGIN:VEVENT
DTSTART;VALUE=DATE:20131006
DTEND;VALUE=DATE:20131007
DTSTAMP:20260425T233150
CREATED:20130326T123647Z
LAST-MODIFIED:20200219T232350Z
UID:10004425-1381017600-1381017600@heysentrail.asn.au
SUMMARY:Section 49: Dutchmans Stern to Eyre Depot
DESCRIPTION:This is a deceptively tough walk with a bit of everything – undulating firetracks with spectacular views\, a rocky gorge and a gibber strewn floodplain.
URL:https://heysentrail.asn.au/walking-the-heysen-trail/walk-the-trail-with-the-friends/walk-calendar/section-49-dutchmans-stern-to-eyre-depot/
CATEGORIES:Warren Bonython Memorial Walk
END:VEVENT
BEGIN:VEVENT
DTSTART;VALUE=DATE:20131006
DTEND;VALUE=DATE:20131007
DTSTAMP:20260425T233150
CREATED:20130326T123648Z
LAST-MODIFIED:20200219T232350Z
UID:10004427-1381017600-1381017600@heysentrail.asn.au
SUMMARY:Section 55: Leigh Creek Road to Red Range
DESCRIPTION:A classic Flinders Ranges creek walk\, the whole day is spent in Wonoka Creek which has been the site of a couple of major floods in recent years. The trail continues along creeks following the picturesque Mernmerna Creek and Slaty Creek to the Red Range campsite.
URL:https://heysentrail.asn.au/walking-the-heysen-trail/walk-the-trail-with-the-friends/walk-calendar/section-55-leigh-creek-road-to-red-range/
CATEGORIES:Warren Bonython Memorial Walk
END:VEVENT
BEGIN:VEVENT
DTSTART;VALUE=DATE:20131006
DTEND;VALUE=DATE:20131007
DTSTAMP:20260425T233150
CREATED:20130326T123649Z
LAST-MODIFIED:20200219T232350Z
UID:10004429-1381017600-1381017600@heysentrail.asn.au
SUMMARY:Section 59: Bunyeroo to Aroona Hut
DESCRIPTION:In this section walkers climb from Bunyeroo Valley\, up to Yanyanna Hut\, passing several vantage points along the way that provide superb photo opportunities of the ranges behind. Continuing along Yanyanna Track\, the trail passes old settlers huts before entering the geologically significant Trezona area. The pleasant walk continues along Brachina and Enorama creeks past the Golden Spike and other significant geological sites\, before climbing to cross the ABC Range\, where spectacular views of the Heysen Range unfold.
URL:https://heysentrail.asn.au/walking-the-heysen-trail/walk-the-trail-with-the-friends/walk-calendar/section-59-bunyeroo-to-aroona-hut/
CATEGORIES:Warren Bonython Memorial Walk
END:VEVENT
BEGIN:VEVENT
DTSTART;VALUE=DATE:20131009
DTEND;VALUE=DATE:20131010
DTSTAMP:20260425T233150
CREATED:20121204T052152Z
LAST-MODIFIED:20200219T232350Z
UID:10004359-1381276800-1381276800@heysentrail.asn.au
SUMMARY:First Twilight Walk of the season
DESCRIPTION:First Twilight Walk of the season.\n\nTwilight Walks will follow on Wednesday nights during daylight saving time.
URL:https://heysentrail.asn.au/walking-the-heysen-trail/walk-the-trail-with-the-friends/walk-calendar/first-twilight-walk-of-the-season/
CATEGORIES:Summer Walks
END:VEVENT
BEGIN:VEVENT
DTSTART;VALUE=DATE:20131012
DTEND;VALUE=DATE:20131014
DTSTAMP:20260425T233150
CREATED:20121204T051327Z
LAST-MODIFIED:20200219T232350Z
UID:10004209-1381536000-1381622400@heysentrail.asn.au
SUMMARY:Dutchmans Stern car park to Eyre Depot\, Quorn to Dutchmans Stern
DESCRIPTION:Saturday 12th. We do the long day today! After leaving the cars at Dutchmans Car Park\, we walk around the Stern\, then head down (unexpectly) through a lovely gorgette\, and after a climb or two\, arrive on the western margin of the ranges. Then a rather tiring traverse along a fence line to Eyre Depot. We won’t get closer than this to the western plains.\n\n  Sunday 13th. From Quorn we head north-west through fields and then pleasant foothills  into the Dutchmans Stern Conservation Park. We then divert from the Trail to do the Dutchmans Loop\, visiting the summit for superb views in all directions. We should be able to see Wilpena Pound.Please note-you will be “Qing” on Saturday night. Theme – QI (Quorn Inspirations). “Q” or “Quorn”. 6.30pm join the quiet queue of quaint walkers taking a quick quench while quizzing the leaders about the quirks of the Heysen Trail ahead of quaffing to quell the quibbles at Quorn Community Hall.
URL:https://heysentrail.asn.au/walking-the-heysen-trail/walk-the-trail-with-the-friends/walk-calendar/dutchmans-stern-car-park-to-eyre-depot-quorn-to-dutchmans-stern/
CATEGORIES:End-to-End 4
END:VEVENT
BEGIN:VEVENT
DTSTART;VALUE=DATE:20131013
DTEND;VALUE=DATE:20131014
DTSTAMP:20260425T233150
CREATED:20121204T051419Z
LAST-MODIFIED:20200219T232350Z
UID:10004210-1381622400-1381622400@heysentrail.asn.au
SUMMARY:Tugwell Road to Inman Valley
DESCRIPTION:A Gentle undulating walk.  This section follows country roads\, farm fencelines and attractive road reserves. Native orchids\, grass trees\, abundant birdlife and classic Fleurieu farmland views make this a walk to remember. Take time out to explore the church ruin and graveyard on Hancock Rd above Inman Valley.
URL:https://heysentrail.asn.au/walking-the-heysen-trail/walk-the-trail-with-the-friends/walk-calendar/tugwell-road-to-inman-valley/
CATEGORIES:End-to-End 8
END:VEVENT
BEGIN:VEVENT
DTSTART;VALUE=DATE:20131013
DTEND;VALUE=DATE:20131014
DTSTAMP:20260425T233150
CREATED:20121204T051437Z
LAST-MODIFIED:20200219T232350Z
UID:10004211-1381622400-1381622400@heysentrail.asn.au
SUMMARY:Sturt Gorge
DESCRIPTION:We will explore a few of the tracks at the western end of Sturt Gorge and perhaps see the river in flow. Depending on the day we may exit the gorge and explore the pine forest and lake on the campus of Flinders University.  There could be some ups and downs on dirt paths so shoes with good grip are recommended. Start time 8.30am. Plan to finish around12.30pm. Bring morning tea to have on the trail. There is a lovely park at the start/ end where you can enjoy a picnic lunch.
URL:https://heysentrail.asn.au/walking-the-heysen-trail/walk-the-trail-with-the-friends/walk-calendar/sturt-gorge/
CATEGORIES:Trail Starter
END:VEVENT
END:VCALENDAR