BEGIN:VCALENDAR
VERSION:2.0
PRODID:-//Friends of the Heysen Trail - ECPv6.15.20//NONSGML v1.0//EN
CALSCALE:GREGORIAN
METHOD:PUBLISH
X-ORIGINAL-URL:https://heysentrail.asn.au
X-WR-CALDESC:Events for Friends of the Heysen Trail
REFRESH-INTERVAL;VALUE=DURATION:PT1H
X-Robots-Tag:noindex
X-PUBLISHED-TTL:PT1H
BEGIN:VTIMEZONE
TZID:Australia/Adelaide
BEGIN:STANDARD
TZOFFSETFROM:+1030
TZOFFSETTO:+0930
TZNAME:ACST
DTSTART:20180331T163000
END:STANDARD
BEGIN:DAYLIGHT
TZOFFSETFROM:+0930
TZOFFSETTO:+1030
TZNAME:ACDT
DTSTART:20181006T163000
END:DAYLIGHT
BEGIN:STANDARD
TZOFFSETFROM:+1030
TZOFFSETTO:+0930
TZNAME:ACST
DTSTART:20190406T163000
END:STANDARD
BEGIN:DAYLIGHT
TZOFFSETFROM:+0930
TZOFFSETTO:+1030
TZNAME:ACDT
DTSTART:20191005T163000
END:DAYLIGHT
BEGIN:STANDARD
TZOFFSETFROM:+1030
TZOFFSETTO:+0930
TZNAME:ACST
DTSTART:20200404T163000
END:STANDARD
BEGIN:DAYLIGHT
TZOFFSETFROM:+0930
TZOFFSETTO:+1030
TZNAME:ACDT
DTSTART:20201003T163000
END:DAYLIGHT
BEGIN:STANDARD
TZOFFSETFROM:+1030
TZOFFSETTO:+0930
TZNAME:ACST
DTSTART:20210403T163000
END:STANDARD
BEGIN:DAYLIGHT
TZOFFSETFROM:+0930
TZOFFSETTO:+1030
TZNAME:ACDT
DTSTART:20211002T163000
END:DAYLIGHT
END:VTIMEZONE
BEGIN:VEVENT
DTSTART;VALUE=DATE:20191016
DTEND;VALUE=DATE:20191017
DTSTAMP:20260423T185555
CREATED:20181018T013144Z
LAST-MODIFIED:20200219T232510Z
UID:10005362-1571184000-1571184000@heysentrail.asn.au
SUMMARY:Belair/Brownhill Creek
DESCRIPTION:A loop walk through Belair National Park down to Brownhill Creek before a sharp climb up Brown Hill then down to join the Yurrebilla trail for the descent back to Brownhill Creek Road. From there a short stint in some streets of Mitcham prior to a climb through Randell Park and back to Belair Railway station.\n\nThere will only be a break for morning tea as we will be at lunch time.\n\nIf the weather is hot the walk will be shortened by a few kilometers and at least one climb.
URL:https://heysentrail.asn.au/walking-the-heysen-trail/walk-the-trail-with-the-friends/walk-calendar/belair-brownhill-creek/
CATEGORIES:Trail Walker
END:VEVENT
BEGIN:VEVENT
DTSTART;VALUE=DATE:20191017
DTEND;VALUE=DATE:20191018
DTSTAMP:20260423T185555
CREATED:20190904T075856Z
LAST-MODIFIED:20200219T232510Z
UID:10005550-1571270400-1571270400@heysentrail.asn.au
SUMMARY:Friends Shed Maintenance Day â€“ Cobbler Creek
DESCRIPTION:Maintenance Days at the Friends Shed at Cobbler Creek.\n\nVolunteers are welcome to join in. You don’t have to be an expert handy person.\n\nPlease register so we can anticipate numbers and plan jobs.
URL:https://heysentrail.asn.au/walking-the-heysen-trail/walk-the-trail-with-the-friends/walk-calendar/friends-shed-maintenance-day-ae-cobbler-creek-3/
CATEGORIES:Friends Shed Maintenance Day
END:VEVENT
BEGIN:VEVENT
DTSTART;VALUE=DATE:20191019
DTEND;VALUE=DATE:20191021
DTSTAMP:20260423T185555
CREATED:20180920T045347Z
LAST-MODIFIED:20200219T232510Z
UID:10004710-1571443200-1571529600@heysentrail.asn.au
SUMMARY:Peters Hill to Gerkie Gap to Webb Gap
DESCRIPTION:Weekend Based in Kapunda.                                 SAT-19thA pleasant walk along back roads through undulating farmland and past the town of Marrabel{and it’s memorial to the famous buckjumper””Curio”‘} to the southern end of the Tothill Range.\n\nSun 20thThis section of the trail follows the Tothill Ranges\,which boasts the largest remaining section of remnant vegetation in the area .There are pleasant vistas over surrounding farmland\,with constant reminders of 19th century optimism and 21st century technology.   \n\nGroup Dinner Sat Night    \n\nNOTE – If you wish to walk on only one day\, please contact the FOHT office (once bookings have opened) to register for that days walk. The online registration system will only allow you to register for both days.
URL:https://heysentrail.asn.au/walking-the-heysen-trail/walk-the-trail-with-the-friends/walk-calendar/peters-hill-to-gerkie-gap-to-webb-gap-3/
CATEGORIES:End-to-End 12
END:VEVENT
BEGIN:VEVENT
DTSTART;VALUE=DATE:20191019
DTEND;VALUE=DATE:20191021
DTSTAMP:20260423T185555
CREATED:20181019T114439Z
LAST-MODIFIED:20200219T232510Z
UID:10005453-1571443200-1571529600@heysentrail.asn.au
SUMMARY:Bowman Park to Mt Zion(Mills Rd) to Wirabarra
DESCRIPTION:NOTE – If you wish to walk on only one day\, please contact the FOHT office (once bookings have opened) to register for that day’s walk. The online registration system will only allow you to register for both days.\n\nThis weekend heralds the beginning of our journey north into the Flinders Ranges.\n\nPlease note the order of these walks will be reversed to enable an earlier finish on Sunday prior to everyones drive home.\n\nPlease remember to take plenty of water for each walk now that the weather is warming up\, especially on Saturday as it is a long demanding walk with few opportunities for the support vehicle to access the trail.\n\nSATURDAY 19th OCTOBER\n\nA fantastic and testing walk commences with a steady climb along Mills Rd up to Beetaloo Creek campsite.From here the trail heads up to the ridgeline for an approx. 12 klm up & down trekking to the Bluff(it just doesn’t seem to get closer). After leaving the Bluff the trail continues another few kilometres on the ridgeline to where we exit down Bluff Road onto Wirrabara Forest Road for the final 3 kilometre trudge back to the cars.\n\nThroughout the walk there are some spectacular views to the east over Beetaloo Valley & beyond\, and to the west over Spencer Gulf.In every sense a tough but rewarding walk.\n\nSUNDAY 20th OCTOBER\n\nBeginning with a pleasant walk along the Crystal Brook after leaving Bowman Park\, criss-crossing the brook between often steep sides and many rocky outcrops\, before passing through a narrow gorge to Hughes Gap & the nearby storage tanks for the Morgan-Whyalla pipeline. From there the walk follows a series of country roads\, often providing wonderful views of the surrounding countryside.\n\nDinner on Saturday night will at the Laura North Hotel from 6.15-6.30pm.\n\nThe theme for the evening will be the seventies. Take inspiration from the Music\, Dress or Events of the era to celebrate another wonderful season of walking along the Trail.
URL:https://heysentrail.asn.au/walking-the-heysen-trail/walk-the-trail-with-the-friends/walk-calendar/bowman-park-to-mt-zionmills-rd-to-wirabarra/
CATEGORIES:End-to-End 11
END:VEVENT
BEGIN:VEVENT
DTSTART;VALUE=DATE:20191020
DTEND;VALUE=DATE:20191021
DTSTAMP:20260423T185555
CREATED:20190110T012153Z
LAST-MODIFIED:20200219T232510Z
UID:10005474-1571529600-1571529600@heysentrail.asn.au
SUMMARY:Onkaparinga River Recreation Park
DESCRIPTION:A loop walk incorporating the Pingle Farm Trail and Wetlands Loop Trail on either side of the Adelaide to Seaford railway viaduct. 95% dead flat\, except for one short steepish hill to climb and descend.  Distance may be shortened if there are adverse weather conditions. Optional group lunch afterwards at Jimmy Deane’s bistro at the South Adelaide Football Club afterwards.  Seniors Card holders 3 course lunch for $12.90!
URL:https://heysentrail.asn.au/walking-the-heysen-trail/walk-the-trail-with-the-friends/walk-calendar/onkaparinga-river-recreation-park/
CATEGORIES:Trail Starter
END:VEVENT
BEGIN:VEVENT
DTSTART;VALUE=DATE:20191020
DTEND;VALUE=DATE:20191021
DTSTAMP:20260423T185555
CREATED:20190110T012347Z
LAST-MODIFIED:20200219T232510Z
UID:10005476-1571529600-1571529600@heysentrail.asn.au
SUMMARY:Horsnell Gully
DESCRIPTION:A tough walk with some steep ups and downs in Horsnell Conservation Park and elsewhere.
URL:https://heysentrail.asn.au/walking-the-heysen-trail/walk-the-trail-with-the-friends/walk-calendar/horsnell-gully-6/
CATEGORIES:Trail Walker
END:VEVENT
BEGIN:VEVENT
DTSTART;VALUE=DATE:20191024
DTEND;VALUE=DATE:20191025
DTSTAMP:20260423T185555
CREATED:20190904T080101Z
LAST-MODIFIED:20200219T232510Z
UID:10005552-1571875200-1571875200@heysentrail.asn.au
SUMMARY:Friends Shed Maintenance Day â€“ Cobbler Creek
DESCRIPTION:Maintenance Days at the Friends Shed at Cobbler Creek.\n\nVolunteers are welcome to join in. You don’t have to be an expert handy person.\n\nPlease register so we can anticipate numbers and plan jobs.
URL:https://heysentrail.asn.au/walking-the-heysen-trail/walk-the-trail-with-the-friends/walk-calendar/friends-shed-maintenance-day-ae-cobbler-creek-4/
CATEGORIES:Friends Shed Maintenance Day
END:VEVENT
BEGIN:VEVENT
DTSTART;VALUE=DATE:20191025
DTEND;VALUE=DATE:20191026
DTSTAMP:20260423T185555
CREATED:20190923T090612Z
LAST-MODIFIED:20200219T232510Z
UID:10005560-1571961600-1571961600@heysentrail.asn.au
SUMMARY:Stirling Night Walk
DESCRIPTION:A night time walk in the Cleland reserves
URL:https://heysentrail.asn.au/walking-the-heysen-trail/walk-the-trail-with-the-friends/walk-calendar/stirling-night-walk/
CATEGORIES:Trail Walker
END:VEVENT
BEGIN:VEVENT
DTSTART;VALUE=DATE:20191026
DTEND;VALUE=DATE:20191027
DTSTAMP:20260423T185555
CREATED:20181013T032653Z
LAST-MODIFIED:20211123T001933Z
UID:10005341-1572048000-1572048000@heysentrail.asn.au
SUMMARY:Willunga Basin Trail
DESCRIPTION:As the October 5th walk was cancelled\, this walk on the 26th has been updated to do that missed walk:\n\nWe continue to stage 5 exploring the new Willunga Basin Trail – yet to be marked – 120km loop around the basin south of Adelaide. \n\nToday the walk leaves from Ironbark picnic area\, meandering through Kuitpo Forest  – we may come across a small section of the Heysen Trail – a gentle rise to Mt Wilson and descending to McLaren Flat. Terrain follows forest tracks\, road reserves a nd a bit of road: there will be an occasional undulation but no major climbs.\n\nDistance approx. 20km 5 – 6 hours.\n\nHazards – some road walking
URL:https://heysentrail.asn.au/walking-the-heysen-trail/walk-the-trail-with-the-friends/walk-calendar/willunga-basin-trail-2019-2/
CATEGORIES:Willunga Basin Trail End-to-End
END:VEVENT
BEGIN:VEVENT
DTSTART;VALUE=DATE:20191027
DTEND;VALUE=DATE:20191028
DTSTAMP:20260423T185555
CREATED:20190110T012538Z
LAST-MODIFIED:20200219T232510Z
UID:10005478-1572134400-1572134400@heysentrail.asn.au
SUMMARY:Awesome Orchids
DESCRIPTION:This walk will focus on looking at and photographing wildlife\, including orchids in Scott Creek Conservation Park.
URL:https://heysentrail.asn.au/walking-the-heysen-trail/walk-the-trail-with-the-friends/walk-calendar/awesome-orchids/
CATEGORIES:Trail Rambler
END:VEVENT
BEGIN:VEVENT
DTSTART;VALUE=DATE:20191027
DTEND;VALUE=DATE:20191028
DTSTAMP:20260423T185555
CREATED:20190110T012732Z
LAST-MODIFIED:20200219T232510Z
UID:10005480-1572134400-1572134400@heysentrail.asn.au
SUMMARY:Glen Osmond Loop
DESCRIPTION:Sorry for the delay in getting these details up. And congratulations to those of you that have booked without knowing where we are going.\n\nHopefully\, this walk still suits you.\n\nFrom Glen Osmond we zig zag across the slope to the top. We cross Howard Drive and walk through to Waterfall Gully Rd and into Cleland  Conservation Park.The walk from that point on will be determined by the weather but will include at least one climb.I will shorten the walk if it’s hot.
URL:https://heysentrail.asn.au/walking-the-heysen-trail/walk-the-trail-with-the-friends/walk-calendar/glen-osmond-loop/
CATEGORIES:Trail Walker
END:VEVENT
BEGIN:VEVENT
DTSTART;VALUE=DATE:20191031
DTEND;VALUE=DATE:20191101
DTSTAMP:20260423T185555
CREATED:20190808T003509Z
LAST-MODIFIED:20200219T232510Z
UID:10004822-1572480000-1572480000@heysentrail.asn.au
SUMMARY:Crafers Stroll
DESCRIPTION:Trail starter in Cleland reserves.
URL:https://heysentrail.asn.au/walking-the-heysen-trail/walk-the-trail-with-the-friends/walk-calendar/crafers-stroll/
CATEGORIES:Trail Starter
END:VEVENT
BEGIN:VEVENT
DTSTART;VALUE=DATE:20191031
DTEND;VALUE=DATE:20191101
DTSTAMP:20260423T185555
CREATED:20191028T064743Z
LAST-MODIFIED:20200219T232510Z
UID:10004915-1572480000-1572480000@heysentrail.asn.au
SUMMARY:Friends Shed Day at Cobbler Creek
DESCRIPTION:Maintenance Days at the Friends Shed at Cobbler Creek.\n\nVolunteers are welcome to join in. You don’t have to be an expert handy person.\n\nPlease register so we can anticipate numbers and plan jobs.
URL:https://heysentrail.asn.au/walking-the-heysen-trail/walk-the-trail-with-the-friends/walk-calendar/friends-shed-day-at-cobbler-creek/
CATEGORIES:Friends Shed Maintenance Day
END:VEVENT
BEGIN:VEVENT
DTSTART;VALUE=DATE:20191101
DTEND;VALUE=DATE:20191102
DTSTAMP:20260423T185555
CREATED:20191026T021833Z
LAST-MODIFIED:20200219T232510Z
UID:10004914-1572566400-1572566400@heysentrail.asn.au
SUMMARY:Stirling Night Walk
DESCRIPTION:
URL:https://heysentrail.asn.au/walking-the-heysen-trail/walk-the-trail-with-the-friends/walk-calendar/stirling-night-walk-2/
CATEGORIES:Trail Walker
END:VEVENT
BEGIN:VEVENT
DTSTART;VALUE=DATE:20191106
DTEND;VALUE=DATE:20191107
DTSTAMP:20260423T185555
CREATED:20191017T201812Z
LAST-MODIFIED:20200219T232510Z
UID:10005561-1572998400-1572998400@heysentrail.asn.au
SUMMARY:Norton Summit
DESCRIPTION:A gentle stroll through and around Norton Summit. Includes a short stretch on the Heysen and Adelaide 100 trails\, some back roads and nature reserves.\n\nAfter the walk we can adjourn for dinner and a refreshing drink at the Scenic Hotel.
URL:https://heysentrail.asn.au/walking-the-heysen-trail/walk-the-trail-with-the-friends/walk-calendar/norton-summit-2/
CATEGORIES:Summer Walks
END:VEVENT
BEGIN:VEVENT
DTSTART;VALUE=DATE:20191107
DTEND;VALUE=DATE:20191108
DTSTAMP:20260423T185555
CREATED:20190918T120502Z
LAST-MODIFIED:20200219T232510Z
UID:10005554-1573084800-1573084800@heysentrail.asn.au
SUMMARY:The Friends Shed Maintenance Day - Cobbler Creek
DESCRIPTION:The Shed will be open this Thursday from 9.00 am to 2.00pm.\n\nVolunteers are welcome to join in. You don’t have to be an expert handy person.\n\nIf you can attend to help in one of our current projects\, please register on-line or contact Colin Edwards. \n\nIt helps him plan jobs when he knows how many people to expect.
URL:https://heysentrail.asn.au/walking-the-heysen-trail/walk-the-trail-with-the-friends/walk-calendar/the-friends-shed-maintenance-day-cobbler-creek-26/
CATEGORIES:Friends Shed Maintenance Day
END:VEVENT
BEGIN:VEVENT
DTSTART;VALUE=DATE:20191113
DTEND;VALUE=DATE:20191114
DTSTAMP:20260423T185555
CREATED:20191017T202218Z
LAST-MODIFIED:20200219T232510Z
UID:10005562-1573603200-1573603200@heysentrail.asn.au
SUMMARY:Springfield
DESCRIPTION:A reasonably challenging uphill walk in leafy Springfield with rewarding views of the city and some stunning architecture. Dinner (optional) at the Edinburgh Hotel (Beer garden if weather permits) at the end of the walk.
URL:https://heysentrail.asn.au/walking-the-heysen-trail/walk-the-trail-with-the-friends/walk-calendar/springfield/
CATEGORIES:Summer Walks
END:VEVENT
BEGIN:VEVENT
DTSTART;VALUE=DATE:20191114
DTEND;VALUE=DATE:20191115
DTSTAMP:20260423T185555
CREATED:20190918T121003Z
LAST-MODIFIED:20200219T232510Z
UID:10005556-1573689600-1573689600@heysentrail.asn.au
SUMMARY:The Friends Shed Maintenance Day - Cobbler Creek
DESCRIPTION:The Shed will be open this Thursday from 9.00 am to 2.00pm.\n\nVolunteers are welcome to join in. You don’t have to be an expert handy person.\n\nIf you can attend to help in one of our current projects\, please register on-line or contact Colin Edwards. \n\nIt helps him plan jobs when he knows how many people to expect.
URL:https://heysentrail.asn.au/walking-the-heysen-trail/walk-the-trail-with-the-friends/walk-calendar/the-friends-shed-maintenance-day-cobbler-creek-27/
CATEGORIES:Friends Shed Maintenance Day
END:VEVENT
BEGIN:VEVENT
DTSTART;VALUE=DATE:20191120
DTEND;VALUE=DATE:20191121
DTSTAMP:20260423T185555
CREATED:20191017T202336Z
LAST-MODIFIED:20200219T232510Z
UID:10005563-1574208000-1574208000@heysentrail.asn.au
SUMMARY:Mount George
DESCRIPTION:Note *As of Sunday the 17/11/19 the weather forecast is to be 41 degrees on the day of the walk therefore this walk may be cancelled\, a text message will be sent to all those registered on the day of the walk confirming whether the walk will be going ahead or not*\n\nA beautiful introductory walk for beginners of bush walking. The walk will commence along the Heysen Trail past the Bridgewater historic water-wheel mill. The trail will then take us off the Heysen Trail into Mt George conservation Park to the summit of Mt George. This can be a popular destination for bushwalkers and birdwatchers. Mount George Conservation Park landscape ranges from wetlands to open forests with rocky outcrops. The park features a great variety of vegetation and spring flowers. In the park you will find pea flowers\, ground-hugging correas and a variety of delightful native orchids. Wedge-tailed eagles may be seen circling the skies above the park\, while superb blue wrens\, red-browed finches\, white-throated treecreepers and scarlet robins are often observed around the trees and shrubs. You may often see koala’s fast asleep in the Gums and you often hear Kookaburra’s having a laugh as we walk past.\n\nAt the summit we will take a quick break whilst we enjoy the scenery. Then we will desend down to the Heysen Trail back upon our return to Bridgewater. For those interested dinner is available at the Bridgewater Inn.
URL:https://heysentrail.asn.au/walking-the-heysen-trail/walk-the-trail-with-the-friends/walk-calendar/mount-george-2/
CATEGORIES:Summer Walks
END:VEVENT
BEGIN:VEVENT
DTSTART;VALUE=DATE:20191121
DTEND;VALUE=DATE:20191122
DTSTAMP:20260423T185555
CREATED:20190918T121226Z
LAST-MODIFIED:20200219T232510Z
UID:10005558-1574294400-1574294400@heysentrail.asn.au
SUMMARY:The Friends Shed Maintenance Day - Cobbler Creek
DESCRIPTION:The Shed will be open this Thursday from 9.00 am to 2.00pm.\n\nVolunteers are welcome to join in. You don’t have to be an expert handy person.\n\nIf you can attend to help in one of our current projects\, please register on-line or contact Colin Edwards. \n\nIt helps him plan jobs when he knows how many people to expect.
URL:https://heysentrail.asn.au/walking-the-heysen-trail/walk-the-trail-with-the-friends/walk-calendar/the-friends-shed-maintenance-day-cobbler-creek-28/
CATEGORIES:Friends Shed Maintenance Day
END:VEVENT
BEGIN:VEVENT
DTSTART;VALUE=DATE:20191127
DTEND;VALUE=DATE:20191128
DTSTAMP:20260423T185555
CREATED:20191017T202450Z
LAST-MODIFIED:20200219T232511Z
UID:10005564-1574812800-1574812800@heysentrail.asn.au
SUMMARY:Semaphore south
DESCRIPTION:A 10klm walk taking in what we hope will be a stunning sunset.
URL:https://heysentrail.asn.au/walking-the-heysen-trail/walk-the-trail-with-the-friends/walk-calendar/semaphore-south/
CATEGORIES:Summer Walks
END:VEVENT
BEGIN:VEVENT
DTSTART;VALUE=DATE:20191128
DTEND;VALUE=DATE:20191129
DTSTAMP:20260423T185555
CREATED:20190918T121511Z
LAST-MODIFIED:20200219T232511Z
UID:10005559-1574899200-1574899200@heysentrail.asn.au
SUMMARY:The Friends Shed Maintenance Day - Cobbler Creek
DESCRIPTION:The Shed will be open this Thursday from 9.00 am to 2.00pm.\n\nVolunteers are welcome to join in. You don’t have to be an expert handy person.\n\nIf you can attend to help in one of our current projects\, please register on-line or contact Colin Edwards. \n\nIt helps him plan jobs when he knows how many people to expect.
URL:https://heysentrail.asn.au/walking-the-heysen-trail/walk-the-trail-with-the-friends/walk-calendar/the-friends-shed-maintenance-day-cobbler-creek-29/
CATEGORIES:Friends Shed Maintenance Day
END:VEVENT
BEGIN:VEVENT
DTSTART;VALUE=DATE:20191201
DTEND;VALUE=DATE:20191202
DTSTAMP:20260423T185555
CREATED:20190717T122804Z
LAST-MODIFIED:20200219T232511Z
UID:10004818-1575158400-1575158400@heysentrail.asn.au
SUMMARY:Xmas Bash
DESCRIPTION:The Friend’s End of Year Bash â€“ a family affair.\n\nAll Friends of the Heysen Trail are invited\, with their families.\n\nOur favourite band Raunchy Sugar have a new line-up and new name â€œThe Jugglersâ€ â€“ with the same foot-tapping Rock & Roll music.\n\nGet your End to End group and/or walking friends organised and be there. \n\nhttps://goo.gl/maps/nguzMrCm8uM2\n\nSunday 1st December 2019\, Midday to 4.30pm $20 per person\n\nPark entry fees are waived for attending members. Please mention at the entry gate at Belair National Park that you are attending a Friends of Heysen Trail function at Karka Pavilion\, you will then be directed to the venue.\n\nBefores\, BBQ and artisan bread will be provided. \n\nBring a Salad or Dessert to share\, bring chair or rug\, glass\, plates & cutlery.\n\nBring your partner/spouse and family.\n\nBYO Wine\, beer or soft drinks. \n\nNo refunds!
URL:https://heysentrail.asn.au/walking-the-heysen-trail/walk-the-trail-with-the-friends/walk-calendar/xmas-bash-2/
CATEGORIES:Social
END:VEVENT
BEGIN:VEVENT
DTSTART;VALUE=DATE:20191205
DTEND;VALUE=DATE:20191206
DTSTAMP:20260423T185555
CREATED:20191017T203835Z
LAST-MODIFIED:20200219T232511Z
UID:10005565-1575504000-1575504000@heysentrail.asn.au
SUMMARY:The Pat
DESCRIPTION:This is a THURSDAY night stroll around the Patawalunga followed by optional dinner at Watermark Hotel.
URL:https://heysentrail.asn.au/walking-the-heysen-trail/walk-the-trail-with-the-friends/walk-calendar/the-pat/
CATEGORIES:Summer Walks
END:VEVENT
BEGIN:VEVENT
DTSTART;VALUE=DATE:20191205
DTEND;VALUE=DATE:20191206
DTSTAMP:20260423T185555
CREATED:20191029T150431Z
LAST-MODIFIED:20200219T232511Z
UID:10005643-1575504000-1575504000@heysentrail.asn.au
SUMMARY:The Friends Shed Day at Cobbler Creek
DESCRIPTION:Maintenance Days at the Friends Shed at Cobbler Creek.\n\nVolunteers are welcome to join in. You don’t have to be an expert handy person.\n\nPlease register so we can anticipate numbers and plan jobs.
URL:https://heysentrail.asn.au/walking-the-heysen-trail/walk-the-trail-with-the-friends/walk-calendar/the-friends-shed-day-at-cobbler-creek/
CATEGORIES:Friends Shed Maintenance Day
END:VEVENT
BEGIN:VEVENT
DTSTART;VALUE=DATE:20191211
DTEND;VALUE=DATE:20191212
DTSTAMP:20260423T185555
CREATED:20191017T203949Z
LAST-MODIFIED:20200219T232511Z
UID:10005566-1576022400-1576022400@heysentrail.asn.au
SUMMARY:Anstey's Hill
DESCRIPTION:An evening walk around Anstey’s Hill Recreation Park.\n\nWalk will range from 1 – 1.5 hours depending on the weather.\n\nThere will be a couple of hills during the walk\, but nothing too hard.\n\nBe on the look out for the local wildlife.
URL:https://heysentrail.asn.au/walking-the-heysen-trail/walk-the-trail-with-the-friends/walk-calendar/ansteys-hill-5/
CATEGORIES:Summer Walks
END:VEVENT
BEGIN:VEVENT
DTSTART;VALUE=DATE:20191212
DTEND;VALUE=DATE:20191213
DTSTAMP:20260423T185555
CREATED:20191030T043625Z
LAST-MODIFIED:20200219T232511Z
UID:10005645-1576108800-1576108800@heysentrail.asn.au
SUMMARY:Shed Volunteers Xmas lunch
DESCRIPTION:A thank you celebration for our hard working shed volunteers \n\nColin will be in touch with you to pass on details for the event.
URL:https://heysentrail.asn.au/walking-the-heysen-trail/walk-the-trail-with-the-friends/walk-calendar/shed-volunteers-xmas-lunch/
CATEGORIES:Friends Shed Maintenance Day
END:VEVENT
BEGIN:VEVENT
DTSTART;VALUE=DATE:20191218
DTEND;VALUE=DATE:20191219
DTSTAMP:20260423T185555
CREATED:20191017T204101Z
LAST-MODIFIED:20200219T232511Z
UID:10005567-1576627200-1576627200@heysentrail.asn.au
SUMMARY:Brownhill Creek & Mitcham
DESCRIPTION:A challenging start\, road walking up to McElligotts quarry\, near Carrick Hill\, to enjoy some great views. We will then descend on a dirt track to the start of the Brownhill Creek Recreation Park. We will follow the creek\, either on tracks or road and hopefully see some wildlife along the way\, along with some of the great work in re-vegetation and clearing done by Friends of Brownhill Creek\n\nApprox 1.5 hours\, 7km\, with a meal afterwards as an option\n\nPLEASE NOTE THAT HOT WEATHER IS PREDICTED. THIS WALK MAY BE CHANGED TO SUIT CONDITIONS OR CANCELLED IF IT IS A HIGH FIRE DANGER DAY
URL:https://heysentrail.asn.au/walking-the-heysen-trail/walk-the-trail-with-the-friends/walk-calendar/brownhill-creek-mitcham/
CATEGORIES:Summer Walks
END:VEVENT
BEGIN:VEVENT
DTSTART;VALUE=DATE:20200108
DTEND;VALUE=DATE:20200109
DTSTAMP:20260423T185555
CREATED:20191017T204221Z
LAST-MODIFIED:20200219T232511Z
UID:10005568-1578441600-1578441600@heysentrail.asn.au
SUMMARY:Port Noarlunga Sunset Stroll
DESCRIPTION:A wander through the local area: a place that retains a village feel\, then follow the Onkaparinga River\, across a footbridge to the mouth and concluding with a stroll along the beach. 1.5hours approx. 4-6km that will be modified subject to weather. \n\nPlease ensure you bring plenty of water\, hat and sunscreen. Bathers & towel may also be useful.\n\nThere will be an option for a meal afterwards.
URL:https://heysentrail.asn.au/walking-the-heysen-trail/walk-the-trail-with-the-friends/walk-calendar/port-noarlunga-sunset-stroll/
CATEGORIES:Summer Walks
END:VEVENT
BEGIN:VEVENT
DTSTART;VALUE=DATE:20200115
DTEND;VALUE=DATE:20200116
DTSTAMP:20260423T185555
CREATED:20191017T204326Z
LAST-MODIFIED:20200219T232511Z
UID:10004834-1579046400-1579046400@heysentrail.asn.au
SUMMARY:Torrens Loop
DESCRIPTION:A gentle loop through Botanic Park and around the Torrens in the city.\n\nDinner at the British Hotel in North Adelaide afterwards (within walking distance).\n\nParking is available in Botanic Park or near the British Hotel.
URL:https://heysentrail.asn.au/walking-the-heysen-trail/walk-the-trail-with-the-friends/walk-calendar/torrens-loop/
CATEGORIES:Summer Walks
END:VEVENT
END:VCALENDAR