BEGIN:VCALENDAR
VERSION:2.0
PRODID:-//Friends of the Heysen Trail - ECPv6.15.20//NONSGML v1.0//EN
CALSCALE:GREGORIAN
METHOD:PUBLISH
X-WR-CALNAME:Friends of the Heysen Trail
X-ORIGINAL-URL:https://heysentrail.asn.au
X-WR-CALDESC:Events for Friends of the Heysen Trail
REFRESH-INTERVAL;VALUE=DURATION:PT1H
X-Robots-Tag:noindex
X-PUBLISHED-TTL:PT1H
BEGIN:VTIMEZONE
TZID:Australia/Adelaide
BEGIN:STANDARD
TZOFFSETFROM:+1030
TZOFFSETTO:+0930
TZNAME:ACST
DTSTART:20120331T163000
END:STANDARD
BEGIN:DAYLIGHT
TZOFFSETFROM:+0930
TZOFFSETTO:+1030
TZNAME:ACDT
DTSTART:20121006T163000
END:DAYLIGHT
BEGIN:STANDARD
TZOFFSETFROM:+1030
TZOFFSETTO:+0930
TZNAME:ACST
DTSTART:20130406T163000
END:STANDARD
BEGIN:DAYLIGHT
TZOFFSETFROM:+0930
TZOFFSETTO:+1030
TZNAME:ACDT
DTSTART:20131005T163000
END:DAYLIGHT
BEGIN:STANDARD
TZOFFSETFROM:+1030
TZOFFSETTO:+0930
TZNAME:ACST
DTSTART:20140405T163000
END:STANDARD
BEGIN:DAYLIGHT
TZOFFSETFROM:+0930
TZOFFSETTO:+1030
TZNAME:ACDT
DTSTART:20141004T163000
END:DAYLIGHT
END:VTIMEZONE
BEGIN:VEVENT
DTSTART;VALUE=DATE:20131006
DTEND;VALUE=DATE:20131007
DTSTAMP:20260425T211935
CREATED:20130325T100200Z
LAST-MODIFIED:20200219T232350Z
UID:10004408-1381017600-1381017600@heysentrail.asn.au
SUMMARY:Section 48: Woolshed Flat to Dutchmans Stern
DESCRIPTION:A steady climb to start the day takes walkers to the top of the range and views over Pichi Richi Pass. After descending into the pass again\, the Trail follows the historic Pichi Richi railway line\, passing the remnants of deserted sidings and settlements. The trail passes the outskirts of Quorn before climbing gradually towards The Dutchmans Stern. Taking a detour off of the Heysen Trail to walk the 6 km Dutchmans Stern loop will provide a memorable highlight.
URL:https://heysentrail.asn.au/walking-the-heysen-trail/walk-the-trail-with-the-friends/walk-calendar/section-48-woolshed-flat-to-dutchmans-stern/
CATEGORIES:Warren Bonython Memorial Walk
END:VEVENT
BEGIN:VEVENT
DTSTART;VALUE=DATE:20131006
DTEND;VALUE=DATE:20131007
DTSTAMP:20260425T211935
CREATED:20130325T100200Z
LAST-MODIFIED:20200219T232350Z
UID:10004421-1381017600-1381017600@heysentrail.asn.au
SUMMARY:Section 58: Wilpena to Bunyeroo
DESCRIPTION:This pretty walk is entirely within the Flinders Ranges National Park\, with much of the day spent following the Wilcolo Track between the ABC range and the towering peaks of Wilpena Pound.
URL:https://heysentrail.asn.au/walking-the-heysen-trail/walk-the-trail-with-the-friends/walk-calendar/section-58-wilpena-to-bunyeroo/
CATEGORIES:Warren Bonython Memorial Walk
END:VEVENT
BEGIN:VEVENT
DTSTART;VALUE=DATE:20131006
DTEND;VALUE=DATE:20131007
DTSTAMP:20260425T211935
CREATED:20130325T100200Z
LAST-MODIFIED:20200219T232348Z
UID:10004221-1381017600-1381017600@heysentrail.asn.au
SUMMARY:Section 7: Inman Valley to Myponga
DESCRIPTION:Majestic gums line roadsides leading to the climb up Sugarloaf Hill where walkers are rewarded with spectacular rural views. The trail then leads into Myponga Conservation Park for more views and some testing undulations. Pretty farmland and quiet country roads complete this section.
URL:https://heysentrail.asn.au/walking-the-heysen-trail/walk-the-trail-with-the-friends/walk-calendar/section-7-inman-valley-to-myponga/
CATEGORIES:Warren Bonython Memorial Walk
END:VEVENT
BEGIN:VEVENT
DTSTART;VALUE=DATE:20131006
DTEND;VALUE=DATE:20131007
DTSTAMP:20260425T211935
CREATED:20130325T100200Z
LAST-MODIFIED:20200219T232348Z
UID:10004237-1381017600-1381017600@heysentrail.asn.au
SUMMARY:Section 15: Montacute Heights to Cudlee Creek
DESCRIPTION:After an initial road walk\, the trail makes a very long and steep descent to Sixth Creek before climbing again through Montacute Conservation Park and Mt Crawford Forest Reserve. A pleasant walk past the pretty private gardens along Holland Creek Road completes the section.
URL:https://heysentrail.asn.au/walking-the-heysen-trail/walk-the-trail-with-the-friends/walk-calendar/section-15-montacute-heights-to-cudlee-creek/
CATEGORIES:Warren Bonython Memorial Walk
END:VEVENT
BEGIN:VEVENT
DTSTART;VALUE=DATE:20131006
DTEND;VALUE=DATE:20131007
DTSTAMP:20260425T211935
CREATED:20130325T100200Z
LAST-MODIFIED:20200219T232350Z
UID:10004254-1381017600-1381017600@heysentrail.asn.au
SUMMARY:Section 45: Alligator Gorge Rd to Horrocks Pass
DESCRIPTION:The trail initially leads over Lavender Peak to picturesque Stony Creek campsite. From there\, tracks\, back roads and a busy highway take walkers to the memorial to explorer John Horrocks.
URL:https://heysentrail.asn.au/walking-the-heysen-trail/walk-the-trail-with-the-friends/walk-calendar/section-45-alligator-gorge-rd-to-horrocks-pass/
CATEGORIES:Warren Bonython Memorial Walk
END:VEVENT
BEGIN:VEVENT
DTSTART;VALUE=DATE:20131006
DTEND;VALUE=DATE:20131007
DTSTAMP:20260425T211935
CREATED:20130325T100200Z
LAST-MODIFIED:20200219T232348Z
UID:10004368-1381017600-1381017600@heysentrail.asn.au
SUMMARY:Section 5: Waitpinga to Tugwell Rd
DESCRIPTION:One of the most spectacular sections of the Trail\, walkers follow sandy tracks through the coastal scrub of Newland Head Conservation Park\, and dramatic clifftops towards Victor Harbor. Here whales have been sighted\, as well as seals\, dolphins and the endangered white bellied sea eagle. At Kings Beach the Trail leaves the coast following roads and an uncleared road reserve to begin the long journey north.
URL:https://heysentrail.asn.au/walking-the-heysen-trail/walk-the-trail-with-the-friends/walk-calendar/section-5-waitpinga-to-tugwell-rd/
CATEGORIES:Warren Bonython Memorial Walk
END:VEVENT
BEGIN:VEVENT
DTSTART;VALUE=DATE:20131006
DTEND;VALUE=DATE:20131007
DTSTAMP:20260425T211935
CREATED:20130325T100200Z
LAST-MODIFIED:20200219T232349Z
UID:10004382-1381017600-1381017600@heysentrail.asn.au
SUMMARY:Section 23: Peters Hill to Gerkie Gap
DESCRIPTION:A pleasant walk along back roads through undulating farmland to the southern end of Tothill Range\, taking in the town of Marrabel and its memorial to the famous buckjumper ‘Curio’.\n\nSUNDAY NIGHT – Post-walk celebration of the Warren Bonython Walk at Farrell Flat hall.  Commencing at 6 pm.  BYO BBQ meat and drinks plua a salad or dessert to share.  A gold coin donation to cover the hall hire.
URL:https://heysentrail.asn.au/walking-the-heysen-trail/walk-the-trail-with-the-friends/walk-calendar/section-23-peters-hill-to-gerkie-gap/
CATEGORIES:Warren Bonython Memorial Walk
END:VEVENT
BEGIN:VEVENT
DTSTART;VALUE=DATE:20131006
DTEND;VALUE=DATE:20131007
DTSTAMP:20260425T211935
CREATED:20130325T100200Z
LAST-MODIFIED:20200219T232349Z
UID:10004394-1381017600-1381017600@heysentrail.asn.au
SUMMARY:Section 31: Dares Hill Summit Rd to Hallett
DESCRIPTION:The trail takes walkers past the historic Mt Bryan East School\, before beginning the climb up Mt Bryan\, which is the highest point of the Mt Lofty Ranges. Walkers are rewarded with panoramic views of the Mid-North from the summit and as they descend through grazing and farming land towards Hallett.\n\nSUNDAY NIGHT – Post-walk celebration of the Warren Bonython Walk at Farrell Flat hall.  Commencing at 6 pm.  BYO BBQ meat and drinks plua a salad or dessert to share.  A gold coin donation to cover the hall hire.
URL:https://heysentrail.asn.au/walking-the-heysen-trail/walk-the-trail-with-the-friends/walk-calendar/section-31-dares-hill-summit-rd-to-hallett/
CATEGORIES:Warren Bonython Memorial Walk
END:VEVENT
BEGIN:VEVENT
DTSTART;VALUE=DATE:20131006
DTEND;VALUE=DATE:20131007
DTSTAMP:20260425T211935
CREATED:20130325T100200Z
LAST-MODIFIED:20200219T232350Z
UID:10004410-1381017600-1381017600@heysentrail.asn.au
SUMMARY:Section 50: Eyre Depot to Mt Arden South
DESCRIPTION:After climbing back into the range\, walkers enter Mount Arden Creek which winds its way northwards. The gradual climb up the winding creek bed with its waterfalls and rocky sections can make progress very slow.
URL:https://heysentrail.asn.au/walking-the-heysen-trail/walk-the-trail-with-the-friends/walk-calendar/section-50-eyre-depot-to-mt-arden-south/
CATEGORIES:Warren Bonython Memorial Walk
END:VEVENT
BEGIN:VEVENT
DTSTART;VALUE=DATE:20131006
DTEND;VALUE=DATE:20131007
DTSTAMP:20260425T211935
CREATED:20130325T100200Z
LAST-MODIFIED:20200219T232350Z
UID:10004423-1381017600-1381017600@heysentrail.asn.au
SUMMARY:Section 60: Aroona Hut to Parachilna Trailhead
DESCRIPTION:This final section of the trail follows Aroona Valley to the watershed dividing it from the Parachilna Creek catchment to the north. It then follows the valley between ABC Range and Heysen Range\, past abandoned mines to the final stile at the Parachilna Trailhead. This walk is a pleasant amble\, perfect for reflecting on the years and kilometres taken to get here\, and the friendships made along the way.
URL:https://heysentrail.asn.au/walking-the-heysen-trail/walk-the-trail-with-the-friends/walk-calendar/section-60-aroona-hut-to-parachilna-trailhead/
CATEGORIES:Warren Bonython Memorial Walk
END:VEVENT
BEGIN:VEVENT
DTSTART;VALUE=DATE:20131006
DTEND;VALUE=DATE:20131007
DTSTAMP:20260425T211935
CREATED:20121204T051152Z
LAST-MODIFIED:20200219T232348Z
UID:10004208-1381017600-1381017600@heysentrail.asn.au
SUMMARY:A Day on the Heysen Trail: the Warren Bonython Memorial Walk
DESCRIPTION:Warren Bonython AO\, died in April of this year. He was a great believer in challenging himself in the outdoors: walking the Simpson Desert\, walking Lake Eyre and walking the length of the Flinders Ranges.\n\nHis exploits inspired generations of bushwalkers and the walking community of South Australia plans to honour his memory with our own challenge – walking the entire length of the Heysen Trail on the one day. The October Long Weekend\, Sunday 6th 2013\, has been chosen as the Day on the Heysen Trail: the Warren Bonython Memorial Walk.\n\nThe trail will be divided into 60 sections\, between 16 and 30km long\, with experienced leaders from South Australia’s bushwalking community. Participants will be able to book directly on to a section via the Friends of Heysen Trail web site\, from May 2013.\n\nMore details will be made available in 2013.\n\nThe walk will be open to all bushwalkers\, and schools with outdoor programs. The first step is to appoint leaders for each section. One organiser for each section will be responsible for the participants on their walk\, booking any buses if required and dealing with local logistics. The coordinating committee will provide detailed notes and instructions to help each section organiser.\n\nUPDATE 15/11/12: Extra walk leaders will be needed in a ratio of one walk leader for each 15 participants on the day. So if the walking community of South Australia is to meet this challenge in true Bonython style we need all of our experienced walkers and organisers to put up their hands. The Heysen Office is collecting a list of interested walk leaders and walking groups\, preferably with email addresses for future information. A list of the 60 sections will be circulated and leaders allocated in the next few months.
URL:https://heysentrail.asn.au/walking-the-heysen-trail/walk-the-trail-with-the-friends/walk-calendar/a-day-on-the-heysen-trail-the-warren-bonython-memorial-walk/
CATEGORIES:Other
END:VEVENT
BEGIN:VEVENT
DTSTART;VALUE=DATE:20131005
DTEND;VALUE=DATE:20131008
DTSTAMP:20260425T211935
CREATED:20121204T051105Z
LAST-MODIFIED:20200219T232348Z
UID:10004347-1380931200-1381104000@heysentrail.asn.au
SUMMARY:Chlorinator to Curnows Hut to Raeville to Locks Ruin
DESCRIPTION:Note:\n\nThis is a 3 day walk.\n\nOn both Saturday and Sunday the End to End 5 group will divide into two groups (A and B) and walk to Curnows Hut from either the Chlorinator or Raeville in order to cover two sections of the Heysen Trail for the Warren Bonython Memorial Walk on Sunday 6 October.\n\nSATURDAY/SUNDAY (Chlorinator to Curnows Hut)\n\nPassing Bundaleer Reservoir and the permanently flowing Bundaleer Creek\, the Trail joins the Bundaleer northern intake channel at the aqueduct. After leaving the channels at the weir it follows Never Never Creek past remnant Yacca forests and grazing land towards Bundaleer Forest.\n\nWalk grading information has not been included for Saturday and Sunday – please consult relevant maps (1.1 – 1.5)\n\nSATURDAY/SUNDAY (Curnows Hut to Raeville)\n\nThis is diverse walk through native scrub\, Bundaleer pine forest and farmland. The ridgetops and testing climbs reward walkers with spectacular panoramic views. The Heysen Trail has been rerouted to avoid fire damage in Bundaleer Forest. See reroute on website for information http://heysentrail.asn.au/heysen_trail/re-routes.php?reroute_id=170\n\nMONDAY (Raeville to Locks Ruin)\n\nThis walk follows dirt roads into the small town of Georgetown and beyond past Hiskeys Hut. The trail then follows undulating fencelines through Sams Hills.
URL:https://heysentrail.asn.au/walking-the-heysen-trail/walk-the-trail-with-the-friends/walk-calendar/chlorinator-to-curnows-hut-to-raeville-to-locks-ruin/
CATEGORIES:End-to-End 5
END:VEVENT
BEGIN:VEVENT
DTSTART;VALUE=DATE:20130929
DTEND;VALUE=DATE:20130930
DTSTAMP:20260425T211935
CREATED:20121204T051028Z
LAST-MODIFIED:20200219T232348Z
UID:10004338-1380412800-1380412800@heysentrail.asn.au
SUMMARY:The Real Chambers Gully
DESCRIPTION:Hello\, Afficionados of the hard slog!  In keeping with my previous challenging walks\, I offer for tasting\,  a sample of harder tracks within Chambers Gully and its surrounds in the Cleland Conservation Park.  To ensure that our thigh muscles are well lubricated\, we will start this walk by avoiding the Sunday\, Lycra clad crowds and their cars that descend upon Waterfall Gully Road.   By the time we enter Chambers Gully\, no hill will be too daunting for our group.  As this is Springtime\, the normally greyish green native flora will for a change look slightly more colourful.  Well worn footwear recommended + about 2 litres of water.\n\nIf your question is\, “I walk regularly with my dog\, along the beach in Glenelg. Would I be able to do this walk?”\n\nThe answer would be\, “Absolutely not!  Leave your dog at home.”
URL:https://heysentrail.asn.au/walking-the-heysen-trail/walk-the-trail-with-the-friends/walk-calendar/the-real-chambers-gully/
CATEGORIES:Trail Walker
END:VEVENT
BEGIN:VEVENT
DTSTART;VALUE=DATE:20130929
DTEND;VALUE=DATE:20130930
DTSTAMP:20260425T211935
CREATED:20121204T051003Z
LAST-MODIFIED:20200219T232348Z
UID:10004336-1380412800-1380412800@heysentrail.asn.au
SUMMARY:Mt George
DESCRIPTION:A beautiful introductory walk for beginners of bush walking.  The walk will commence along the Heysen Trail past the Bridgewater historic water-wheel mill.  The trail will then take us off the Heysen Trail into Mt George conservation Park to the summit of Mt George. This can be a popular destination for bushwalkers and birdwatchers. Mount George Conservation Park landscape ranges from wetlands to open forests with rocky outcrops.  The park features a great variety of vegetation and spring flowers.  In the park you will find pea flowers\, ground-hugging correas and a variety of delightful native orchids. Wedge-tailed eagles may be seen circling the skies above the park\, while superb blue wrens\, red-browed finches\, white-throated treecreepers and scarlet robins are often observed around the trees and shrubs. You may often see koala’s fast asleep in the Gums and you often hear Kookaburra’s having a laugh as we walk past.\n\nAt the summit we will take a morning Tea break whilst we enjoy the scenery.  Then we will desend down to the Heysen Trail back upon our return to Bridgewater. For those interested a quick refreshment or lunch is at the Bridgewater Inn.
URL:https://heysentrail.asn.au/walking-the-heysen-trail/walk-the-trail-with-the-friends/walk-calendar/mt-george/
CATEGORIES:Trail Starter
END:VEVENT
BEGIN:VEVENT
DTSTART;VALUE=DATE:20130922
DTEND;VALUE=DATE:20130923
DTSTAMP:20260425T211935
CREATED:20121204T050923Z
LAST-MODIFIED:20200219T232348Z
UID:10004334-1379808000-1379808000@heysentrail.asn.au
SUMMARY:Sea-to-Summit Trail (Mt Lofty Half)
DESCRIPTION:This is a beautiful walk that takes in the entire length of Belair National Park before heading up along Waverley Ridge to Crafers.  We then cross over the South Eastern Freeway to wind our way up to the Mt Lofty Summit using Cleland Conservation Park.  There is 3kms of road walking to be done and all walkers will need to have a moderate level of fitness.  Afterwards\, those who wish can join me for a well earned ale or wine (and/or lunch) at the Crafers Hotel.
URL:https://heysentrail.asn.au/walking-the-heysen-trail/walk-the-trail-with-the-friends/walk-calendar/sea-to-summit-trail-mt-lofty-half/
CATEGORIES:Trail Walker
END:VEVENT
BEGIN:VEVENT
DTSTART;VALUE=DATE:20130922
DTEND;VALUE=DATE:20130923
DTSTAMP:20260425T211935
CREATED:20121204T050839Z
LAST-MODIFIED:20200219T232348Z
UID:10004333-1379808000-1379808000@heysentrail.asn.au
SUMMARY:Belair Wildflower Walk
DESCRIPTION:A walk that circles down through the native forest of the upper reaches of Belair National Park to the European style park around old Government House before returning up a long climb to native forest on the hilltops.\n\nThe walk is approximately 9 km with one long up and will take about three hours with lots of stops for photographs of the native orchids – bring your camera.
URL:https://heysentrail.asn.au/walking-the-heysen-trail/walk-the-trail-with-the-friends/walk-calendar/belair-wildflower-walk/
CATEGORIES:Trail Starter
END:VEVENT
BEGIN:VEVENT
DTSTART;VALUE=DATE:20130922
DTEND;VALUE=DATE:20130923
DTSTAMP:20260425T211935
CREATED:20121204T050727Z
LAST-MODIFIED:20200219T232348Z
UID:10004331-1379808000-1379808000@heysentrail.asn.au
SUMMARY:Cleland to Montacute Heights
DESCRIPTION:This spectacular section of the trail passes throuth the native bushland of Cleland\, Horsnell Gully and Morialta Conservation Parks and along roadsides\, providing frequent vistas over Adelaide and the Hills.
URL:https://heysentrail.asn.au/walking-the-heysen-trail/walk-the-trail-with-the-friends/walk-calendar/cleland-to-montacute-heights/
CATEGORIES:End-to-End 7
END:VEVENT
BEGIN:VEVENT
DTSTART;VALUE=DATE:20130921
DTEND;VALUE=DATE:20130923
DTSTAMP:20260425T211935
CREATED:20121204T050804Z
LAST-MODIFIED:20200219T232348Z
UID:10004332-1379721600-1379808000@heysentrail.asn.au
SUMMARY:Mt Zion to Bowman Park to Lock's Ruin
DESCRIPTION:Theme: “50/50” Its the Vernal Equinox early Monday morning.\n\nSat.21st: Beginning with a steady climb to views over Port Pirie and Spencer Gulf then along roads\, it is then a very pleasant walk along the Crystal Brook to Bowman Park. \n\nSun.22nd: An easy walk following the Crystal Brook\, on through the town of Crystal Brook\, then its predominantly along roads and road reserves to Lock’s Ruin.
URL:https://heysentrail.asn.au/walking-the-heysen-trail/walk-the-trail-with-the-friends/walk-calendar/mt-zion-to-bowman-park-to-locks-ruin/
CATEGORIES:End-to-End Minus 1
END:VEVENT
BEGIN:VEVENT
DTSTART;VALUE=DATE:20130915
DTEND;VALUE=DATE:20130916
DTSTAMP:20260425T211935
CREATED:20121204T050707Z
LAST-MODIFIED:20200219T232348Z
UID:10004330-1379203200-1379203200@heysentrail.asn.au
SUMMARY:Para Wirra
DESCRIPTION:This should be a lovely walk thru native scrub in wild flower season. it shouldn’t be too challenging for reasonably fit walkers but there are lots of undulating tracks and fire trails to negotiate.\n\nI will be concentrating more on the southern section of the park\, rather than the more frequented Barossa Goldfields area
URL:https://heysentrail.asn.au/walking-the-heysen-trail/walk-the-trail-with-the-friends/walk-calendar/para-wirra-2/
CATEGORIES:Trail Walker
END:VEVENT
BEGIN:VEVENT
DTSTART;VALUE=DATE:20130915
DTEND;VALUE=DATE:20130916
DTSTAMP:20260425T211935
CREATED:20121204T050647Z
LAST-MODIFIED:20200219T232348Z
UID:10004329-1379203200-1379203200@heysentrail.asn.au
SUMMARY:Mt Lofty Botanic Gardens
DESCRIPTION:Enjoy city vistas and native flora (including a rare ancient fern habitat) on the first half of this walk as it  contours along a section of the Heysen Trail through the Cleland Conservation Park. Then cutting across the saddle alongside Mt.Bonython treck down to the picturesque Piccadilly Valley before facing a(slow paced)return climb to the ridge through the Botanic Gardens. Magnolia & Rhododendron should be in full bloom at this time. (an ideal place to stop for a picnic lunch for anyone interested)
URL:https://heysentrail.asn.au/walking-the-heysen-trail/walk-the-trail-with-the-friends/walk-calendar/mt-lofty-botanic-gardens/
CATEGORIES:Trail Starter
END:VEVENT
BEGIN:VEVENT
DTSTART;VALUE=DATE:20130915
DTEND;VALUE=DATE:20130916
DTSTAMP:20260425T211935
CREATED:20121204T050608Z
LAST-MODIFIED:20200219T232347Z
UID:10004328-1379203200-1379203200@heysentrail.asn.au
SUMMARY:Tanunda to Kapunda
DESCRIPTION:This walk takes us along back road reserves past vineyards and wineries of the Barossa Valley\, through the small town of Greenock and into the cropping and grazing land of the lower north. It is a long but mainly flat walk with only a few undulations. Pleasant vistas and changing seasonal colours make this a pretty walk.
URL:https://heysentrail.asn.au/walking-the-heysen-trail/walk-the-trail-with-the-friends/walk-calendar/tanunda-to-kapunda/
CATEGORIES:End-to-End 6
END:VEVENT
BEGIN:VEVENT
DTSTART;VALUE=DATE:20130908
DTEND;VALUE=DATE:20130909
DTSTAMP:20260425T211935
CREATED:20121204T050457Z
LAST-MODIFIED:20200219T232347Z
UID:10004206-1378598400-1378598400@heysentrail.asn.au
SUMMARY:Waitpinga to Tugwell Road
DESCRIPTION:One of the most spectacular sections of the Trail\, walkers follow sandy tracks through the coastal scrub of Newland Head Conservation Park\, and dramatic clifftops towards Victor Harbor. Here whales have been sighted\, as well as seals\, dolphins and the endangered white bellied sea eagle. At Kings Beach the Trail leaves the coast following roads and an uncleared road reserve to Tugwell Road to begin the long journey north.  A bus will be used at the start and end of the day\, hence the higher bus fee.
URL:https://heysentrail.asn.au/walking-the-heysen-trail/walk-the-trail-with-the-friends/walk-calendar/waitpinga-to-tugwell-road/
CATEGORIES:End-to-End 8
END:VEVENT
BEGIN:VEVENT
DTSTART;VALUE=DATE:20130907
DTEND;VALUE=DATE:20130909
DTSTAMP:20260425T211935
CREATED:20121204T050405Z
LAST-MODIFIED:20200219T232347Z
UID:10004205-1378512000-1378598400@heysentrail.asn.au
SUMMARY:Broadview  to Woolshed Flat. WF to Quorn
DESCRIPTION:Saturday 7th. Start off with a 3km moderate climb back to the trail\, then a testing walk to the Mt Brown summit\, a major landmark\, with magnificent views of the Gulf. Then a long descent to Olive Grove\, and a winding track along Waukarie Creek to Woolshed Flat.\n\nSunday 8th. The first part of the walk takes us up the northern flank of Pichi-Richi Pass\, well above the railway. We join the railway for the remaining part of the walk to McConville Rd near Quorn. We might see a steam train!
URL:https://heysentrail.asn.au/walking-the-heysen-trail/walk-the-trail-with-the-friends/walk-calendar/broadview-to-woolshed-flat-wf-to-quorn/
CATEGORIES:End-to-End 4
END:VEVENT
BEGIN:VEVENT
DTSTART;VALUE=DATE:20130907
DTEND;VALUE=DATE:20130909
DTSTAMP:20260425T211935
CREATED:20121204T050326Z
LAST-MODIFIED:20200219T232347Z
UID:10004204-1378512000-1378598400@heysentrail.asn.au
SUMMARY:Wandallah to Newikie Creek to Dares Hill Summit Road
DESCRIPTION:PLEASE NOTE:\n\nRoad conditions in the Newikie Creek area caused these walks to be postponed in July and August. In July\, the walks completed were Dare’s Hill Summit Road to Hallett to E E George Quarry. In August\, the walks completed were E E George Quarry to Spalding Road to the Chlorinator.\n\nCar and bus access to the walk area was reconnoitred  on 4 August and road information will be sought from Goyder Council closer to the event.\n\n \n\nALL ENQUIRIES TO RUSSELL O’BRIEN.\n\nSATURDAY 7 SEPTEMBER\n\nThis remote section of the Heysen Trail gives walkers their first introduction to the grazing lands beyond Goyders Line. After Wandallah Shelter walking is undulating until turning east toward Sugar Loaf Range. The track then turns to the north where Newikie Creek is reached via White Hill Road and Black Jack Shelter. This is an exposed and undulating walk with some very nice views.\n\nSUNDAY 8 SEPTEMBER\n\nThis section passes through Caroona Conservation Park and Tourilie Gorge\, which is one of the lesser known gems of the Trail. Look out for the remnants of an old bullock track cut through the gorge.
URL:https://heysentrail.asn.au/walking-the-heysen-trail/walk-the-trail-with-the-friends/walk-calendar/wandallah-to-newikie-creek-to-dares-hill-summit-road-3/
CATEGORIES:End-to-End 5
END:VEVENT
BEGIN:VEVENT
DTSTART;VALUE=DATE:20130901
DTEND;VALUE=DATE:20130902
DTSTAMP:20260425T211935
CREATED:20121204T050257Z
LAST-MODIFIED:20200219T232347Z
UID:10004203-1377993600-1377993600@heysentrail.asn.au
SUMMARY:Sturt Gorge -western end
DESCRIPTION:Scrubby hill and deep gullies.  Up and down\, with views and running water. Slippery downs. Depending on water level\, the ford crossings could be wet. Bring dry shoes for the end of the walk.
URL:https://heysentrail.asn.au/walking-the-heysen-trail/walk-the-trail-with-the-friends/walk-calendar/sturt-gorge-western-end/
CATEGORIES:Trail Walker
END:VEVENT
BEGIN:VEVENT
DTSTART;VALUE=DATE:20130901
DTEND;VALUE=DATE:20130902
DTSTAMP:20260425T211935
CREATED:20121204T050233Z
LAST-MODIFIED:20200219T232347Z
UID:10004202-1377993600-1377993600@heysentrail.asn.au
SUMMARY:Ambers Gully
DESCRIPTION:We will take the Yurrebilla Trail from the car park\, winding uphill at leasurely pace on Ambers Gulley track to the Sugarloaves\, where there is a great panarama of Adelaide; returning via fire track to the start\, with more great views over the northeast suburbs
URL:https://heysentrail.asn.au/walking-the-heysen-trail/walk-the-trail-with-the-friends/walk-calendar/ambers-gully/
CATEGORIES:Trail Starter
END:VEVENT
BEGIN:VEVENT
DTSTART;VALUE=DATE:20130825
DTEND;VALUE=DATE:20130826
DTSTAMP:20260425T211935
CREATED:20121204T050147Z
LAST-MODIFIED:20200219T232347Z
UID:10004201-1377388800-1377388800@heysentrail.asn.au
SUMMARY:Kaiserstuhl
DESCRIPTION:A lovely walk thru early spring flowers\, in native scrub sections and pass thru old pine forests.\n\nWe climb to the sumit of Kaiserstuhl for some spectacular views and decend to the site where a plane crashed in 1944. \n\nOn to Rossiters Hut for lunch and back to the cars a around 2.30pm. Coffee and drinks at Williamstown Hotel after.
URL:https://heysentrail.asn.au/walking-the-heysen-trail/walk-the-trail-with-the-friends/walk-calendar/kaiserstuhl/
CATEGORIES:Trail Walker
END:VEVENT
BEGIN:VEVENT
DTSTART;VALUE=DATE:20130825
DTEND;VALUE=DATE:20130826
DTSTAMP:20260425T211935
CREATED:20121204T050120Z
LAST-MODIFIED:20200219T232347Z
UID:10004200-1377388800-1377388800@heysentrail.asn.au
SUMMARY:Adelaide Park Lands Walk (South and East Park Lands)
DESCRIPTION:Explore the Adelaide Park Lands adjoining South and East Terrace with a local resident: community gardens; Japanese garden; bush regeneration site; historic mansions; engineering heritage; Victoria Park; Rymill Park.
URL:https://heysentrail.asn.au/walking-the-heysen-trail/walk-the-trail-with-the-friends/walk-calendar/adelaide-park-lands-walk-south-and-east-park-lands/
CATEGORIES:Trail Starter
END:VEVENT
BEGIN:VEVENT
DTSTART;VALUE=DATE:20130825
DTEND;VALUE=DATE:20130826
DTSTAMP:20260425T211935
CREATED:20121204T050001Z
LAST-MODIFIED:20200219T232347Z
UID:10004198-1377388800-1377388800@heysentrail.asn.au
SUMMARY:Mylor to Cleland
DESCRIPTION:Although the most populous section of the trail\, it still retains a rural feel as walkers pass through the parks and bushland of Bridgewater\, Mt George Conservation Park\, Mt Lofty Botanic Gardens and Cleland Conservation Park.
URL:https://heysentrail.asn.au/walking-the-heysen-trail/walk-the-trail-with-the-friends/walk-calendar/mylor-to-cleland/
CATEGORIES:End-to-End 7
END:VEVENT
BEGIN:VEVENT
DTSTART;VALUE=DATE:20130824
DTEND;VALUE=DATE:20130826
DTSTAMP:20260425T211935
CREATED:20121204T050043Z
LAST-MODIFIED:20200219T232347Z
UID:10004199-1377302400-1377388800@heysentrail.asn.au
SUMMARY:Block Nine Rd to Wirrabara to Mt. Zion
DESCRIPTION:The theme for the weekend is “Show Your Colours!” – there is an election coming up\, so having touched on religion last month\, we will broach politics this month.\n\nThe weekend’s walking will be a roller-coaster ride:\n\nSat.24th Aug – From Block 9 Road we make our way through the northern part of Wirrabara Forest\, to a narrow trail along a picturesque creekbed before we climb up to the ridge. Then it’s up and down\, views to the left\, views to the right\, up and down\, views to the left and right\, up and down ’til we exit down the TV track. Recent track closures due to fires means we must descend via the TV Track to Wirrabara Forest Road and on to the Old Nursery car park.\n\nSun.25th Aug. – We climb back up the TV track and resume the trail taking us to The Bluff and the roller coaster resumes. Up and down\, views to the left\, views to the right\, up and down\, views ahead before we drop down on to Mills Road and reach our cars at the Junction with Collaby Hill Road.
URL:https://heysentrail.asn.au/walking-the-heysen-trail/walk-the-trail-with-the-friends/walk-calendar/block-nine-rd-to-wirrabara-to-mt-zion/
CATEGORIES:End-to-End Minus 1
END:VEVENT
END:VCALENDAR