BEGIN:VCALENDAR
VERSION:2.0
PRODID:-//Friends of the Heysen Trail - ECPv6.15.20//NONSGML v1.0//EN
CALSCALE:GREGORIAN
METHOD:PUBLISH
X-WR-CALNAME:Friends of the Heysen Trail
X-ORIGINAL-URL:https://heysentrail.asn.au
X-WR-CALDESC:Events for Friends of the Heysen Trail
REFRESH-INTERVAL;VALUE=DURATION:PT1H
X-Robots-Tag:noindex
X-PUBLISHED-TTL:PT1H
BEGIN:VTIMEZONE
TZID:Australia/Adelaide
BEGIN:STANDARD
TZOFFSETFROM:+1030
TZOFFSETTO:+0930
TZNAME:ACST
DTSTART:20140405T163000
END:STANDARD
BEGIN:DAYLIGHT
TZOFFSETFROM:+0930
TZOFFSETTO:+1030
TZNAME:ACDT
DTSTART:20141004T163000
END:DAYLIGHT
BEGIN:STANDARD
TZOFFSETFROM:+1030
TZOFFSETTO:+0930
TZNAME:ACST
DTSTART:20150404T163000
END:STANDARD
BEGIN:DAYLIGHT
TZOFFSETFROM:+0930
TZOFFSETTO:+1030
TZNAME:ACDT
DTSTART:20151003T163000
END:DAYLIGHT
BEGIN:STANDARD
TZOFFSETFROM:+1030
TZOFFSETTO:+0930
TZNAME:ACST
DTSTART:20160402T163000
END:STANDARD
BEGIN:DAYLIGHT
TZOFFSETFROM:+0930
TZOFFSETTO:+1030
TZNAME:ACDT
DTSTART:20161001T163000
END:DAYLIGHT
END:VTIMEZONE
BEGIN:VEVENT
DTSTART;VALUE=DATE:20150823
DTEND;VALUE=DATE:20150824
DTSTAMP:20260425T223327
CREATED:20141020T103700Z
LAST-MODIFIED:20200219T232406Z
UID:10004640-1440288000-1440288000@heysentrail.asn.au
SUMMARY:Gandy's Gully Roller Coaster
DESCRIPTION:this walk will be hard with numerous climbs & descents\, some people will know of the tracks.
URL:https://heysentrail.asn.au/walking-the-heysen-trail/walk-the-trail-with-the-friends/walk-calendar/gandys-gully-roller-coaster/
CATEGORIES:Trail Walker
END:VEVENT
BEGIN:VEVENT
DTSTART;VALUE=DATE:20150829
DTEND;VALUE=DATE:20150831
DTSTAMP:20260425T223327
CREATED:20141212T051949Z
LAST-MODIFIED:20200219T232406Z
UID:10004401-1440806400-1440892800@heysentrail.asn.au
SUMMARY:Alligator Gorge Road to Broadview based in Quorn
DESCRIPTION:These walks will be done out of sequence so that the longer day can be walked on Saturday.\n\nSATURDAY 29 AUGUST\n\nThis is a tough walk starting with a climb out of Horrocks Pass to the ridge\, then an undulating walk over exposed gibber littered hills. Walkers are rewarded though with views over the Willochra Plain. \n\nSUNDAY 30 AUGUST\n\nThe trail initially leads over Lavender Peak to picturesque Stony Creek campsite. From there\, tracks\, back roads and a busy highway take walkers to the memorial to explorer John Horrocks.\n\nTHEME – Trains\n\nNOTE – If you wish to walk on only one day\, please contact the FOHT office to register for that day.  The online registering system will only allow you to register for both walking days.
URL:https://heysentrail.asn.au/walking-the-heysen-trail/walk-the-trail-with-the-friends/walk-calendar/alligator-gorge-road-to-broadview-based-in-quorn/
CATEGORIES:End-to-End 6
END:VEVENT
BEGIN:VEVENT
DTSTART;VALUE=DATE:20150830
DTEND;VALUE=DATE:20150831
DTSTAMP:20260425T223327
CREATED:20141028T031747Z
LAST-MODIFIED:20200219T232406Z
UID:10004671-1440892800-1440892800@heysentrail.asn.au
SUMMARY:Mylor Nature Trail
DESCRIPTION:This walk will initially take us along a narrow bush track which leads through the Valley of the Bandicoots wildlife corridor. The return leg follows part of The Heysen Trail. Amongst the understory of the woodland stretches expect to see a good selection of native plants in full bloom at this time of year. At the end of the walk\, for those interested\, Mylor Harvest CafÃ© is a popular destination for freshly prepared light meals\, tea\, coffee & cakes.
URL:https://heysentrail.asn.au/walking-the-heysen-trail/walk-the-trail-with-the-friends/walk-calendar/mylor-nature-trail-2/
CATEGORIES:Trail Starter
END:VEVENT
BEGIN:VEVENT
DTSTART;VALUE=DATE:20150830
DTEND;VALUE=DATE:20150831
DTSTAMP:20260425T223327
CREATED:20150416T022657Z
LAST-MODIFIED:20200219T232406Z
UID:10004430-1440892800-1440892800@heysentrail.asn.au
SUMMARY:Mt Lofty Botanic Loop
DESCRIPTION:This walk will take in the Heysen Mount Lofty loop and  Cleland tracks.
URL:https://heysentrail.asn.au/walking-the-heysen-trail/walk-the-trail-with-the-friends/walk-calendar/mt-lofty-botanic-loop/
CATEGORIES:Trail Walker
END:VEVENT
BEGIN:VEVENT
DTSTART;VALUE=DATE:20150906
DTEND;VALUE=DATE:20150907
DTSTAMP:20260425T223327
CREATED:20141021T074839Z
LAST-MODIFIED:20200219T232406Z
UID:10004642-1441497600-1441497600@heysentrail.asn.au
SUMMARY:Thomas Hill
DESCRIPTION:See one of the prettiest areas of the Adelaide Hills\, so close to Adelaide.  This is a loop walk around the Montacute Conservation Park and will be predominately along fire tracks\, but provide magnificent views of the Kangaroo Creek and Millbrook Reservoirs\, plus the summit of Mt Misery.\n\nIn total we will walk 16.8km however allow between 6 Â½ – 7 hours.  There are two extensive uphill sections\, so above average fitness will be necessary to comfortably complete the walk.\n\nHazards: \n\n	\n\n–  Moss on tracks in the pine forest and wet clay on Mt Misery may be very slippery. \n\n–  Bikes\n\nKookaburras and kangaroos almost guaranteed\, plus the odd echidna.\n\nExpect 80% undulations. \n\nCoffee\, scones and medicinal alcohol at The Cudlee CafÃ© after the walk\, a great way to catch up on the latest gossip.
URL:https://heysentrail.asn.au/walking-the-heysen-trail/walk-the-trail-with-the-friends/walk-calendar/thomas-hill-2/
CATEGORIES:Trail Walker
END:VEVENT
BEGIN:VEVENT
DTSTART;VALUE=DATE:20150906
DTEND;VALUE=DATE:20150907
DTSTAMP:20260425T223327
CREATED:20141028T031915Z
LAST-MODIFIED:20200219T232407Z
UID:10004673-1441497600-1441497600@heysentrail.asn.au
SUMMARY:Mount Lofty
DESCRIPTION:The first half of this walk essentially follows a contour line around the west face of Mount Lofty before it descends into Piccadilly Valley. There are good views across the City at some points and many interesting plants amongst the native veg. The return leg will take us up through the Rhododendron Gully in the Botanic Gardens.
URL:https://heysentrail.asn.au/walking-the-heysen-trail/walk-the-trail-with-the-friends/walk-calendar/mount-lofty-2/
CATEGORIES:Trail Starter
END:VEVENT
BEGIN:VEVENT
DTSTART;VALUE=DATE:20150906
DTEND;VALUE=DATE:20150907
DTSTAMP:20260425T223327
CREATED:20141213T040350Z
LAST-MODIFIED:20200219T232407Z
UID:10004696-1441497600-1441497600@heysentrail.asn.au
SUMMARY:Waitpinga to Tugwell Road
DESCRIPTION:One of the most spectacular sections of the Trail\, walkers follow sandy tracks through the coastal scrub of Newland Head Conservation Park\, and dramatic clifftops towards Victor Harbor.  Here whales have been sighted\, as well as seals\, dolphins and the endangered white bellied sea eagle.  At Kings Beach the Trail leaves the coast following roads and an uncleared road reserve to begin the long journey north.
URL:https://heysentrail.asn.au/walking-the-heysen-trail/walk-the-trail-with-the-friends/walk-calendar/waitpinga-to-tugwell-road-2/
CATEGORIES:End-to-End 10
END:VEVENT
BEGIN:VEVENT
DTSTART;VALUE=DATE:20150913
DTEND;VALUE=DATE:20150914
DTSTAMP:20260425T223327
CREATED:20141021T074956Z
LAST-MODIFIED:20200219T232407Z
UID:10004653-1442102400-1442102400@heysentrail.asn.au
SUMMARY:Ambers Gully
DESCRIPTION:A great walk to test the skills\, with several sharp undulations.  See the best of the Black Hill Conservation Park in a morning walk\, being rewarded very quickly with magnificent views of Adelaide. Previous walks in this area have yielded kangaroo’s\, koalas and an echidna.\n\nSome recent uphill walking prior to participating would be an advantage. \n\nWalk through the Sugar Loaves\, then a steep track down to Ghost Tree Gully and up the Summit Link trail.  Downhill from here\, meandering along the Ambers Gully track\, to the car park. \n\nShould be comfortable 3 Â½ hours\, but have allowed plenty of time for the ups.\n\nMeal after at Cafe Primo\, Dernancourt Shopping Centre\, Lower North East Road\, Dernancourt  optional.  Please let me know if you would like a meal in the notes\, as being Sunday lunch\, we may need to book a table.
URL:https://heysentrail.asn.au/walking-the-heysen-trail/walk-the-trail-with-the-friends/walk-calendar/ambers-gully-5/
CATEGORIES:Trail Starter
END:VEVENT
BEGIN:VEVENT
DTSTART;VALUE=DATE:20150913
DTEND;VALUE=DATE:20150914
DTSTAMP:20260425T223327
CREATED:20141021T075101Z
LAST-MODIFIED:20200219T232407Z
UID:10004655-1442102400-1442102400@heysentrail.asn.au
SUMMARY:Lavender Federation Trail Springton to Keyneton
DESCRIPTION:Farm land\, rocky outcrops and a few undulations.  Eden Valley district has Olive Groves and vineyards and old copper mines are evident.  \n\nWe pass Moculta settled in the 1850s by German immigrants with its heritage reflected in the buildings still remaining from those early times.\n\nKeyneton is a pretty country village dating from the late 19th century. This village is named after the English Pastoralist\, Joseph Keynes with many of his descendants still living in the area.
URL:https://heysentrail.asn.au/walking-the-heysen-trail/walk-the-trail-with-the-friends/walk-calendar/lavender-federation-trail-springton-to-keyneton/
CATEGORIES:Trail Walker
END:VEVENT
BEGIN:VEVENT
DTSTART;VALUE=DATE:20150919
DTEND;VALUE=DATE:20150921
DTSTAMP:20260425T223327
CREATED:20141212T052143Z
LAST-MODIFIED:20200219T232407Z
UID:10004403-1442620800-1442707200@heysentrail.asn.au
SUMMARY:Broadview to Woolshed Flat to Quorn based in Quorn
DESCRIPTION:SATURDAY 19 SEPTEMBER\n\nThis section of the trail climbs through grazing land and natural scrub to Mount Brown\, where walkers are provided with spectacular views of the northern Spencer Gulf from the viewing tower. A pretty single file descent leads to Waukarie Creek and a classic Flinders Ranges creek walk.\n\nSUNDAY 20 SEPTEMBER\n\nA steady climb to start the day takes walkers to the top of the range and views over Pichi Richi Pass. After following the ridgeline for a few kilometres the trail descends into the pass again.  The Trail follows the historic Pichi Richi railway line\, passing the remnants of deserted sidings and settlements.\n\nTHEME – ‘Q’\n\nNOTE – If you wish to walk on only one day\, please contact the FOHT office to register for that day.  The online registering system will only allow you to register for both walking days.
URL:https://heysentrail.asn.au/walking-the-heysen-trail/walk-the-trail-with-the-friends/walk-calendar/broadview-to-woolshed-flat-to-quorn-based-in-quorn/
CATEGORIES:End-to-End 6
END:VEVENT
BEGIN:VEVENT
DTSTART;VALUE=DATE:20150920
DTEND;VALUE=DATE:20150921
DTSTAMP:20260425T223327
CREATED:20141021T075206Z
LAST-MODIFIED:20200219T232407Z
UID:10004657-1442707200-1442707200@heysentrail.asn.au
SUMMARY:Newland Head
DESCRIPTION:The flora and the scenery on this walk are spectacular. \n\nIt is just about my favourite spring walk and I am always delighted by the chance to see some rare coastal heath in flower.\n\nThere are magnificant views so dont forget camera &/or binoculars. Bring rain and wind protection as well as lunch\, snacks and water.\n\nThis walk is about 13km but it is relatively flat and easy.
URL:https://heysentrail.asn.au/walking-the-heysen-trail/walk-the-trail-with-the-friends/walk-calendar/newland-head-3/
CATEGORIES:Trail Starter
END:VEVENT
BEGIN:VEVENT
DTSTART;VALUE=DATE:20150920
DTEND;VALUE=DATE:20150921
DTSTAMP:20260425T223327
CREATED:20141021T075305Z
LAST-MODIFIED:20200219T232407Z
UID:10004659-1442707200-1442707200@heysentrail.asn.au
SUMMARY:Mount Crawford
DESCRIPTION:
URL:https://heysentrail.asn.au/walking-the-heysen-trail/walk-the-trail-with-the-friends/walk-calendar/mount-crawford-2/
CATEGORIES:Trail Walker
END:VEVENT
BEGIN:VEVENT
DTSTART;VALUE=DATE:20150920
DTEND;VALUE=DATE:20150921
DTSTAMP:20260425T223327
CREATED:20141213T041319Z
LAST-MODIFIED:20200219T232407Z
UID:10004703-1442707200-1442707200@heysentrail.asn.au
SUMMARY:Cleland to Montacute Heights
DESCRIPTION:This spectacular section of the trail passes throuth the native bushland of Cleland\, Horsnell Gully and Morialta Conservation Parks and along roadsides\, providing frequent vistas over Adelaide and the Hills.
URL:https://heysentrail.asn.au/walking-the-heysen-trail/walk-the-trail-with-the-friends/walk-calendar/cleland-to-montacute-heights-2/
CATEGORIES:End-to-End 9
END:VEVENT
BEGIN:VEVENT
DTSTART;VALUE=DATE:20150926
DTEND;VALUE=DATE:20150928
DTSTAMP:20260425T223327
CREATED:20141216T072406Z
LAST-MODIFIED:20200219T232407Z
UID:10004719-1443225600-1443312000@heysentrail.asn.au
SUMMARY:EE George Quarry to Chlorinator based at Spalding
DESCRIPTION:Saturday – Most of this section is spent walking south\, initially along the crest of Brown Hill Range\, following the remnants of an old 1840s stone wall (the longest in SA). It is quite an undulating walk\, with little shelter from the elements\, however the views make up for any discomfort. The last 5-6 km follow rural back roads to the main Spalding to Burra road.\n\nSunday – This is a very flat\, but unique walk that follows the Freshwater intake channel for Bundaleer Reservoir\, only leaving it for a few km to go through Spalding. Walkers will see some fascinating examples of engineering from the early 1900s.\n\nNOTE – If you wish to walk on only one day\, please contact the FOHT office to register for that day. The online registering system will only allow you to register for both walking days.
URL:https://heysentrail.asn.au/walking-the-heysen-trail/walk-the-trail-with-the-friends/walk-calendar/ee-george-quarry-to-chlorinator-based-at-spalding/
CATEGORIES:End-to-End 7
END:VEVENT
BEGIN:VEVENT
DTSTART;VALUE=DATE:20150926
DTEND;VALUE=DATE:20150928
DTSTAMP:20260425T223327
CREATED:20150307T052440Z
LAST-MODIFIED:20200219T232407Z
UID:10004422-1443225600-1443312000@heysentrail.asn.au
SUMMARY:Mount Compass to Myponga to Inman Valley
DESCRIPTION:The theme for the weekend is “CONES”.\n\nSat.26th: Beginning with a long\, steady climb up Woodcone Road\, we then enter cow country on our way to Mount Cone for views down to Victor Harbor. Generally following ridges\, we get to the small but diverse Yulte Conservation Park before making our way down towards Myponga.\n\nSun.27th: We begin with pretty farmland and quiet country roads then climb towards Myponga Conservation Park for views and some testing undulations. More spectacular rural views as we approach Sugarloaf Hill before a steep descent down to gum-lined road walking into Inman Valley.\n\nNOTE – If you wish to walk on only one day\, please contact the FOHT office to register for that day. The online registering system will only allow you to register for both walking days.
URL:https://heysentrail.asn.au/walking-the-heysen-trail/walk-the-trail-with-the-friends/walk-calendar/mount-compass-to-myponga-to-inman-valley/
CATEGORIES:End-to-End Minus 1
END:VEVENT
BEGIN:VEVENT
DTSTART;VALUE=DATE:20150927
DTEND;VALUE=DATE:20150928
DTSTAMP:20260425T223327
CREATED:20150413T062916Z
LAST-MODIFIED:20200219T232407Z
UID:10004428-1443312000-1443312000@heysentrail.asn.au
SUMMARY:Cox's scrub
DESCRIPTION:This is a gentle bushland walk which was used for farming and bee keeping so their should be an abundance of wild flowers.\n\nTheir are sugar gums planted that are not native to the area\, these attract the bees and birds.\n\nThe tracks are sandy\, which make a slower walk.
URL:https://heysentrail.asn.au/walking-the-heysen-trail/walk-the-trail-with-the-friends/walk-calendar/coxs-scrub-2/
CATEGORIES:Trail Starter
END:VEVENT
BEGIN:VEVENT
DTSTART;VALUE=DATE:20151002
DTEND;VALUE=DATE:20151006
DTSTAMP:20260425T223327
CREATED:20150708T160523Z
LAST-MODIFIED:20200219T232407Z
UID:10004734-1443744000-1444003200@heysentrail.asn.au
SUMMARY:Kangaroo Island Adventure
DESCRIPTION:NOTE – if you want to be on a list in case of a cancellation\, then please email your details to heysenKI.2015@mail.com \n\nIf an opportunity arises\, then you will be contacted.\n\nJoin a fun-filled bus of hikers heading off to spend 3 nights on Kangaroo Island. A guided and catered weekend in Dormitory accommodation. Three walks\,one each day\, will allow time to enjoy the varied scenery\, flora and fauna of this special island. Plus a pub dinner is included.
URL:https://heysentrail.asn.au/walking-the-heysen-trail/walk-the-trail-with-the-friends/walk-calendar/kangaroo-island-adventure/
CATEGORIES:Extended Walk
END:VEVENT
BEGIN:VEVENT
DTSTART;VALUE=DATE:20151004
DTEND;VALUE=DATE:20151005
DTSTAMP:20260425T223327
CREATED:20141021T075416Z
LAST-MODIFIED:20200219T232407Z
UID:10004661-1443916800-1443916800@heysentrail.asn.au
SUMMARY:Montacute (Mount Misery)
DESCRIPTION:Montacute Conservation Park and Cudlee Creek forestry area are very hilly places. Walkers should be prepared for up and down hills and if wet weather is forecast\, slippery conditions as well.\n\nThe walk incorporates a steep climb to Mount Misery with wonderful views over the Kangaroo Creek reservoir and Adelaide plains.\n\nThis is a demanding walk. Walk distance 16. 4 km and will take 5 to 5.30 hours.\n\nBring extra water\, ideally you should carry 2- 3 litres of water for this walk.\n\nAt the end of the walk we can have a well deserved break at the Anderson Hill  Winery where we can eat pizza\, cheese and of course sample the local wine.
URL:https://heysentrail.asn.au/walking-the-heysen-trail/walk-the-trail-with-the-friends/walk-calendar/montacute-mount-misery/
CATEGORIES:Trail Walker
END:VEVENT
BEGIN:VEVENT
DTSTART;VALUE=DATE:20151004
DTEND;VALUE=DATE:20151005
DTSTAMP:20260425T223327
CREATED:20141122T013328Z
LAST-MODIFIED:20200219T232407Z
UID:10004674-1443916800-1443916800@heysentrail.asn.au
SUMMARY:McLaren Flat
DESCRIPTION:This is a beautiful walk which leads us through two reserves – Manning and Blewitt Springs\, with  native flora in flower this time of the year.  We also get lovely view of the surrounding vineyards.  \n\nThis walk should take approximately 3 hours.  Tea and Coffee will be provided at the end of the walk.\n\nYou may wish to visit Woodstock winery after our walk for lunch or a wine tasting.
URL:https://heysentrail.asn.au/walking-the-heysen-trail/walk-the-trail-with-the-friends/walk-calendar/mclaren-flat/
CATEGORIES:Trail Starter
END:VEVENT
BEGIN:VEVENT
DTSTART;VALUE=DATE:20151004
DTEND;VALUE=DATE:20151005
DTSTAMP:20260425T223327
CREATED:20141213T040914Z
LAST-MODIFIED:20200219T232407Z
UID:10004699-1443916800-1443916800@heysentrail.asn.au
SUMMARY:Tugwell Road to Inman Valley
DESCRIPTION:This section follows country roads\, farm fence lines and attractive road reserves.  Native orchids\, grass trees\, abundant birdlife and classic Fleurieu farmland views make this a walk to remember.
URL:https://heysentrail.asn.au/walking-the-heysen-trail/walk-the-trail-with-the-friends/walk-calendar/tugwell-road-to-inman-valley-3/
CATEGORIES:End-to-End 10
END:VEVENT
BEGIN:VEVENT
DTSTART;VALUE=DATE:20151010
DTEND;VALUE=DATE:20151012
DTSTAMP:20260425T223327
CREATED:20150806T013709Z
LAST-MODIFIED:20200219T232407Z
UID:10004736-1444435200-1444521600@heysentrail.asn.au
SUMMARY:Webb Gap to Old Burra Road to Worlds End
DESCRIPTION:SATURDAY 10 October\n\nThe trail continues along the Tothill Range\, providing expansive views over surrounding farmland and Apoinga Lagoon. A sharp climb after Huppatz Hut provides us with a taste of things to come in future walks.\n\nSUNDAY 11 October\n\nA short walk across paddocks to the crossing of the Morgan-Whyalla pipeline is followed by an interesting walk through an area of the Halleluja Hills before reaching Worlds End Road. Once off this road\, we finish the day’s walking near the Burra Gorge Campground.\n\nSATURDAY EVENING MEAL – The Farrell Flat Management Committee will cater for the meal at the Farrell Flat Hall.  They are fundraising committee towards local events.  The cost will be $30.00 per head with alternate meal drops of Beef or Pork and sweets sticky date pudding or apple crumble.  Please help us support this small community by booking in for the meal.  (I have eaten here twice and it has been lovely)\n\nNOTE – If you wish to walk on only one day\, please contact the FOHT office to register for that day. The online registering system will only allow you to register for both walking days.\n\nNOTE – Bookings close earlier than normal due to catering requirements.
URL:https://heysentrail.asn.au/walking-the-heysen-trail/walk-the-trail-with-the-friends/walk-calendar/webb-gap-to-old-burra-road-to-worlds-end/
CATEGORIES:End-to-End 8
END:VEVENT
BEGIN:VEVENT
DTSTART;VALUE=DATE:20151011
DTEND;VALUE=DATE:20151012
DTSTAMP:20260425T223327
CREATED:20141122T014226Z
LAST-MODIFIED:20200219T232407Z
UID:10004677-1444521600-1444521600@heysentrail.asn.au
SUMMARY:Lavender Federation Trail Keyneton to Truro
DESCRIPTION:Sorry for posting these details late – have been ill for two weeks.\n\nThis should be a nice walk to finish our season. Walk distance is close to 21.5 kms.  Could not make it any shorter because first walk next year has access issues and needs to be 21/22 kms.\n\nCountryside will be different from what we have seen so far.  There will be more open paddocks and cropping. There will be few undulations and dirt road/farm access tracks will dominate.  Don’t forget to oil the hip joints!\n\nThe panorama should be green fields and more intense farming.  We will see more evidence of vineyards.\n\nIf you intend to stay on after the walk has finished bring a chair and some refreshments.
URL:https://heysentrail.asn.au/walking-the-heysen-trail/walk-the-trail-with-the-friends/walk-calendar/lavender-federation-trail-keyneton-to-truro/
CATEGORIES:Trail Walker
END:VEVENT
BEGIN:VEVENT
DTSTART;VALUE=DATE:20151018
DTEND;VALUE=DATE:20151019
DTSTAMP:20260425T223327
CREATED:20141122T014338Z
LAST-MODIFIED:20200219T232407Z
UID:10004679-1445126400-1445126400@heysentrail.asn.au
SUMMARY:Onkaparinga Gorge
DESCRIPTION:Lovely loop walk giving good views of Onkaparinga Gorge and surrounding farm land. All undulating but no steep sections. Is slippery when wet. Good shoes recomended.
URL:https://heysentrail.asn.au/walking-the-heysen-trail/walk-the-trail-with-the-friends/walk-calendar/onkaparinga-gorge/
CATEGORIES:Trail Starter
END:VEVENT
BEGIN:VEVENT
DTSTART;VALUE=DATE:20151018
DTEND;VALUE=DATE:20151019
DTSTAMP:20260425T223327
CREATED:20141213T223851Z
LAST-MODIFIED:20200219T232407Z
UID:10004707-1445126400-1445126400@heysentrail.asn.au
SUMMARY:Montacute Heights to Cudlee Creek
DESCRIPTION:After an initial road walk\, the trail makes a very long and steep descent to Sixth Creek before climbing again through Montacute Conservation Park and Mt Crawford Forest Reserve. A pleasant walk past the pretty private gardens along Holland Creek Road completes the section.
URL:https://heysentrail.asn.au/walking-the-heysen-trail/walk-the-trail-with-the-friends/walk-calendar/montacute-heights-to-cudlee-creek-2/
CATEGORIES:End-to-End 9
END:VEVENT
BEGIN:VEVENT
DTSTART;VALUE=DATE:20151018
DTEND;VALUE=DATE:20151024
DTSTAMP:20260425T223327
CREATED:20150307T053008Z
LAST-MODIFIED:20200219T232407Z
UID:10004424-1445126400-1445558400@heysentrail.asn.au
SUMMARY:Inman Valley to Cobbler Hill
DESCRIPTION:** Please Note: This registration covers the first 5 days of walking from Inman Valley to Cobbler Hill. There is a separate registration for E2E-1’s last walk: Cobbler Hill to Cape Jervis and celebration dinner. **\n\nThis week is brought to you by the letter ‘C’.\n\nSun.18th: Some initial road walking gets us to Second Valley Forest coming out at Robinson Hill. Then we follow quiet country roads in Keen Road and Tugwell Road before some cross country and track walking to finish at Waitpinga Road.\n\nMon.19th: A mixture of scrub and road walking gets us to the coast at Kings Beach. We follow along the dramatic clifftops through Newland Head Conservation Park – probably the most picturesque and photographed section of the whole trail. The walk concludes at Waitpinga Beach.\n\nTue.20th: The first of our beach walks take us along Waitpinga Beach\, then on to Parsons Beach. More coastal walking before we enter Balquhidder and head inland before finishing with some road walking.\n\nWed.21st: Rest Day. Optional activity helping Friends of Newland Head C.P. in the morning. Other activities To Be Advised.\n\nThu.22nd: We head across paddocks towards the coast where we will tackle the steepest descent on the Trail down to Tunkalilla Beach (it is no where near the 4km monster it used to be). At Boat Harbor Beach we enter the Deep Creek Conservation Park and its characteristic dense bushland before opening out on the ridge near Tapanappa Campground for far-reaching views.\n\nFri.23rd: A spectacular walk through Deep Creek Conservation Park includes the waterfall with dense bushland and stunning coastal views. Lots of ups and downs today all the way to Cobbler Hill.\n\nNOTE – If you wish to walk 1\, 2\, 3 or 4 days\, please contact the FOHT office to register for those days. The online registering system will only allow you to register for all 5 walking days.
URL:https://heysentrail.asn.au/walking-the-heysen-trail/walk-the-trail-with-the-friends/walk-calendar/inman-valley-to-cobbler-hill/
CATEGORIES:End-to-End Minus 1
END:VEVENT
BEGIN:VEVENT
DTSTART;VALUE=DATE:20151024
DTEND;VALUE=DATE:20151025
DTSTAMP:20260425T223327
CREATED:20150307T054146Z
LAST-MODIFIED:20200219T232407Z
UID:10004426-1445644800-1445644800@heysentrail.asn.au
SUMMARY:Cobbler Hill to Cape Jervis
DESCRIPTION:*** E2E-1’s LAST DAY ***\n\nTheme: The letter ‘C’ (for Completion?).\n\nA three and a half year journey comes to an end with an easy-ish trundle down Cobbler Hill and a stroll around the coastal path with views over Backstairs Passage to Kangaroo Island. We celebrate our 1200km trek with the ‘final stile’ at Cape Jervis.\n\nPlease Note: There will be a full bus service for walkers this day\, i.e. pick up from Victor Harbor to trail start at Cobblers Hill\, then from trail finish at Cape Jervis back to Victor Harbor.\n\nFor those that wish to join us at the Dinner but not walk\, please contact the FoHT office (M-F 10:30-2:30 Ph.8212 6299) to pay the meal fee(s).
URL:https://heysentrail.asn.au/walking-the-heysen-trail/walk-the-trail-with-the-friends/walk-calendar/cobbler-hill-to-cape-jervis/
CATEGORIES:End-to-End Minus 1
END:VEVENT
BEGIN:VEVENT
DTSTART;VALUE=DATE:20151024
DTEND;VALUE=DATE:20151026
DTSTAMP:20260425T223327
CREATED:20141216T072650Z
LAST-MODIFIED:20200219T232407Z
UID:10004720-1445644800-1445731200@heysentrail.asn.au
SUMMARY:Chlorinator to Raeville based at Spalding/ Jamestown
DESCRIPTION:Saturday – Passing Bundaleer Reservoir and the permanently flowing Bundaleer Creek\, the Trail joins the Bundaleer northern intake channel at the aqueduct. After leaving the channels at the weir it follows Never Never Creek past remnant Yacca forests and grazing land towards Bundaleer Forest\n\nSunday – This is diverse walk through native scrub\, Bundaleer pine forest and farmland. The ridgetops and testing climbs reward walkers with spectacular panoramic views.\n\nNOTE – If you wish to walk on only one day\, please contact the FOHT office to register for that day. The online registering system will only allow you to register for both walking days.
URL:https://heysentrail.asn.au/walking-the-heysen-trail/walk-the-trail-with-the-friends/walk-calendar/chlorinator-to-raeville-based-at-spalding-jamestown/
CATEGORIES:End-to-End 7
END:VEVENT
BEGIN:VEVENT
DTSTART;VALUE=DATE:20151025
DTEND;VALUE=DATE:20151026
DTSTAMP:20260425T223327
CREATED:20141020T103817Z
LAST-MODIFIED:20200219T232407Z
UID:10004641-1445731200-1445731200@heysentrail.asn.au
SUMMARY:Kuitpo
DESCRIPTION:
URL:https://heysentrail.asn.au/walking-the-heysen-trail/walk-the-trail-with-the-friends/walk-calendar/kuitpo/
CATEGORIES:Trail Walker
END:VEVENT
BEGIN:VEVENT
DTSTART;VALUE=DATE:20151025
DTEND;VALUE=DATE:20151026
DTSTAMP:20260425T223327
CREATED:20141122T014112Z
LAST-MODIFIED:20200219T232407Z
UID:10004675-1445731200-1445731200@heysentrail.asn.au
SUMMARY:Adelaide Street Art
DESCRIPTION:From spray to long-stay\, discover Adelaide’s street art and public art as we ramble around the West and East End of Adelaide’s CBD
URL:https://heysentrail.asn.au/walking-the-heysen-trail/walk-the-trail-with-the-friends/walk-calendar/adelaide-street-art/
CATEGORIES:Trail Starter
END:VEVENT
BEGIN:VEVENT
DTSTART;VALUE=DATE:20151101
DTEND;VALUE=DATE:20151102
DTSTAMP:20260425T223327
CREATED:20141122T014528Z
LAST-MODIFIED:20200219T232407Z
UID:10004681-1446336000-1446336000@heysentrail.asn.au
SUMMARY:The Cedars Hahndorf (Heysen Trail spur)
DESCRIPTION:Starting from the Bridgewater Mill we follow the Heysen Trail spur to Hahndorf. The trail takes us to the north of the Bridgewater and Verdun before passing Hans Heysen’s home “The Cedars”. We will get to Hahndorf around lunchtime\, where you can stay to enjoy a meal at any one of many eateries or stroll around the shops.
URL:https://heysentrail.asn.au/walking-the-heysen-trail/walk-the-trail-with-the-friends/walk-calendar/the-cedars-hahndorf-heysen-trail-spur/
CATEGORIES:Trail Starter
END:VEVENT
END:VCALENDAR